{"text_format":"3","workbook":"xlsx","n_sheets":12,"sheets":["AMM","tab_amm","TEC","tab_tec","tab_cuo","COLL","tab_coll","CUO","AZ_AGR","tab_az","GUA","tab_gua"],"not_rendered":{"images":2,"defined_names":6},"read":"whole","date_system":"1900"}

{"sheet":"AMM","index":0,"n_rows":232,"n_cols":38,"rows_kept":232,"merged":[[7,1,7,39],[8,1,8,2],[8,3,8,39],[9,1,9,2],[9,3,9,39],[10,1,10,2],[10,3,10,5],[10,6,10,7],[10,8,10,39],[11,1,11,2],[11,3,11,5],[11,6,11,7],[11,8,11,39],[12,1,12,39],[13,1,13,10],[13,11,13,39],[14,1,14,39],[15,1,15,24],[15,25,15,39],[16,1,16,39],[18,1,18,18],[18,19,26,19],[18,20,18,39],[19,1,19,18],[19,20,19,34],[20,1,20,9],[20,10,20,15],[20,16,20,18],[20,20,20,34],[21,1,22,9],[21,10,22,11],[21,12,22,13],[21,14,22,15],[21,16,22,18],[21,20,21,34],[22,20,22,34],[22,35,22,36],[22,37,22,39],[23,1,24,9],[23,10,24,11],[23,12,24,13],[23,14,24,15],[23,16,24,18],[23,20,23,34],[23,35,23,36],[23,37,23,39],[24,20,24,35],[25,1,25,18],[25,20,25,35],[26,1,26,15],[26,16,26,18],[26,20,26,36],[84,1,84,3],[84,4,84,6],[84,8,94,10],[84,11,84,13],[84,14,84,16],[84,17,84,19],[84,21,84,23],[84,28,94,30],[84,31,84,33],[84,34,84,36],[84,37,84,39],[85,1,85,3],[85,4,85,6],[85,11,85,13],[85,14,85,16],[85,17,85,19],[85,21,85,23],[86,14,86,16],[86,17,86,19],[86,21,86,23],[87,24,87,26],[87,31,87,33],[87,34,87,36],[87,37,87,39],[88,1,88,3],[88,4,88,6],[88,11,88,13],[88,14,88,16],[88,17,88,19],[88,21,88,23],[88,24,88,26],[88,31,88,33],[88,34,88,36],[88,37,88,39],[89,1,89,3],[89,4,89,6],[89,11,89,13],[89,14,89,16],[89,17,89,19],[89,21,89,23],[89,24,89,26],[89,31,89,33],[89,34,89,36],[89,37,89,39],[90,1,90,3],[90,4,90,6],[90,11,90,13],[90,14,90,16],[90,17,90,19],[90,21,90,23],[90,24,90,26],[90,31,90,33],[90,34,90,36],[90,37,90,39],[91,1,91,3],[91,4,91,6],[91,11,91,13],[91,14,91,16],[91,17,91,19],[91,21,91,23],[91,24,91,26],[91,31,91,33],[91,34,91,36],[91,37,91,39],[92,1,92,3],[92,4,92,6],[92,11,92,13],[92,14,92,16],[92,17,92,19],[92,21,92,23],[92,24,92,26],[92,31,92,33],[92,34,92,36],[92,37,92,39],[93,1,93,3],[93,4,93,6],[93,11,93,13],[93,14,93,16],[93,17,93,19],[93,21,93,23],[93,24,93,26],[93,31,93,33],[93,34,93,36],[93,37,93,39],[94,1,94,3],[94,4,94,6],[94,11,94,13],[94,14,94,16],[94,17,94,19],[94,21,94,23],[94,24,94,26],[94,31,94,33],[94,34,94,36],[94,37,94,39],[95,1,95,7],[95,11,95,12],[95,13,95,16],[95,17,97,19],[95,21,95,27],[95,28,95,30],[95,31,95,32],[95,33,95,36],[95,37,97,39],[96,1,96,7],[96,11,96,12],[96,13,96,16],[96,21,96,27],[96,28,96,30],[96,31,96,32],[96,33,96,36],[97,1,97,12],[97,13,97,16],[97,21,97,32],[97,33,97,36],[102,20,132,20],[102,21,102,39],[103,1,103,3],[103,4,103,6],[103,8,113,10],[103,11,103,13],[103,14,103,16],[103,17,103,19],[103,21,103,23],[103,24,103,26],[103,28,113,30],[104,14,104,16],[104,17,104,19],[104,21,104,23],[104,24,104,26],[104,31,104,33],[104,34,104,36],[104,37,104,39],[105,1,105,3],[105,4,105,6],[105,11,105,13],[105,14,105,16],[105,17,105,19],[105,21,105,23],[105,24,105,26],[105,31,105,33],[105,34,105,36],[105,37,105,39],[106,1,106,3],[106,4,106,6],[106,11,106,13],[106,14,106,16],[106,17,106,19],[106,21,106,23],[106,24,106,26],[106,31,106,33],[106,34,106,36],[106,37,106,39],[107,1,107,3],[107,4,107,6],[107,11,107,13],[107,14,107,16],[107,17,107,19],[107,21,107,23],[107,24,107,26],[107,31,107,33],[107,34,107,36],[107,37,107,39],[108,1,108,3],[108,4,108,6],[108,11,108,13],[108,31,108,33],[108,34,108,36],[108,37,108,39],[109,1,109,3],[109,4,109,6],[109,11,109,13],[109,14,109,16],[109,17,109,19],[109,21,109,23],[109,24,109,26],[109,31,109,33],[109,34,109,36],[109,37,109,39],[110,1,110,3],[110,4,110,6],[110,11,110,13],[110,14,110,16],[110,17,110,19],[110,21,110,23],[110,24,110,26],[110,31,110,33],[110,34,110,36],[110,37,110,39],[111,1,111,3],[111,4,111,6],[111,11,111,13],[111,14,111,16],[111,17,111,19],[111,21,111,23],[111,24,111,26],[111,31,111,33],[111,34,111,36],[111,37,111,39],[112,1,112,3],[112,4,112,6],[112,11,112,13],[112,14,112,16],[112,17,112,19],[112,21,112,23],[112,24,112,26],[112,31,112,33],[112,34,112,36],[112,37,112,39],[113,1,113,3],[113,4,113,6],[113,11,113,13],[113,14,113,16],[113,17,113,19],[113,21,113,23],[113,24,113,26],[113,31,113,33],[113,34,113,36],[113,37,113,39],[114,1,114,7],[114,11,114,12],[114,13,114,16],[114,17,116,19],[114,21,114,27],[114,31,114,32],[114,33,114,36],[114,37,116,39],[115,1,115,7],[115,11,115,12],[115,13,115,16],[115,21,115,27],[115,31,115,32],[115,33,115,36],[116,1,116,12],[116,13,116,16],[116,21,116,32],[116,33,116,36],[117,1,117,19],[117,21,117,39],[118,1,118,19],[118,21,118,39],[119,1,119,3],[119,4,119,6],[119,8,129,10],[119,11,119,13],[119,14,119,16],[119,17,119,19],[119,21,119,23],[119,24,119,26],[119,28,129,30],[119,31,119,33],[119,34,119,36],[119,37,119,39],[120,1,120,3],[120,4,120,6],[120,11,120,13],[120,14,120,16],[120,17,120,19],[120,21,120,23],[120,24,120,26],[120,31,120,33],[120,34,120,36],[120,37,120,39],[121,1,121,3],[121,4,121,6],[121,11,121,13],[121,14,121,16],[121,17,121,19],[121,21,121,23],[121,24,121,26],[121,31,121,33],[121,34,121,36],[121,37,121,39],[122,1,122,3],[122,4,122,6],[122,11,122,13],[122,14,122,16],[122,17,122,19],[122,21,122,23],[122,24,122,26],[122,31,122,33],[122,34,122,36],[122,37,122,39],[123,1,123,3],[123,4,123,6],[123,11,123,13],[123,14,123,16],[123,17,123,19],[123,21,123,23],[123,24,123,26],[123,31,123,33],[123,34,123,36],[123,37,123,39],[124,1,124,3],[124,4,124,6],[124,11,124,13],[124,14,124,16],[124,17,124,19],[124,21,124,23],[124,24,124,26],[124,31,124,33],[124,34,124,36],[124,37,124,39],[125,1,125,3],[125,4,125,6],[125,11,125,13],[125,14,125,16],[125,17,125,19],[125,21,125,23],[125,24,125,26],[125,31,125,33],[125,34,125,36],[125,37,125,39],[126,1,126,3],[126,4,126,6],[126,11,126,13],[126,14,126,16],[126,17,126,19],[126,21,126,23],[126,24,126,26],[126,31,126,33],[126,34,126,36],[126,37,126,39],[127,1,127,3],[127,4,127,6],[127,11,127,13],[127,14,127,16],[127,17,127,19],[127,21,127,23],[127,24,127,26],[127,31,127,33],[127,34,127,36],[127,37,127,39],[128,1,128,3],[128,4,128,6],[128,11,128,13],[128,14,128,16],[128,17,128,19],[128,21,128,23],[128,24,128,26],[128,31,128,33],[128,34,128,36],[128,37,128,39],[129,1,129,3],[129,4,129,6],[129,11,129,13],[129,14,129,16],[129,17,129,19],[129,21,129,23],[129,24,129,26],[129,31,129,33],[129,34,129,36],[129,37,129,39],[130,1,130,7],[130,11,130,12],[130,13,130,16],[130,17,132,19],[130,21,130,27],[130,31,130,32],[130,33,130,36],[130,37,132,39],[131,1,131,7],[131,11,131,12],[131,13,131,16],[131,21,131,27],[131,31,131,32],[131,33,131,36],[132,1,132,12],[132,13,132,16],[132,21,132,32],[132,33,132,36],[133,1,133,39],[134,1,134,39],[135,1,135,39],[136,1,136,39],[137,1,137,19],[137,20,167,20],[137,21,137,39],[138,1,138,3],[138,4,138,6],[138,8,148,10],[138,11,138,13],[138,14,138,16],[138,17,138,19],[138,21,138,23],[138,24,138,26],[138,28,148,30],[138,31,138,33],[138,34,138,36],[138,37,138,39],[139,1,139,3],[139,4,139,6],[139,11,139,13],[139,14,139,16],[139,17,139,19],[139,21,139,23],[139,24,139,26],[139,31,139,33],[139,34,139,36],[139,37,139,39],[140,1,140,3],[140,4,140,6],[140,11,140,13],[140,14,140,16],[140,17,140,19],[140,21,140,23],[140,24,140,26],[140,31,140,33],[140,34,140,36],[140,37,140,39],[141,1,141,3],[141,4,141,6],[141,11,141,13],[141,14,141,16],[141,17,141,19],[141,21,141,23],[141,24,141,26],[141,31,141,33],[141,34,141,36],[141,37,141,39],[142,1,142,3],[142,4,142,6],[142,11,142,13],[142,14,142,16],[142,17,142,19],[142,21,142,23],[142,24,142,26],[142,31,142,33],[142,34,142,36],[142,37,142,39],[143,1,143,3],[143,4,143,6],[143,11,143,13],[143,14,143,16],[143,17,143,19],[143,21,143,23],[143,24,143,26],[143,31,143,33],[143,34,143,36],[143,37,143,39],[144,1,144,3],[144,4,144,6],[144,11,144,13],[144,14,144,16],[144,17,144,19],[144,21,144,23],[144,24,144,26],[144,31,144,33],[144,34,144,36],[144,37,144,39],[145,1,145,3],[145,4,145,6],[145,11,145,13],[145,14,145,16],[145,17,145,19],[145,21,145,23],[145,24,145,26],[145,31,145,33],[145,34,145,36],[145,37,145,39],[146,1,146,3],[146,4,146,6],[146,11,146,13],[146,14,146,16],[146,17,146,19],[146,21,146,23],[146,24,146,26],[146,31,146,33],[146,34,146,36],[146,37,146,39],[147,1,147,3],[147,4,147,6],[147,11,147,13],[147,14,147,16],[147,17,147,19],[147,21,147,23],[147,24,147,26],[147,31,147,33],[147,34,147,36],[147,37,147,39],[148,1,148,3],[148,4,148,6],[148,11,148,13],[148,14,148,16],[148,17,148,19],[148,21,148,23],[148,24,148,26],[148,31,148,33],[148,34,148,36],[148,37,148,39],[149,1,149,7],[149,11,149,12],[149,13,149,16],[149,17,151,19],[149,21,149,27],[149,31,149,32],[149,33,149,36],[149,37,151,39],[150,1,150,7],[150,11,150,12],[150,13,150,16],[150,21,150,27],[150,31,150,32],[150,33,150,36],[151,1,151,12],[151,13,151,16],[151,21,151,32],[151,33,151,36],[152,1,152,19],[152,21,152,39],[153,1,153,19],[153,21,153,39],[154,1,154,3],[154,4,154,6],[154,8,164,10],[154,11,154,13],[154,14,154,16],[154,17,154,19],[154,21,154,23],[154,24,154,26],[154,28,164,30],[154,31,154,33],[154,34,154,36],[154,37,154,39],[155,1,155,3],[155,4,155,6],[155,11,155,13],[155,14,155,16],[155,17,155,19],[155,21,155,23],[155,24,155,26],[155,31,155,33],[155,34,155,36],[155,37,155,39],[156,1,156,3],[156,4,156,6],[156,11,156,13],[156,14,156,16],[156,17,156,19],[156,21,156,23],[156,24,156,26],[156,31,156,33],[156,34,156,36],[156,37,156,39],[157,1,157,3],[157,4,157,6],[157,11,157,13],[157,14,157,16],[157,17,157,19],[157,21,157,23],[157,24,157,26],[157,31,157,33],[157,34,157,36],[157,37,157,39],[158,1,158,3],[158,4,158,6],[158,11,158,13],[158,14,158,16],[158,17,158,19],[158,21,158,23],[158,24,158,26],[158,31,158,33],[158,34,158,36],[158,37,158,39],[159,1,159,3],[159,4,159,6],[159,11,159,13],[159,14,159,16],[159,17,159,19],[159,21,159,23],[159,24,159,26],[159,31,159,33],[159,34,159,36],[159,37,159,39],[160,1,160,3],[160,4,160,6],[160,11,160,13],[160,14,160,16],[160,17,160,19],[160,21,160,23],[160,24,160,26],[160,31,160,33],[160,34,160,36],[160,37,160,39],[161,1,161,3],[161,4,161,6],[161,11,161,13],[161,14,161,16],[161,17,161,19],[161,21,161,23],[161,24,161,26],[161,31,161,33],[161,34,161,36],[161,37,161,39],[162,1,162,3],[162,4,162,6],[162,11,162,13],[162,14,162,16],[162,17,162,19],[162,21,162,23],[162,24,162,26],[162,31,162,33],[162,34,162,36],[162,37,162,39],[163,1,163,3],[163,4,163,6],[163,11,163,13],[163,14,163,16],[163,17,163,19],[163,21,163,23],[163,24,163,26],[163,31,163,33],[163,34,163,36],[163,37,163,39],[164,1,164,3],[164,4,164,6],[164,11,164,13],[164,14,164,16],[164,17,164,19],[164,21,164,23],[164,24,164,26],[164,31,164,33],[164,34,164,36],[164,37,164,39],[165,1,165,7],[165,11,165,12],[165,13,165,16],[165,17,167,19],[165,21,165,27],[165,31,165,32],[165,33,165,36],[165,37,167,39],[166,1,166,7],[166,11,166,12],[166,13,166,16],[166,21,166,27],[166,31,166,32],[166,33,166,36],[167,1,167,12],[167,13,167,16],[167,21,167,32],[167,33,167,36],[168,1,168,39],[169,1,169,39],[170,1,170,39],[171,1,171,39],[172,1,172,19],[172,20,202,20],[172,21,172,39],[173,1,173,3],[173,4,173,6],[173,8,183,10],[173,11,173,13],[173,14,173,16],[173,17,173,19],[173,21,173,23],[173,24,173,26],[173,28,183,30],[173,31,173,33],[173,34,173,36],[173,37,173,39],[174,1,174,3],[174,4,174,6],[174,11,174,13],[174,14,174,16],[174,17,174,19],[174,21,174,23],[174,24,174,26],[174,31,174,33],[174,34,174,36],[174,37,174,39],[175,1,175,3],[175,4,175,6],[175,11,175,13],[175,14,175,16],[175,17,175,19],[175,21,175,23],[175,24,175,26],[175,31,175,33],[175,34,175,36],[175,37,175,39],[176,1,176,3],[176,4,176,6],[176,11,176,13],[176,14,176,16],[176,17,176,19],[176,21,176,23],[176,24,176,26],[176,31,176,33],[176,34,176,36],[176,37,176,39],[177,1,177,3],[177,4,177,6],[177,11,177,13],[177,14,177,16],[177,17,177,19],[177,21,177,23],[177,24,177,26],[177,31,177,33],[177,34,177,36],[177,37,177,39],[178,1,178,3],[178,4,178,6],[178,11,178,13],[178,14,178,16],[178,17,178,19],[178,21,178,23],[178,24,178,26],[178,31,178,33],[178,34,178,36],[178,37,178,39],[179,1,179,3],[179,4,179,6],[179,11,179,13],[179,14,179,16],[179,17,179,19],[179,21,179,23],[179,24,179,26],[179,31,179,33],[179,34,179,36],[179,37,179,39],[180,1,180,3],[180,4,180,6],[180,11,180,13],[180,14,180,16],[180,17,180,19],[180,21,180,23],[180,24,180,26],[180,31,180,33],[180,34,180,36],[180,37,180,39],[181,1,181,3],[181,4,181,6],[181,11,181,13],[181,14,181,16],[181,17,181,19],[181,21,181,23],[181,24,181,26],[181,31,181,33],[181,34,181,36],[181,37,181,39],[182,1,182,3],[182,4,182,6],[182,11,182,13],[182,14,182,16],[182,17,182,19],[182,21,182,23],[182,24,182,26],[182,31,182,33],[182,34,182,36],[182,37,182,39],[183,1,183,3],[183,4,183,6],[183,11,183,13],[183,14,183,16],[183,17,183,19],[183,21,183,23],[183,24,183,26],[183,31,183,33],[183,34,183,36],[183,37,183,39],[184,1,184,7],[184,8,184,10],[184,11,184,12],[184,13,184,16],[184,17,186,19],[184,21,184,27],[184,28,184,30],[184,31,184,32],[184,33,184,36],[184,37,186,39],[185,1,185,7],[185,8,185,10],[185,11,185,12],[185,13,185,16],[185,21,185,27],[185,28,185,30],[185,31,185,32],[185,33,185,36],[186,1,186,12],[186,13,186,16],[186,21,186,32],[186,33,186,36],[187,1,187,19],[187,21,187,39],[188,1,188,19],[188,21,188,39],[189,1,189,3],[189,4,189,6],[189,8,199,10],[189,11,189,13],[189,14,189,16],[189,17,189,19],[189,21,189,23],[189,24,189,26],[189,28,199,30],[189,31,189,33],[189,34,189,36],[189,37,189,39],[190,1,190,3],[190,4,190,6],[190,11,190,13],[190,14,190,16],[190,17,190,19],[190,21,190,23],[190,24,190,26],[190,31,190,33],[190,34,190,36],[190,37,190,39],[191,1,191,3],[191,4,191,6],[191,11,191,13],[191,14,191,16],[191,17,191,19],[191,21,191,23],[191,24,191,26],[191,31,191,33],[191,34,191,36],[191,37,191,39],[192,1,192,3],[192,4,192,6],[192,11,192,13],[192,14,192,16],[192,17,192,19],[192,21,192,23],[192,24,192,26],[192,31,192,33],[192,34,192,36],[192,37,192,39],[193,1,193,3],[193,4,193,6],[193,11,193,13],[193,14,193,16],[193,17,193,19],[193,21,193,23],[193,24,193,26],[193,31,193,33],[193,34,193,36],[193,37,193,39],[194,1,194,3],[194,4,194,6],[194,11,194,13],[194,14,194,16],[194,17,194,19],[194,21,194,23],[194,24,194,26],[194,31,194,33],[194,34,194,36],[194,37,194,39],[195,1,195,3],[195,4,195,6],[195,11,195,13],[195,14,195,16],[195,17,195,19],[195,21,195,23],[195,24,195,26],[195,31,195,33],[195,34,195,36],[195,37,195,39],[196,1,196,3],[196,4,196,6],[196,11,196,13],[196,14,196,16],[196,17,196,19],[196,21,196,23],[196,24,196,26],[196,31,196,33],[196,34,196,36],[196,37,196,39],[197,1,197,3],[197,4,197,6],[197,11,197,13],[197,14,197,16],[197,17,197,19],[197,21,197,23],[197,24,197,26],[197,31,197,33],[197,34,197,36],[197,37,197,39],[198,1,198,3],[198,4,198,6],[198,11,198,13],[198,14,198,16],[198,17,198,19],[198,21,198,23],[198,24,198,26],[198,31,198,33],[198,34,198,36],[198,37,198,39],[199,1,199,3],[199,4,199,6],[199,11,199,13],[199,14,199,16],[199,17,199,19],[199,21,199,23],[199,24,199,26],[199,31,199,33],[199,34,199,36],[199,37,199,39],[200,1,200,7],[200,8,200,10],[200,11,200,12],[200,13,200,16],[200,17,202,19],[200,21,200,27],[200,28,200,30],[200,31,200,32],[200,33,200,36],[200,37,202,39],[201,1,201,7],[201,8,201,10],[201,11,201,12],[201,13,201,16],[201,21,201,27],[201,28,201,30],[201,31,201,32],[201,33,201,36],[202,1,202,12],[202,13,202,16],[202,21,202,32],[202,33,202,36],[203,1,203,39],[204,0,204,40],[205,0,209,40],[212,0,212,40],[214,3,214,11],[214,12,214,37],[216,9,216,28],[217,9,217,25],[217,26,217,28],[218,9,218,28],[219,9,219,25],[219,26,219,28],[220,9,220,28],[221,9,221,25],[221,26,221,28],[222,9,222,25],[222,26,222,28],[223,9,223,25],[223,26,223,28],[224,9,224,25],[224,26,224,28],[225,9,225,25],[225,26,225,28],[226,9,226,25],[226,26,226,28],[227,9,227,28],[228,9,229,25],[228,26,229,28]],"merged_total":1488,"flags":["merged_cut"]}
[]
[]
[]
[]
[]
[]
[null,"CALCOLO PUNTEGGIO GRADUATORIE DI ISTITUTO - ASSISTENTE AMMINISTRATIVO"]
[]
[null,"Nota 1: ",null,"In caso di periodi coincidenti (es servizi parte time) è necessario inserirne solo uno"]
[null,"Nota 2: ",null,"Nel servizio svolto inserire la data nel formato giorno/mese/anno oppure giorno-mese-anno"]
[null,"Nota 3: ",null,"Caselle ",{"$nulls":4}," inserimento valori con menu a tendina"]
[null,"Nota 4: ",null,"Caselle ",{"$nulls":4}," inserimento valori da tastiera"]
[]
[null,"Cognome e Nome"]
[]
[null,"Punteggio totale assegnato nel triennio precedente"]
[]
[null,"TITOLI  DI CULTURA DOPO L'ULTIMO AGGIORNAMENTO/INSERIMENTO"]
[null,"TITOLO DI ACCESSO",{"$nulls":18},"TITOLI  DI CULTURA CONSEGUITI  "]
[null,"(da compilare solo per variazione titolo di accesso)",{"$nulls":18},"Tipologia titoli posseduti",{"$nulls":14},"Si/No",null,"punti"]
[null,"Tipologia",{"$nulls":8},"voto / giudizio ",{"$nulls":5},"punti",{"$nulls":3},"Diploma di Laurea",{"$nulls":16},{"$f":"IF(AJ21=\"SI\",2,0)","v":{"v":0,"d":"0.00"}}]
[null,"Diploma precedentemente inserito",{"$nulls":10},"su",{"$nulls":3},{"$f":"IF(K22=0,0, K22*10/O22)","v":{"v":0,"d":"0.00"}},{"$nulls":3},"Attestato di qualifica prof. art. 14 legge 875/1978",{"$nulls":16},{"$f":"IF(AJ22=\"SI\",1.5,0)","v":{"v":0,"d":"0.00"}}]
[{"$nulls":20},"Attestato di add. prof. dattilografia o servizi mecc.",{"$nulls":16},{"$f":"IF(AJ23=\"SI\",1,0)","v":{"v":0,"d":"0.00"}}]
[null,"Nuovo diploma conseguito",{"$nulls":10},"su",{"$nulls":3},{"$f":"IF(K24=0,0, K24*10/O24)","v":{"v":0,"d":"0.00"}},{"$nulls":3},"Idoneità conc. pubb. nelle carriere di concetto ed e.",{"$nulls":16},{"$f":"IF(AJ24=\"SI\",1,0)","v":{"v":0,"d":"0.00"}}]
[{"$nulls":20},"Scegli certificazione precedentemente conseguita",{"$nulls":16},{"$f":"VLOOKUP(U25,tab_amm!A4:B29,2,FALSE)","v":{"v":0,"d":"0.00"}}]
[{"$nulls":20},"Scegli nuova certificazione conseguita",{"$nulls":16},{"$f":"VLOOKUP(U26,tab_amm!A31:B56,2,FALSE)","v":{"v":0,"d":"0.00"}}]
[null,"Punteggio aggiuntivo titolo di accesso",{"$nulls":14},{"$f":"Q24-Q22","v":{"v":0,"d":"0.00"}},{"$nulls":3},"Totale titoli di cultura aggiuntivi",{"$nulls":16},{"$f":"AL21+AL22+AL23+AL24+AL26-AL25","v":{"v":0,"d":"0.00"}}]
[null,"SERVIZIO SVOLTO SUCCESSIVAMENTE ALLA DATA DEL 30/10/2017"]
[]
[null,"Servizio specifico statale (per ogni mese o frazione superiore a 15 giorni): 0,50"]
[null,"Servizio prestato in qualità di responsabile amministrativo o assistente amministrativo in:\na) scuole dell'infanzia statali, delle Regioni Sicilia e Val d'Aosta, delle province autonome di Trento e Bolzano;\nb) Scuole primarie statali;\nc) Scuole di istruzione secondaria o artistica statali, nelle istituzioni scolastiche e culturali italiane all'estero, nelle istituzioni convittuali"]
[]
[null,"Servizio svolto nell' a.s. 2017/2018",{"$nulls":19},"Servizio svolto nell' a.s. 2018/2019"]
[null,"DAL",null,null,"AL",null,null,"TOT GG",{"$nulls":3},"DAL",null,null,"AL",null,null,"TOT GG",{"$nulls":3},"DAL",null,null,"AL",null,null,"TOT GG",{"$nulls":3},"DAL",null,null,"AL",null,null,"TOT GG"]
[{"$nulls":7},{"$f":"IF(B35=0,0,DAYS360(B35,E35+1))","v":0},{"$nulls":9},{"$f":"IF(I35=0,0,DAYS360(I35,L35+1))","v":0},{"$nulls":9},{"$f":"IF(V35=0,0,DAYS360(V35,Y35+1))","v":0},{"$nulls":9},{"$f":"IF(AC35=0,0,DAYS360(AC35,AF35+1))","v":0}]
[{"$nulls":7},{"$f":"IF(B36=0,0,DAYS360(B36,E36+1))","v":0},{"$nulls":9},0,{"$nulls":9},{"$f":"IF(V36=0,0,DAYS360(V36,Y36+1))","v":0},{"$nulls":9},0]
[{"$nulls":7},0,{"$nulls":9},0,{"$nulls":9},0,{"$nulls":9},0]
[{"$nulls":7},0,{"$nulls":9},0,{"$nulls":9},0,{"$nulls":9},0]
[{"$nulls":7},0,{"$nulls":9},0,{"$nulls":9},0,{"$nulls":9},0]
[{"$nulls":7},0,{"$nulls":9},0,{"$nulls":9},0,{"$nulls":9},0]
[{"$nulls":7},0,{"$nulls":9},0,{"$nulls":9},0,{"$nulls":9},0]
[{"$nulls":7},0,{"$nulls":9},0,{"$nulls":9},0,{"$nulls":9},0]
[{"$nulls":7},0,{"$nulls":9},0,{"$nulls":9},0,{"$nulls":9},0]
[{"$nulls":7},0,{"$nulls":9},0,{"$nulls":9},0,{"$nulls":9},0]
[null,"Totale mesi 2017/2018",{"$nulls":6},{"$f":"INT(SUM(H35:H44,R35:T44,AL35:AN44)/30)","v":0},null,null,"punti",null,{"$f":"I45*0.5","v":{"v":0,"d":"0.00"}},{"$nulls":7},"Totale mesi 2018/2019",{"$nulls":6},{"$f":"INT(SUM(AB35:AB44,AL35:AN44,BF35:BH44)/30)","v":0},null,null,"punti",null,{"$f":"AC45*0.5","v":{"v":0,"d":"0.00"}}]
[null,"Totale giorni 2017/2018",{"$nulls":6},{"$f":"SUM(H35:H44,R35:T44,)-I45*30","v":0},null,null,"punti",null,{"$f":"IF(I46>15,0.5,0)","v":{"v":0,"d":"0.00"}},{"$nulls":7},"Totale giorni 2018/2019",{"$nulls":6},{"$f":"SUM(AB35:AB44,AL35:AN44,)-AC45*30","v":0},null,null,"punti",null,{"$f":"IF(AC46>15,0.5,0)","v":{"v":0,"d":"0.00"}}]
[null,"Totale titoli di servizio a.s. 2017/2018",{"$nulls":11},{"$f":"SUM(N45:O46)","v":{"v":0,"d":"0.00"}},{"$nulls":7},"Totale titoli di servizio a.s. 2018/2019",{"$nulls":11},{"$f":"SUM(AH45:AI46)","v":{"v":0,"d":"0.00"}}]
[]
[null,"Servizio svolto nell' a.s. 2019/2020",{"$nulls":19},"Servizio svolto nell' a.s. 2020/2021"]
[null,"DAL",null,null,"AL",null,null,"TOT GG",{"$nulls":3},"DAL",null,null,"AL",null,null,"TOT GG",{"$nulls":3},"DAL",null,null,"AL",null,null,"TOT GG",{"$nulls":3},"DAL",null,null,"AL",null,null,"TOT GG"]
[{"$nulls":7},{"$f":"IF(B51=0,0,DAYS360(B51,E51+1))","v":0},{"$nulls":9},{"$f":"IF(I51=0,0,DAYS360(I51,L51+1))","v":0},{"$nulls":9},{"$f":"IF(V51=0,0,DAYS360(V51,Y51+1))","v":0},{"$nulls":9},{"$f":"IF(AC51=0,0,DAYS360(AC51,AF51+1))","v":0}]
[{"$nulls":7},{"$f":"IF(B52=0,0,DAYS360(B52,E52+1))","v":0},{"$nulls":9},0,{"$nulls":9},{"$f":"IF(V52=0,0,DAYS360(V52,Y52+1))","v":0},{"$nulls":9},0]
[{"$nulls":7},0,{"$nulls":9},0,{"$nulls":9},0,{"$nulls":9},0]
[{"$nulls":7},0,{"$nulls":9},0,{"$nulls":9},0,{"$nulls":9},0]
[{"$nulls":7},0,{"$nulls":9},0,{"$nulls":9},0,{"$nulls":9},0]
[{"$nulls":7},0,{"$nulls":9},0,{"$nulls":9},0,{"$nulls":9},0]
[{"$nulls":7},0,{"$nulls":9},0,{"$nulls":9},0,{"$nulls":9},0]
[{"$nulls":7},0,{"$nulls":9},0,{"$nulls":9},0,{"$nulls":9},0]
[{"$nulls":7},0,{"$nulls":9},0,{"$nulls":9},0,{"$nulls":9},0]
[{"$nulls":7},0,{"$nulls":9},0,{"$nulls":9},0,{"$nulls":9},0]
[null,"Totale mesi 2019/2020",{"$nulls":6},{"$f":"INT(SUM(H51:H60,R51:T60,AL51:AN60)/30)","v":0},null,null,"punti",null,{"$f":"I61*0.5","v":{"v":0,"d":"0.00"}},{"$nulls":7},"Totale mesi 2020/2021",{"$nulls":6},{"$f":"INT(SUM(AB51:AB60,AL51:AN60,)/30)","v":0},null,null,"punti",null,{"$f":"AC61*0.5","v":{"v":0,"d":"0.00"}}]
[null,"Totale giorni 2019/2020",{"$nulls":6},{"$f":"SUM(H51:H60,R51:T60,)-I61*30","v":0},null,null,"punti",null,{"$f":"IF(I62>15,0.5,0)","v":{"v":0,"d":"0.00"}},{"$nulls":7},"Totale giorni 2020/2021",{"$nulls":6},{"$f":"SUM(AB51:AB60,AL51:AN60)-AC61*30","v":0},null,null,"punti",null,{"$f":"IF(AC62>15,0.5,0)","v":{"v":0,"d":"0.00"}}]
[null,"Totale titoli di servizio a.s. 2019/2020",{"$nulls":11},{"$f":"SUM(N61:O62)","v":{"v":0,"d":"0.00"}},{"$nulls":7},"Totale titoli di servizio a.s. 2020/2021",{"$nulls":11},{"$f":"SUM(AH61:AI62)","v":{"v":0,"d":"0.00"}}]
[]
[null,"Servizio non statale (per ogni mese o frazione superiore a 15 giorni): 0,25"]
[null,"Servizio prestato in qualità di responsabile amministrativo o assistente amministrativo in:\na) scuole dell'infanzia non statali autorizzate;\nb) scuole primarie non statali parificate, sussidiate o sussidiarie;\nc) scuole di istruzione secondaria o artistica non statali pareggiate, legalmente riconosciute e convenzionate;\nd) scuole non statali paritarie"]
[]
[null,"Servizio svolto nell' a.s. 2017/2018",{"$nulls":19},"Servizio svolto nell' a.s. 2018/2019"]
[null,"DAL",null,null,"AL",null,null,"TOT GG",{"$nulls":3},"DAL",null,null,"AL",null,null,"TOT GG",{"$nulls":3},"DAL",null,null,"AL",null,null,"TOT GG",{"$nulls":3},"DAL",null,null,"AL",null,null,"TOT GG"]
[{"$nulls":7},{"$f":"IF(B70=0,0,DAYS360(B70,E70+1))","v":0},{"$nulls":9},{"$f":"IF(I70=0,0,DAYS360(I70,L70+1))","v":0},{"$nulls":9},{"$f":"IF(V70=0,0,DAYS360(V70,Y70+1))","v":0},{"$nulls":9},{"$f":"IF(AC70=0,0,DAYS360(AC70,AF70+1))","v":0}]
[{"$nulls":7},{"$f":"IF(B71=0,0,DAYS360(B71,E71+1))","v":0},{"$nulls":9},0,{"$nulls":9},{"$f":"IF(V71=0,0,DAYS360(V71,Y71+1))","v":0},{"$nulls":9},0]
[{"$nulls":7},0,{"$nulls":9},0,{"$nulls":9},0,{"$nulls":9},0]
[{"$nulls":7},0,{"$nulls":9},0,{"$nulls":9},0,{"$nulls":9},0]
[{"$nulls":7},0,{"$nulls":9},0,{"$nulls":9},0,{"$nulls":9},0]
[{"$nulls":7},0,{"$nulls":9},0,{"$nulls":9},0,{"$nulls":9},0]
[{"$nulls":7},0,{"$nulls":9},0,{"$nulls":9},0,{"$nulls":9},0]
[{"$nulls":7},0,{"$nulls":9},0,{"$nulls":9},0,{"$nulls":9},0]
[{"$nulls":7},0,{"$nulls":9},0,{"$nulls":9},0,{"$nulls":9},0]
[{"$nulls":7},0,{"$nulls":9},0,{"$nulls":9},0,{"$nulls":9},0]
[null,"Totale mesi 2017/2018",{"$nulls":6},{"$f":"INT(SUM(H70:H79,R70:T79,AL70:AN79)/30)","v":0},null,null,"punti",null,{"$f":"I80*0.25","v":{"v":0,"d":"0.00"}},{"$nulls":7},"Totale mesi 2018/2019",{"$nulls":6},{"$f":"INT(SUM(AB70:AB79,AL70:AN79,)/30)","v":0},null,null,"punti",null,{"$f":"AC80*0.25","v":{"v":0,"d":"0.00"}}]
[null,"Totale giorni 2017/2018",{"$nulls":6},{"$f":"SUM(H70:H79,R70:T79,)-I80*30","v":0},null,null,"punti",null,{"$f":"IF(I81>15,0.25,0)","v":{"v":0,"d":"0.00"}},{"$nulls":7},"Totale giorni 2018/2019",{"$nulls":6},{"$f":"SUM(AB70:AB79,AL70:AN79)-AC80*30","v":0},null,null,"punti",null,{"$f":"IF(AC81>15,0.25,0)","v":{"v":0,"d":"0.00"}}]
[null,"Totale titoli di servizio a.s. 2017/2018",{"$nulls":11},{"$f":"SUM(N80:O81)","v":{"v":0,"d":"0.00"}},{"$nulls":7},"Totale titoli di servizio a.s. 2018/2019",{"$nulls":11},{"$f":"SUM(AH80:AI81)","v":{"v":0,"d":"0.00"}}]
[]
[null,"Servizio svolto nell' a.s. 2019/2020",{"$nulls":19},"Servizio svolto nell' a.s. 2020/2021"]
[null,"DAL",null,null,"AL",null,null,"TOT GG",{"$nulls":3},"DAL",null,null,"AL",null,null,"TOT GG",{"$nulls":3},"DAL",null,null,"AL",null,null,"TOT GG",{"$nulls":3},"DAL",null,null,"AL",null,null,"TOT GG"]
[{"$nulls":7},{"$f":"IF(B86=0,0,DAYS360(B86,E86+1))","v":0},{"$nulls":9},{"$f":"IF(I86=0,0,DAYS360(I86,L86+1))","v":0},{"$nulls":9},{"$f":"IF(V86=0,0,DAYS360(V86,Y86+1))","v":0},{"$nulls":9},{"$f":"IF(AC86=0,0,DAYS360(AC86,AF86+1))","v":0}]
[{"$nulls":7},{"$f":"IF(B87=0,0,DAYS360(B87,E87+1))","v":0},{"$nulls":9},0,{"$nulls":9},{"$f":"IF(V87=0,0,DAYS360(V87,Y87+1))","v":0},{"$nulls":9},0]
[{"$nulls":7},0,{"$nulls":9},0,{"$nulls":9},0,{"$nulls":9},0]
[{"$nulls":7},0,{"$nulls":9},0,{"$nulls":9},0,{"$nulls":9},0]
[{"$nulls":7},0,{"$nulls":9},0,{"$nulls":9},0,{"$nulls":9},0]
[{"$nulls":7},0,{"$nulls":9},0,{"$nulls":9},0,{"$nulls":9},0]
[{"$nulls":7},0,{"$nulls":9},0,{"$nulls":9},0,{"$nulls":9},0]
[{"$nulls":7},0,{"$nulls":9},0,{"$nulls":9},0,{"$nulls":9},0]
[{"$nulls":7},0,{"$nulls":9},0,{"$nulls":9},0,{"$nulls":9},0]
[{"$nulls":7},0,{"$nulls":9},0,{"$nulls":9},0,{"$nulls":9},0]
[null,"Totale mesi 2019/2020",{"$nulls":6},{"$f":"INT(SUM(H86:H95,R86:T95,)/30)","v":0},null,null,"punti",null,{"$f":"I96*0.25","v":{"v":0,"d":"0.00"}},{"$nulls":7},"Totale mesi 2020/2021",{"$nulls":6},{"$f":"INT(SUM(AB86:AB95,AL86:AN95,)/30)","v":0},null,null,"punti",null,{"$f":"AC96*0.25","v":{"v":0,"d":"0.00"}}]
[null,"Totale giorni 2019/2020",{"$nulls":6},{"$f":"SUM(H86:H95,R86:T95)-I96*30","v":0},null,null,"punti",null,{"$f":"IF(I97>15,0.25,0)","v":{"v":0,"d":"0.00"}},{"$nulls":7},"Totale giorni 2020/2021",{"$nulls":6},{"$f":"SUM(AB86:AB95,AL86:AN95)-AC96*30","v":0},null,null,"punti",null,{"$f":"IF(AC97>15,0.25,0)","v":{"v":0,"d":"0.00"}}]
[null,"Totale titoli di servizio a.s. 2019/2020",{"$nulls":11},{"$f":"SUM(N96:O97)","v":{"v":0,"d":"0.00"}},{"$nulls":7},"Totale titoli di servizio a.s. 2020/2021",{"$nulls":11},{"$f":"SUM(AH96:AI97)","v":{"v":0,"d":"0.00"}}]
[]
[null,"Altro servizio statale (per ogni mese o frazione superiore a 15 giorni): 0,10"]
[null,"Altro servizio, ivi compreso il servizio di insegnamento nei corsi C.R.A.C.I.S. e il servizio prestato con rapporto di lavoro costituito con enti locali, servizio prestato come modello vivente, in una qualsiasi delle scuole seguenti:\na) scuole dell'infanzia statali, delle Regioni Sicilia e Val d'Aosta, delle province autonome di Trento e Bolzano;\nb) Scuole primarie statali;\nc) Scuole di istruzione secondaria o artistica statali, nelle istituzioni scolastiche e culturali italiane all'estero, nelle istituzioni convittuali"]
[]
[null,"Servizio svolto nell' a.s. 2017/2018",{"$nulls":19},"Servizio svolto nell' a.s. 2018/2019"]
[null,"DAL",null,null,"AL",null,null,"TOT GG",{"$nulls":3},"DAL",null,null,"AL",null,null,"TOT GG",{"$nulls":3},"DAL",null,null,"AL",null,null,"TOT GG",{"$nulls":3},"DAL",null,null,"AL",null,null,"TOT GG"]
[{"$nulls":7},{"$f":"IF(B105=0,0,DAYS360(B105,E105+1))","v":0},{"$nulls":9},{"$f":"IF(I105=0,0,DAYS360(I105,L105+1))","v":0},{"$nulls":9},{"$f":"IF(V105=0,0,DAYS360(V105,Y105+1))","v":0},{"$nulls":9},{"$f":"IF(AC105=0,0,DAYS360(AC105,AF105+1))","v":0}]
[{"$nulls":7},{"$f":"IF(B106=0,0,DAYS360(B106,E106+1))","v":0},{"$nulls":9},0,{"$nulls":9},{"$f":"IF(V106=0,0,DAYS360(V106,Y106+1))","v":0},{"$nulls":9},0]
[{"$nulls":7},0,{"$nulls":9},0,{"$nulls":9},0,{"$nulls":9},0]
[{"$nulls":7},0,{"$nulls":9},0,{"$nulls":9},0,{"$nulls":9},0]
[{"$nulls":7},0,{"$nulls":9},0,{"$nulls":9},0,{"$nulls":9},0]
[{"$nulls":7},0,{"$nulls":9},0,{"$nulls":9},0,{"$nulls":9},0]
[{"$nulls":7},0,{"$nulls":9},0,{"$nulls":9},0,{"$nulls":9},0]
[{"$nulls":7},0,{"$nulls":9},0,{"$nulls":9},0,{"$nulls":9},0]
[{"$nulls":7},0,{"$nulls":9},0,{"$nulls":9},0,{"$nulls":9},0]
[{"$nulls":7},0,{"$nulls":9},0,{"$nulls":9},0,{"$nulls":9},0]
[null,"Totale mesi 2017/2018",{"$nulls":6},{"$f":"INT(SUM(H105:H114,R105:T114,AL105:AN114)/30)","v":0},null,null,"punti",null,{"$f":"I115*0.1","v":{"v":0,"d":"0.00"}},{"$nulls":7},"Totale mesi 2018/2019",{"$nulls":6},{"$f":"INT(SUM(AB105:AB114,AL105:AN114,)/30)","v":0},null,null,"punti",null,{"$f":"AC115*0.1","v":{"v":0,"d":"0.00"}}]
[null,"Totale giorni 2017/2018",{"$nulls":6},{"$f":"SUM(H105:H114,R105:T114,)-I115*30","v":0},null,null,"punti",null,{"$f":"IF(I116>15,0.1,0)","v":{"v":0,"d":"0.00"}},{"$nulls":7},"Totale giorni 2018/2019",{"$nulls":6},{"$f":"SUM(AB105:AB114,AL105:AN114)-AC115*30","v":0},null,null,"punti",null,{"$f":"IF(AC116>15,0.1,0)","v":{"v":0,"d":"0.00"}}]
[null,"Totale titoli di servizio a.s. 2017/2018",{"$nulls":11},{"$f":"SUM(N115:O116)","v":{"v":0,"d":"0.00"}},{"$nulls":7},"Totale titoli di servizio a.s. 2018/2019",{"$nulls":11},{"$f":"SUM(AH115:AI116)","v":{"v":0,"d":"0.00"}}]
[]
[null,"Servizio svolto nell' a.s. 2019/2020",{"$nulls":19},"Servizio svolto nell' a.s. 2020/2021"]
[null,"DAL",null,null,"AL",null,null,"TOT GG",{"$nulls":3},"DAL",null,null,"AL",null,null,"TOT GG",{"$nulls":3},"DAL",null,null,"AL",null,null,"TOT GG",{"$nulls":3},"DAL",null,null,"AL",null,null,"TOT GG"]
[{"$nulls":7},{"$f":"IF(B121=0,0,DAYS360(B121,E121+1))","v":0},{"$nulls":9},{"$f":"IF(I121=0,0,DAYS360(I121,L121+1))","v":0},{"$nulls":9},{"$f":"IF(V121=0,0,DAYS360(V121,Y121+1))","v":0},{"$nulls":9},{"$f":"IF(AC121=0,0,DAYS360(AC121,AF121+1))","v":0}]
[{"$nulls":7},{"$f":"IF(B122=0,0,DAYS360(B122,E122+1))","v":0},{"$nulls":9},0,{"$nulls":9},{"$f":"IF(V122=0,0,DAYS360(V122,Y122+1))","v":0},{"$nulls":9},0]
[{"$nulls":7},0,{"$nulls":9},0,{"$nulls":9},0,{"$nulls":9},0]
[{"$nulls":7},0,{"$nulls":9},0,{"$nulls":9},0,{"$nulls":9},0]
[{"$nulls":7},0,{"$nulls":9},0,{"$nulls":9},0,{"$nulls":9},0]
[{"$nulls":7},0,{"$nulls":9},0,{"$nulls":9},0,{"$nulls":9},0]
[{"$nulls":7},0,{"$nulls":9},0,{"$nulls":9},0,{"$nulls":9},0]
[{"$nulls":7},0,{"$nulls":9},0,{"$nulls":9},0,{"$nulls":9},0]
[{"$nulls":7},0,{"$nulls":9},0,{"$nulls":9},0,{"$nulls":9},0]
[{"$nulls":7},0,{"$nulls":9},0,{"$nulls":9},0,{"$nulls":9},0]
[null,"Totale mesi 2019/2020",{"$nulls":6},{"$f":"INT(SUM(H121:H130,R121:T130,)/30)","v":0},null,null,"punti",null,{"$f":"I131*0.1","v":{"v":0,"d":"0.00"}},{"$nulls":7},"Totale mesi 2020/2021",{"$nulls":6},{"$f":"INT(SUM(AB121:AB130,AL121:AN130,)/30)","v":0},null,null,"punti",null,{"$f":"AC131*0.1","v":{"v":0,"d":"0.00"}}]
[null,"Totale giorni 2019/2020",{"$nulls":6},{"$f":"SUM(H121:H130,R121:T130)-I131*30","v":0},null,null,"punti",null,{"$f":"IF(I132>15,0.1,0)","v":{"v":0,"d":"0.00"}},{"$nulls":7},"Totale giorni 2020/2021",{"$nulls":6},{"$f":"SUM(AB121:AB130,AL121:AN130)-AC131*30","v":0},null,null,"punti",null,{"$f":"IF(AC132>15,0.1,0)","v":{"v":0,"d":"0.00"}}]
[null,"Totale titoli di servizio a.s. 2019/2020",{"$nulls":11},{"$f":"SUM(N131:O132)","v":{"v":0,"d":"0.00"}},{"$nulls":7},"Totale titoli di servizio a.s. 2020/2021",{"$nulls":11},{"$f":"SUM(AH131:AI132)","v":{"v":0,"d":"0.00"}}]
[]
[null,"Altro servizio non statale (per ogni mese o frazione superiore a 15 giorni): 0,05"]
[null,"Altro servizio, ivi compreso il servizio di insegnamento nei corsi C.R.A.C.I.S. e il servizio prestato con rapporto di lavoro costituito con enti locali, servizio prestato come modello vivente, in una qualsiasi delle scuole seguenti:\na) scuole dell'infanzia non statali autorizzate;\nb) scuole primarie non statali parificate, sussidiate o sussidiarie;\nc) scuole di istruzione secondaria o artistica non statali pareggiate, legalmente riconosciute e convenzionate;\nd) scuole non statali paritarie"]
[]
[null,"Servizio svolto nell' a.s. 2017/2018",{"$nulls":19},"Servizio svolto nell' a.s. 2018/2019"]
[null,"DAL",null,null,"AL",null,null,"TOT GG",{"$nulls":3},"DAL",null,null,"AL",null,null,"TOT GG",{"$nulls":3},"DAL",null,null,"AL",null,null,"TOT GG",{"$nulls":3},"DAL",null,null,"AL",null,null,"TOT GG"]
[{"$nulls":7},{"$f":"IF(B140=0,0,DAYS360(B140,E140+1))","v":0},{"$nulls":9},{"$f":"IF(I140=0,0,DAYS360(I140,L140+1))","v":0},{"$nulls":9},{"$f":"IF(V140=0,0,DAYS360(V140,Y140+1))","v":0},{"$nulls":9},{"$f":"IF(AC140=0,0,DAYS360(AC140,AF140+1))","v":0}]
[{"$nulls":7},{"$f":"IF(B141=0,0,DAYS360(B141,E141+1))","v":0},{"$nulls":9},0,{"$nulls":9},{"$f":"IF(V141=0,0,DAYS360(V141,Y141+1))","v":0},{"$nulls":9},0]
[{"$nulls":7},0,{"$nulls":9},0,{"$nulls":9},0,{"$nulls":9},0]
[{"$nulls":7},0,{"$nulls":9},0,{"$nulls":9},0,{"$nulls":9},0]
[{"$nulls":7},0,{"$nulls":9},0,{"$nulls":9},0,{"$nulls":9},0]
[{"$nulls":7},0,{"$nulls":9},0,{"$nulls":9},0,{"$nulls":9},0]
[{"$nulls":7},0,{"$nulls":9},0,{"$nulls":9},0,{"$nulls":9},0]
[{"$nulls":7},0,{"$nulls":9},0,{"$nulls":9},0,{"$nulls":9},0]
[{"$nulls":7},0,{"$nulls":9},0,{"$nulls":9},0,{"$nulls":9},0]
[{"$nulls":7},0,{"$nulls":9},0,{"$nulls":9},0,{"$nulls":9},0]
[null,"Totale mesi 2017/2018",{"$nulls":6},{"$f":"INT(SUM(H140:H149,R140:T149,AL140:AN149)/30)","v":0},null,null,"punti",null,{"$f":"I150*0.05","v":{"v":0,"d":"0.000"}},{"$nulls":7},"Totale mesi 2018/2019",{"$nulls":6},{"$f":"INT(SUM(AB140:AB149,AL140:AN149,)/30)","v":0},null,null,"punti",null,{"$f":"AC150*0.05","v":{"v":0,"d":"0.000"}}]
[null,"Totale giorni 2017/2018",{"$nulls":6},{"$f":"SUM(H140:H149,R140:T149,)-I150*30","v":0},null,null,"punti",null,{"$f":"IF(I151>15,0.05,0)","v":{"v":0,"d":"0.000"}},{"$nulls":7},"Totale giorni 2018/2019",{"$nulls":6},{"$f":"SUM(AB140:AB149,AL140:AN149)-AC150*30","v":0},null,null,"punti",null,{"$f":"IF(AC151>15,0.05,0)","v":{"v":0,"d":"0.000"}}]
[null,"Totale titoli di servizio a.s. 2017/2018",{"$nulls":11},{"$f":"SUM(N150:O151)","v":{"v":0,"d":"0.000"}},{"$nulls":7},"Totale titoli di servizio a.s. 2018/2019",{"$nulls":11},{"$f":"SUM(AH150:AI151)","v":{"v":0,"d":"0.000"}}]
[]
[null,"Servizio svolto nell' a.s. 2019/2020",{"$nulls":19},"Servizio svolto nell' a.s. 2020/2021"]
[null,"DAL",null,null,"AL",null,null,"TOT GG",{"$nulls":3},"DAL",null,null,"AL",null,null,"TOT GG",{"$nulls":3},"DAL",null,null,"AL",null,null,"TOT GG",{"$nulls":3},"DAL",null,null,"AL",null,null,"TOT GG"]
[{"$nulls":7},{"$f":"IF(B156=0,0,DAYS360(B156,E156+1))","v":0},{"$nulls":9},{"$f":"IF(I156=0,0,DAYS360(I156,L156+1))","v":0},{"$nulls":9},{"$f":"IF(V156=0,0,DAYS360(V156,Y156+1))","v":0},{"$nulls":9},{"$f":"IF(AC156=0,0,DAYS360(AC156,AF156+1))","v":0}]
[{"$nulls":7},{"$f":"IF(B157=0,0,DAYS360(B157,E157+1))","v":0},{"$nulls":9},0,{"$nulls":9},{"$f":"IF(V157=0,0,DAYS360(V157,Y157+1))","v":0},{"$nulls":9},0]
[{"$nulls":7},0,{"$nulls":9},0,{"$nulls":9},0,{"$nulls":9},0]
[{"$nulls":7},0,{"$nulls":9},0,{"$nulls":9},0,{"$nulls":9},0]
[{"$nulls":7},0,{"$nulls":9},0,{"$nulls":9},0,{"$nulls":9},0]
[{"$nulls":7},0,{"$nulls":9},0,{"$nulls":9},0,{"$nulls":9},0]
[{"$nulls":7},0,{"$nulls":9},0,{"$nulls":9},0,{"$nulls":9},0]
[{"$nulls":7},0,{"$nulls":9},0,{"$nulls":9},0,{"$nulls":9},0]
[{"$nulls":7},0,{"$nulls":9},0,{"$nulls":9},0,{"$nulls":9},0]
[{"$nulls":7},0,{"$nulls":9},0,{"$nulls":9},0,{"$nulls":9},0]
[null,"Totale mesi 2019/2020",{"$nulls":6},{"$f":"INT(SUM(H156:H165,R156:T165,)/30)","v":0},null,null,"punti",null,{"$f":"I166*0.05","v":{"v":0,"d":"0.000"}},{"$nulls":7},"Totale mesi 2020/2021",{"$nulls":6},{"$f":"INT(SUM(AB156:AB165,AL156:AN165,)/30)","v":0},null,null,"punti",null,{"$f":"AC166*0.05","v":{"v":0,"d":"0.000"}}]
[null,"Totale giorni 2019/2020",{"$nulls":6},{"$f":"SUM(H156:H165,R156:T165)-I166*30","v":0},null,null,"punti",null,{"$f":"IF(I167>15,0.05,0)","v":{"v":0,"d":"0.000"}},{"$nulls":7},"Totale giorni 2020/2021",{"$nulls":6},{"$f":"SUM(AB156:AB165,AL156:AN165)-AC166*30","v":0},null,null,"punti",null,{"$f":"IF(AC167>15,0.05,0)","v":{"v":0,"d":"0.000"}}]
[null,"Totale titoli di servizio a.s. 2019/2020",{"$nulls":11},{"$f":"SUM(N166:O167)","v":{"v":0,"d":"0.000"}},{"$nulls":7},"Totale titoli di servizio a.s. 2020/2021",{"$nulls":11},{"$f":"SUM(AH166:AI167)","v":{"v":0,"d":"0.000"}}]
[]
[null,"Servizio altre amministrazioni (per ogni mese o frazione superiore a 15 giorni): 0,05"]
[null,"Servizio prestato alle dirette dipendenze di Amministrazioni statali o Enti locali e nei patronati scolastici"]
[]
[null,"Servizio svolto nell' a.s. 2017/2018",{"$nulls":19},"Servizio svolto nell' a.s. 2017/2018"]
[null,"DAL",null,null,"AL",null,null,"TOT GG",{"$nulls":3},"DAL",null,null,"AL",null,null,"TOT GG",{"$nulls":3},"DAL",null,null,"AL",null,null,"TOT GG",{"$nulls":3},"DAL",null,null,"AL",null,null,"TOT GG"]
[{"$nulls":7},{"$f":"IF(B175=0,0,DAYS360(B175,E175+1))","v":0},{"$nulls":9},{"$f":"IF(I175=0,0,DAYS360(I175,L175+1))","v":0},{"$nulls":9},{"$f":"IF(V175=0,0,DAYS360(V175,Y175+1))","v":0},{"$nulls":9},{"$f":"IF(AC175=0,0,DAYS360(AC175,AF175+1))","v":0}]
[{"$nulls":7},{"$f":"IF(B176=0,0,DAYS360(B176,E176+1))","v":0},{"$nulls":9},0,{"$nulls":9},{"$f":"IF(V176=0,0,DAYS360(V176,Y176+1))","v":0},{"$nulls":9},0]
[{"$nulls":7},0,{"$nulls":9},0,{"$nulls":9},0,{"$nulls":9},0]
[{"$nulls":7},0,{"$nulls":9},0,{"$nulls":9},0,{"$nulls":9},0]
[{"$nulls":7},0,{"$nulls":9},0,{"$nulls":9},0,{"$nulls":9},0]
[{"$nulls":7},0,{"$nulls":9},0,{"$nulls":9},0,{"$nulls":9},0]
[{"$nulls":7},0,{"$nulls":9},0,{"$nulls":9},0,{"$nulls":9},0]
[{"$nulls":7},0,{"$nulls":9},0,{"$nulls":9},0,{"$nulls":9},0]
[{"$nulls":7},0,{"$nulls":9},0,{"$nulls":9},0,{"$nulls":9},0]
[{"$nulls":7},0,{"$nulls":9},0,{"$nulls":9},0,{"$nulls":9},0]
[null,"Totale mesi 2017/2018",{"$nulls":6},{"$f":"INT(SUM(H175:H184,R175:T184,AL175:AN184)/30)","v":0},null,null,"punti",null,{"$f":"I185*0.05","v":{"v":0,"d":"0.00"}},{"$nulls":7},"Totale mesi 2018/2019",{"$nulls":6},{"$f":"INT(SUM(AB175:AB184,AL175:AN184,)/30)","v":0},null,null,"punti",null,{"$f":"AC185*0.05","v":{"v":0,"d":"0.00"}}]
[null,"Totale giorni 2017/2018",{"$nulls":6},{"$f":"SUM(H175:H184,R175:T184,)-I185*30","v":0},null,null,"punti",null,{"$f":"IF(I186>15,0.05,0)","v":{"v":0,"d":"0.00"}},{"$nulls":7},"Totale giorni 2018/2019",{"$nulls":6},{"$f":"SUM(AB175:AB184,AL175:AN184)-AC185*30","v":0},null,null,"punti",null,{"$f":"IF(AC186>15,0.05,0)","v":{"v":0,"d":"0.00"}}]
[null,"Totale titoli di servizio a.s. 2017/2018",{"$nulls":11},{"$f":"SUM(N185:O186)","v":{"v":0,"d":"0.00"}},{"$nulls":7},"Totale titoli di servizio a.s. 2018/2019",{"$nulls":11},{"$f":"SUM(AH185:AI186)","v":{"v":0,"d":"0.00"}}]
[]
[null,"Servizio svolto nell' a.s. 2019/2020",{"$nulls":19},"Servizio svolto nell' a.s. 2020/2021"]
[null,"DAL",null,null,"AL",null,null,"TOT GG",{"$nulls":3},"DAL",null,null,"AL",null,null,"TOT GG",{"$nulls":3},"DAL",null,null,"AL",null,null,"TOT GG",{"$nulls":3},"DAL",null,null,"AL",null,null,"TOT GG"]
[{"$nulls":7},{"$f":"IF(B191=0,0,DAYS360(B191,E191+1))","v":0},{"$nulls":9},{"$f":"IF(I191=0,0,DAYS360(I191,L191+1))","v":0},{"$nulls":9},{"$f":"IF(V191=0,0,DAYS360(V191,Y191+1))","v":0},{"$nulls":9},{"$f":"IF(AC191=0,0,DAYS360(AC191,AF191+1))","v":0}]
[{"$nulls":7},{"$f":"IF(B192=0,0,DAYS360(B192,E192+1))","v":0},{"$nulls":9},0,{"$nulls":9},{"$f":"IF(V192=0,0,DAYS360(V192,Y192+1))","v":0},{"$nulls":9},0]
[{"$nulls":7},0,{"$nulls":9},0,{"$nulls":9},0,{"$nulls":9},0]
[{"$nulls":7},0,{"$nulls":9},0,{"$nulls":9},0,{"$nulls":9},0]
[{"$nulls":7},0,{"$nulls":9},0,{"$nulls":9},0,{"$nulls":9},0]
[{"$nulls":7},0,{"$nulls":9},0,{"$nulls":9},0,{"$nulls":9},0]
[{"$nulls":7},0,{"$nulls":9},0,{"$nulls":9},0,{"$nulls":9},0]
[{"$nulls":7},0,{"$nulls":9},0,{"$nulls":9},0,{"$nulls":9},0]
[{"$nulls":7},0,{"$nulls":9},0,{"$nulls":9},0,{"$nulls":9},0]
[{"$nulls":7},0,{"$nulls":9},0,{"$nulls":9},0,{"$nulls":9},0]
[null,"Totale mesi 2019/2020",{"$nulls":6},{"$f":"INT(SUM(H191:H200,R191:T200,)/30)","v":0},null,null,"punti",null,{"$f":"I201*0.05","v":{"v":0,"d":"0.00"}},{"$nulls":7},"Totale mesi 2020/2021",{"$nulls":6},{"$f":"INT(SUM(AB191:AB200,AL191:AN200,)/30)","v":0},null,null,"punti",null,{"$f":"AC201*0.05","v":{"v":0,"d":"0.00"}}]
[null,"Totale giorni 2019/2020",{"$nulls":6},{"$f":"SUM(H191:H200,R191:T200)-I201*30","v":0},null,null,"punti",null,{"$f":"IF(I202>15,0.05,0)","v":{"v":0,"d":"0.00"}},{"$nulls":7},"Totale giorni 2020/2021",{"$nulls":6},{"$f":"SUM(AB191:AB200,AL191:AN200)-AC201*30","v":0},null,null,"punti",null,{"$f":"IF(AC202>15,0.05,0)","v":{"v":0,"d":"0.00"}}]
[null,"Totale titoli di servizio a.s. 2019/2020",{"$nulls":11},{"$f":"SUM(N201:O202)","v":{"v":0,"d":"0.00"}},{"$nulls":7},"Totale titoli di servizio a.s. 2020/2021",{"$nulls":11},{"$f":"SUM(AH201:AI202)","v":{"v":0,"d":"0.00"}}]
{"$rows_empty":9}
["CALCOLO PUNTEGGIO GRADUATORIE DI ISTITUTO - ASSISTENTE AMMINISTRATIVO"]
[]
[{"$nulls":3},"Cognome e Nome",{"$nulls":8},{"$f":"L14","v":0}]
[]
[{"$nulls":9},"RIEPILOGO"]
[{"$nulls":9},"Punteggio triennio precedente",{"$nulls":16},{"$f":"Z16","v":{"v":0,"d":"0.000"}}]
[]
[{"$nulls":9},"Totale titoli culturali aggiuntivi",{"$nulls":16},{"$f":"AL27","v":{"v":0,"d":"0.000"}}]
[]
[{"$nulls":9},"Totale titoli di servizio specifico statale",{"$nulls":16},{"$f":"SUM(N47,AH47,N63,AH63)","v":{"v":0,"d":"0.000"}}]
[{"$nulls":9},"Totale titoli di servizio non statale",{"$nulls":16},{"$f":"SUM(N82,AH82,N98,AH98)","v":{"v":0,"d":"0.000"}}]
[{"$nulls":9},"Totale titoli di altro servizio statale",{"$nulls":16},{"$f":"SUM(N117,AH117,N133,AH133)","v":{"v":0,"d":"0.000"}}]
[{"$nulls":9},"Totale titoli di altro servizio non statale",{"$nulls":16},{"$f":"SUM(N152,AH152,N168,AH168)","v":{"v":0,"d":"0.000"}}]
[{"$nulls":9},"Totale titoli di servizio altre amministrazioni",{"$nulls":16},{"$f":"SUM(N187,AH187,N203,AH203)","v":{"v":0,"d":"0.000"}}]
[{"$nulls":9},"Totale titoli di servizio ",{"$nulls":16},{"$f":"SUM(AA222:AC226)","v":{"v":0,"d":"0.000"}}]
[]
[{"$nulls":9},"TOTALE generale",{"$nulls":16},{"$f":"SUM(AA218,AA220,AA227,)","v":{"v":0,"d":"0.000"}}]
[]
[]
[{"$nulls":35},"©","Francesco Gioffreda"]

{"sheet":"tab_amm","index":1,"n_rows":56,"n_cols":2,"rows_kept":56,"hidden":true}
["SI"]
["NO"]
[]
["Scegli certificazione precedentemente conseguita",{"v":0,"d":"0.00"}]
["ECDL Core",{"v":0.5,"d":"0.50"}]
["ECDL Advanced",0.55]
["ECDL Specialised",{"v":0.6,"d":"0.60"}]
["NUOVA ECDL Base",{"v":0.5,"d":"0.50"}]
["NUOVA ECDL Advanced",0.55]
["NUOVA ECDL Specialised",{"v":0.6,"d":"0.60"}]
["NUOVA ECDL Professional",{"v":0.6,"d":"0.60"}]
["MICROSOFT MCAD o equivalente",{"v":0.5,"d":"0.50"}]
["MICROSOFT MCSD o equivalente",0.55]
["MICROSOFT MCDBA o equivalente",{"v":0.6,"d":"0.60"}]
["EUCIP",{"v":0.6,"d":"0.60"}]
["IC3",{"v":0.6,"d":"0.60"}]
["MOUS (Microsoft Office User Specialist)",{"v":0.6,"d":"0.60"}]
["CISCO (Cisco System)",{"v":0.6,"d":"0.60"}]
["PEKIT",{"v":0.6,"d":"0.60"}]
["EIPASS",{"v":0.6,"d":"0.60"}]
["EIRSAF Full",{"v":0.6,"d":"0.60"}]
["EIRSAF Four",{"v":0.5,"d":"0.50"}]
["EIRSAF Green",{"v":0.5,"d":"0.50"}]
["IIQ 7 Moduli",{"v":0.5,"d":"0.50"}]
["IIQ 7 Moduli + 1 Skill Base",0.55]
["IIQ 4 Moduli Advanced Level",{"v":0.6,"d":"0.60"}]
["IDCert Digital Competence",{"v":0.5,"d":"0.50"}]
["IDCert Digital Competence Advanced",0.55]
["IDCert Digital Competence Specialized",{"v":0.6,"d":"0.60"}]
[]
["Scegli nuova certificazione conseguita",{"v":0,"d":"0.00"}]
["ECDL Core",{"v":0.5,"d":"0.50"}]
["ECDL Advanced",0.55]
["ECDL Specialised",{"v":0.6,"d":"0.60"}]
["NUOVA ECDL Base",{"v":0.5,"d":"0.50"}]
["NUOVA ECDL Advanced",0.55]
["NUOVA ECDL Specialised",{"v":0.6,"d":"0.60"}]
["NUOVA ECDL Professional",{"v":0.6,"d":"0.60"}]
["MICROSOFT MCAD o equivalente",{"v":0.5,"d":"0.50"}]
["MICROSOFT MCSD o equivalente",0.55]
["MICROSOFT MCDBA o equivalente",{"v":0.6,"d":"0.60"}]
["EUCIP",{"v":0.6,"d":"0.60"}]
["IC3",{"v":0.6,"d":"0.60"}]
["MOUS (Microsoft Office User Specialist)",{"v":0.6,"d":"0.60"}]
["CISCO (Cisco System)",{"v":0.6,"d":"0.60"}]
["PEKIT",{"v":0.6,"d":"0.60"}]
["EIPASS",{"v":0.6,"d":"0.60"}]
["EIRSAF Full",{"v":0.6,"d":"0.60"}]
["EIRSAF Four",{"v":0.5,"d":"0.50"}]
["EIRSAF Green",{"v":0.5,"d":"0.50"}]
["IIQ 7 Moduli",{"v":0.5,"d":"0.50"}]
["IIQ 7 Moduli + 1 Skill Base",0.55]
["IIQ 4 Moduli Advanced Level",{"v":0.6,"d":"0.60"}]
["IDCert Digital Competence",{"v":0.5,"d":"0.50"}]
["IDCert Digital Competence Advanced",0.55]
["IDCert Digital Competence Specialized",{"v":0.6,"d":"0.60"}]

{"sheet":"TEC","index":2,"n_rows":230,"n_cols":38,"rows_kept":230,"merged":[[7,1,7,39],[8,1,8,2],[8,3,8,39],[9,1,9,2],[9,3,9,39],[10,1,10,2],[10,3,10,5],[10,6,10,7],[10,8,10,39],[11,1,11,2],[11,3,11,5],[11,6,11,7],[11,8,11,39],[12,1,12,39],[13,1,13,10],[13,11,13,39],[14,1,14,39],[15,1,15,24],[15,25,15,39],[16,1,16,39],[18,1,18,18],[18,19,24,19],[19,1,19,18],[20,1,20,9],[20,10,20,15],[20,16,20,18],[21,1,22,9],[21,10,22,11],[21,12,22,13],[21,14,22,15],[21,16,22,18],[23,1,23,9],[23,10,23,11],[23,12,23,13],[23,14,23,15],[23,16,23,18],[24,1,24,15],[24,16,24,18],[82,1,82,3],[82,4,82,6],[82,8,92,10],[82,11,82,13],[82,14,82,16],[82,17,82,19],[82,21,82,23],[82,24,82,26],[82,28,92,30],[82,31,82,33],[82,34,82,36],[82,37,82,39],[83,1,83,3],[83,4,83,6],[83,11,83,13],[83,14,83,16],[83,17,83,19],[83,21,83,23],[84,14,84,16],[84,17,84,19],[84,21,84,23],[85,24,85,26],[85,31,85,33],[85,34,85,36],[85,37,85,39],[86,1,86,3],[86,4,86,6],[86,11,86,13],[86,14,86,16],[86,17,86,19],[86,21,86,23],[86,24,86,26],[86,31,86,33],[86,34,86,36],[86,37,86,39],[87,1,87,3],[87,4,87,6],[87,11,87,13],[87,14,87,16],[87,17,87,19],[87,21,87,23],[87,24,87,26],[87,31,87,33],[87,34,87,36],[87,37,87,39],[88,1,88,3],[88,4,88,6],[88,11,88,13],[88,14,88,16],[88,17,88,19],[88,21,88,23],[88,24,88,26],[88,31,88,33],[88,34,88,36],[88,37,88,39],[89,1,89,3],[89,4,89,6],[89,11,89,13],[89,14,89,16],[89,17,89,19],[89,21,89,23],[89,24,89,26],[89,31,89,33],[89,34,89,36],[89,37,89,39],[90,1,90,3],[90,4,90,6],[90,11,90,13],[90,14,90,16],[90,17,90,19],[90,21,90,23],[90,24,90,26],[90,31,90,33],[90,34,90,36],[90,37,90,39],[91,1,91,3],[91,4,91,6],[91,11,91,13],[91,14,91,16],[91,17,91,19],[91,21,91,23],[91,24,91,26],[91,31,91,33],[91,34,91,36],[91,37,91,39],[92,1,92,3],[92,4,92,6],[92,11,92,13],[92,14,92,16],[92,17,92,19],[92,21,92,23],[92,24,92,26],[92,31,92,33],[92,34,92,36],[92,37,92,39],[93,1,93,7],[93,11,93,12],[93,13,93,16],[93,17,95,19],[93,21,93,27],[93,31,93,32],[93,33,93,36],[93,37,95,39],[94,1,94,7],[94,11,94,12],[94,13,94,16],[94,21,94,27],[94,31,94,32],[94,33,94,36],[95,1,95,12],[95,13,95,16],[95,21,95,32],[95,33,95,36],[96,1,96,39],[97,1,97,39],[98,1,98,39],[99,1,99,39],[100,1,100,19],[100,20,130,20],[100,21,100,39],[101,1,101,3],[101,4,101,6],[101,8,111,10],[101,11,101,13],[101,14,101,16],[101,17,101,19],[101,21,101,23],[101,24,101,26],[101,28,111,30],[101,31,101,33],[101,34,101,36],[101,37,101,39],[102,1,102,3],[102,4,102,6],[102,11,102,13],[102,14,102,16],[102,17,102,19],[102,21,102,23],[102,24,102,26],[102,31,102,33],[102,34,102,36],[102,37,102,39],[103,1,103,3],[103,4,103,6],[103,11,103,13],[103,14,103,16],[103,17,103,19],[103,21,103,23],[103,24,103,26],[103,31,103,33],[103,34,103,36],[103,37,103,39],[104,1,104,3],[104,4,104,6],[104,11,104,13],[104,14,104,16],[104,17,104,19],[104,21,104,23],[104,24,104,26],[104,31,104,33],[104,34,104,36],[104,37,104,39],[105,1,105,3],[105,4,105,6],[105,11,105,13],[105,14,105,16],[105,17,105,19],[105,21,105,23],[105,24,105,26],[105,31,105,33],[105,34,105,36],[105,37,105,39],[106,1,106,3],[106,4,106,6],[106,11,106,13],[106,14,106,16],[106,17,106,19],[106,21,106,23],[106,24,106,26],[106,31,106,33],[106,34,106,36],[106,37,106,39],[107,1,107,3],[107,4,107,6],[107,11,107,13],[107,14,107,16],[107,17,107,19],[107,21,107,23],[107,24,107,26],[107,31,107,33],[107,34,107,36],[107,37,107,39],[108,1,108,3],[108,4,108,6],[108,11,108,13],[108,14,108,16],[108,17,108,19],[108,21,108,23],[108,24,108,26],[108,31,108,33],[108,34,108,36],[108,37,108,39],[109,1,109,3],[109,4,109,6],[109,11,109,13],[109,14,109,16],[109,17,109,19],[109,21,109,23],[109,24,109,26],[109,31,109,33],[109,34,109,36],[109,37,109,39],[110,1,110,3],[110,4,110,6],[110,11,110,13],[110,14,110,16],[110,17,110,19],[110,21,110,23],[110,24,110,26],[110,31,110,33],[110,34,110,36],[110,37,110,39],[111,1,111,3],[111,4,111,6],[111,11,111,13],[111,14,111,16],[111,17,111,19],[111,21,111,23],[111,24,111,26],[111,31,111,33],[111,34,111,36],[111,37,111,39],[112,1,112,7],[112,11,112,12],[112,13,112,16],[112,17,114,19],[112,21,112,27],[112,31,112,32],[112,33,112,36],[112,37,114,39],[113,1,113,7],[113,11,113,12],[113,13,113,16],[113,21,113,27],[113,31,113,32],[113,33,113,36],[114,1,114,12],[114,13,114,16],[114,21,114,32],[114,33,114,36],[115,1,115,19],[115,21,115,39],[116,1,116,19],[116,21,116,39],[117,1,117,3],[117,4,117,6],[117,8,127,10],[117,11,117,13],[117,14,117,16],[117,17,117,19],[117,21,117,23],[117,24,117,26],[117,28,127,30],[117,31,117,33],[117,34,117,36],[117,37,117,39],[118,1,118,3],[118,4,118,6],[118,11,118,13],[118,14,118,16],[118,17,118,19],[118,21,118,23],[118,24,118,26],[118,31,118,33],[118,34,118,36],[118,37,118,39],[119,1,119,3],[119,4,119,6],[119,11,119,13],[119,14,119,16],[119,17,119,19],[119,21,119,23],[119,24,119,26],[119,31,119,33],[119,34,119,36],[119,37,119,39],[120,1,120,3],[120,4,120,6],[120,11,120,13],[120,14,120,16],[120,17,120,19],[120,21,120,23],[120,24,120,26],[120,31,120,33],[120,34,120,36],[120,37,120,39],[121,1,121,3],[121,4,121,6],[121,11,121,13],[121,14,121,16],[121,17,121,19],[121,21,121,23],[121,24,121,26],[121,31,121,33],[121,34,121,36],[121,37,121,39],[122,1,122,3],[122,4,122,6],[122,11,122,13],[122,14,122,16],[122,17,122,19],[122,21,122,23],[122,24,122,26],[122,31,122,33],[122,34,122,36],[122,37,122,39],[123,1,123,3],[123,4,123,6],[123,11,123,13],[123,14,123,16],[123,17,123,19],[123,21,123,23],[123,24,123,26],[123,31,123,33],[123,34,123,36],[123,37,123,39],[124,1,124,3],[124,4,124,6],[124,11,124,13],[124,14,124,16],[124,17,124,19],[124,21,124,23],[124,24,124,26],[124,31,124,33],[124,34,124,36],[124,37,124,39],[125,1,125,3],[125,4,125,6],[125,11,125,13],[125,14,125,16],[125,17,125,19],[125,21,125,23],[125,24,125,26],[125,31,125,33],[125,34,125,36],[125,37,125,39],[126,1,126,3],[126,4,126,6],[126,11,126,13],[126,14,126,16],[126,17,126,19],[126,21,126,23],[126,24,126,26],[126,31,126,33],[126,34,126,36],[126,37,126,39],[127,1,127,3],[127,4,127,6],[127,11,127,13],[127,14,127,16],[127,17,127,19],[127,21,127,23],[127,24,127,26],[127,31,127,33],[127,34,127,36],[127,37,127,39],[128,1,128,7],[128,11,128,12],[128,13,128,16],[128,17,130,19],[128,21,128,27],[128,31,128,32],[128,33,128,36],[128,37,130,39],[129,1,129,7],[129,11,129,12],[129,13,129,16],[129,21,129,27],[129,31,129,32],[129,33,129,36],[130,1,130,12],[130,13,130,16],[130,21,130,32],[130,33,130,36],[131,1,131,39],[132,1,132,39],[133,1,133,39],[134,1,134,39],[135,1,135,19],[135,20,165,20],[135,21,135,39],[136,1,136,3],[136,4,136,6],[136,8,146,10],[136,11,136,13],[136,14,136,16],[136,17,136,19],[136,21,136,23],[136,24,136,26],[136,28,146,30],[136,31,136,33],[136,34,136,36],[136,37,136,39],[137,1,137,3],[137,4,137,6],[137,11,137,13],[137,14,137,16],[137,17,137,19],[137,21,137,23],[137,24,137,26],[137,31,137,33],[137,34,137,36],[137,37,137,39],[138,1,138,3],[138,4,138,6],[138,11,138,13],[138,14,138,16],[138,17,138,19],[138,21,138,23],[138,24,138,26],[138,31,138,33],[138,34,138,36],[138,37,138,39],[139,1,139,3],[139,4,139,6],[139,11,139,13],[139,14,139,16],[139,17,139,19],[139,21,139,23],[139,24,139,26],[139,31,139,33],[139,34,139,36],[139,37,139,39],[140,1,140,3],[140,4,140,6],[140,11,140,13],[140,14,140,16],[140,17,140,19],[140,21,140,23],[140,24,140,26],[140,31,140,33],[140,34,140,36],[140,37,140,39],[141,1,141,3],[141,4,141,6],[141,11,141,13],[141,14,141,16],[141,17,141,19],[141,21,141,23],[141,24,141,26],[141,31,141,33],[141,34,141,36],[141,37,141,39],[142,1,142,3],[142,4,142,6],[142,11,142,13],[142,14,142,16],[142,17,142,19],[142,21,142,23],[142,24,142,26],[142,31,142,33],[142,34,142,36],[142,37,142,39],[143,1,143,3],[143,4,143,6],[143,11,143,13],[143,14,143,16],[143,17,143,19],[143,21,143,23],[143,24,143,26],[143,31,143,33],[143,34,143,36],[143,37,143,39],[144,1,144,3],[144,4,144,6],[144,11,144,13],[144,14,144,16],[144,17,144,19],[144,21,144,23],[144,24,144,26],[144,31,144,33],[144,34,144,36],[144,37,144,39],[145,1,145,3],[145,4,145,6],[145,11,145,13],[145,14,145,16],[145,17,145,19],[145,21,145,23],[145,24,145,26],[145,31,145,33],[145,34,145,36],[145,37,145,39],[146,1,146,3],[146,4,146,6],[146,11,146,13],[146,14,146,16],[146,17,146,19],[146,21,146,23],[146,24,146,26],[146,31,146,33],[146,34,146,36],[146,37,146,39],[147,1,147,7],[147,11,147,12],[147,13,147,16],[147,17,149,19],[147,21,147,27],[147,31,147,32],[147,33,147,36],[147,37,149,39],[148,1,148,7],[148,11,148,12],[148,13,148,16],[148,21,148,27],[148,31,148,32],[148,33,148,36],[149,1,149,12],[149,13,149,16],[149,21,149,32],[149,33,149,36],[150,1,150,19],[150,21,150,39],[151,1,151,19],[151,21,151,39],[152,1,152,3],[152,4,152,6],[152,8,162,10],[152,11,152,13],[152,14,152,16],[152,17,152,19],[152,21,152,23],[152,24,152,26],[152,28,162,30],[152,31,152,33],[152,34,152,36],[152,37,152,39],[153,1,153,3],[153,4,153,6],[153,11,153,13],[153,14,153,16],[153,17,153,19],[153,21,153,23],[153,24,153,26],[153,31,153,33],[153,34,153,36],[153,37,153,39],[154,1,154,3],[154,4,154,6],[154,11,154,13],[154,14,154,16],[154,17,154,19],[154,21,154,23],[154,24,154,26],[154,31,154,33],[154,34,154,36],[154,37,154,39],[155,1,155,3],[155,4,155,6],[155,11,155,13],[155,14,155,16],[155,17,155,19],[155,21,155,23],[155,24,155,26],[155,31,155,33],[155,34,155,36],[155,37,155,39],[156,1,156,3],[156,4,156,6],[156,11,156,13],[156,14,156,16],[156,17,156,19],[156,21,156,23],[156,24,156,26],[156,31,156,33],[156,34,156,36],[156,37,156,39],[157,1,157,3],[157,4,157,6],[157,11,157,13],[157,14,157,16],[157,17,157,19],[157,21,157,23],[157,24,157,26],[157,31,157,33],[157,34,157,36],[157,37,157,39],[158,1,158,3],[158,4,158,6],[158,11,158,13],[158,14,158,16],[158,17,158,19],[158,21,158,23],[158,24,158,26],[158,31,158,33],[158,34,158,36],[158,37,158,39],[159,1,159,3],[159,4,159,6],[159,11,159,13],[159,14,159,16],[159,17,159,19],[159,21,159,23],[159,24,159,26],[159,31,159,33],[159,34,159,36],[159,37,159,39],[160,1,160,3],[160,4,160,6],[160,11,160,13],[160,14,160,16],[160,17,160,19],[160,21,160,23],[160,24,160,26],[160,31,160,33],[160,34,160,36],[160,37,160,39],[161,1,161,3],[161,4,161,6],[161,11,161,13],[161,14,161,16],[161,17,161,19],[161,21,161,23],[161,24,161,26],[161,31,161,33],[161,34,161,36],[161,37,161,39],[162,1,162,3],[162,4,162,6],[162,11,162,13],[162,14,162,16],[162,17,162,19],[162,21,162,23],[162,24,162,26],[162,31,162,33],[162,34,162,36],[162,37,162,39],[163,1,163,7],[163,11,163,12],[163,13,163,16],[163,17,165,19],[163,21,163,27],[163,31,163,32],[163,33,163,36],[163,37,165,39],[164,1,164,7],[164,11,164,12],[164,13,164,16],[164,21,164,27],[164,31,164,32],[164,33,164,36],[165,1,165,12],[165,13,165,16],[165,21,165,32],[165,33,165,36],[166,1,166,39],[167,1,167,39],[168,1,168,39],[169,1,169,39],[170,1,170,19],[170,20,200,20],[170,21,170,39],[171,1,171,3],[171,4,171,6],[171,8,181,10],[171,11,171,13],[171,14,171,16],[171,17,171,19],[171,21,171,23],[171,24,171,26],[171,28,181,30],[171,31,171,33],[171,34,171,36],[171,37,171,39],[172,1,172,3],[172,4,172,6],[172,11,172,13],[172,14,172,16],[172,17,172,19],[172,21,172,23],[172,24,172,26],[172,31,172,33],[172,34,172,36],[172,37,172,39],[173,1,173,3],[173,4,173,6],[173,11,173,13],[173,14,173,16],[173,17,173,19],[173,21,173,23],[173,24,173,26],[173,31,173,33],[173,34,173,36],[173,37,173,39],[174,1,174,3],[174,4,174,6],[174,11,174,13],[174,14,174,16],[174,17,174,19],[174,21,174,23],[174,24,174,26],[174,31,174,33],[174,34,174,36],[174,37,174,39],[175,1,175,3],[175,4,175,6],[175,11,175,13],[175,14,175,16],[175,17,175,19],[175,21,175,23],[175,24,175,26],[175,31,175,33],[175,34,175,36],[175,37,175,39],[176,1,176,3],[176,4,176,6],[176,11,176,13],[176,14,176,16],[176,17,176,19],[176,21,176,23],[176,24,176,26],[176,31,176,33],[176,34,176,36],[176,37,176,39],[177,1,177,3],[177,4,177,6],[177,11,177,13],[177,14,177,16],[177,17,177,19],[177,21,177,23],[177,24,177,26],[177,31,177,33],[177,34,177,36],[177,37,177,39],[178,1,178,3],[178,4,178,6],[178,11,178,13],[178,14,178,16],[178,17,178,19],[178,21,178,23],[178,24,178,26],[178,31,178,33],[178,34,178,36],[178,37,178,39],[179,1,179,3],[179,4,179,6],[179,11,179,13],[179,14,179,16],[179,17,179,19],[179,21,179,23],[179,24,179,26],[179,31,179,33],[179,34,179,36],[179,37,179,39],[180,1,180,3],[180,4,180,6],[180,11,180,13],[180,14,180,16],[180,17,180,19],[180,21,180,23],[180,24,180,26],[180,31,180,33],[180,34,180,36],[180,37,180,39],[181,1,181,3],[181,4,181,6],[181,11,181,13],[181,14,181,16],[181,17,181,19],[181,21,181,23],[181,24,181,26],[181,31,181,33],[181,34,181,36],[181,37,181,39],[182,1,182,7],[182,8,182,10],[182,11,182,12],[182,13,182,16],[182,17,184,19],[182,21,182,27],[182,28,182,30],[182,31,182,32],[182,33,182,36],[182,37,184,39],[183,1,183,7],[183,8,183,10],[183,11,183,12],[183,13,183,16],[183,21,183,27],[183,28,183,30],[183,31,183,32],[183,33,183,36],[184,1,184,12],[184,13,184,16],[184,21,184,32],[184,33,184,36],[185,1,185,19],[185,21,185,39],[186,1,186,19],[186,21,186,39],[187,1,187,3],[187,4,187,6],[187,8,197,10],[187,11,187,13],[187,14,187,16],[187,17,187,19],[187,21,187,23],[187,24,187,26],[187,28,197,30],[187,31,187,33],[187,34,187,36],[187,37,187,39],[188,1,188,3],[188,4,188,6],[188,11,188,13],[188,14,188,16],[188,17,188,19],[188,21,188,23],[188,24,188,26],[188,31,188,33],[188,34,188,36],[188,37,188,39],[189,1,189,3],[189,4,189,6],[189,11,189,13],[189,14,189,16],[189,17,189,19],[189,21,189,23],[189,24,189,26],[189,31,189,33],[189,34,189,36],[189,37,189,39],[190,1,190,3],[190,4,190,6],[190,11,190,13],[190,14,190,16],[190,17,190,19],[190,21,190,23],[190,24,190,26],[190,31,190,33],[190,34,190,36],[190,37,190,39],[191,1,191,3],[191,4,191,6],[191,11,191,13],[191,14,191,16],[191,17,191,19],[191,21,191,23],[191,24,191,26],[191,31,191,33],[191,34,191,36],[191,37,191,39],[192,1,192,3],[192,4,192,6],[192,11,192,13],[192,14,192,16],[192,17,192,19],[192,21,192,23],[192,24,192,26],[192,31,192,33],[192,34,192,36],[192,37,192,39],[193,1,193,3],[193,4,193,6],[193,11,193,13],[193,14,193,16],[193,17,193,19],[193,21,193,23],[193,24,193,26],[193,31,193,33],[193,34,193,36],[193,37,193,39],[194,1,194,3],[194,4,194,6],[194,11,194,13],[194,14,194,16],[194,17,194,19],[194,21,194,23],[194,24,194,26],[194,31,194,33],[194,34,194,36],[194,37,194,39],[195,1,195,3],[195,4,195,6],[195,11,195,13],[195,14,195,16],[195,17,195,19],[195,21,195,23],[195,24,195,26],[195,31,195,33],[195,34,195,36],[195,37,195,39],[196,1,196,3],[196,4,196,6],[196,11,196,13],[196,14,196,16],[196,17,196,19],[196,21,196,23],[196,24,196,26],[196,31,196,33],[196,34,196,36],[196,37,196,39],[197,1,197,3],[197,4,197,6],[197,11,197,13],[197,14,197,16],[197,17,197,19],[197,21,197,23],[197,24,197,26],[197,31,197,33],[197,34,197,36],[197,37,197,39],[198,1,198,7],[198,8,198,10],[198,11,198,12],[198,13,198,16],[198,17,200,19],[198,21,198,27],[198,28,198,30],[198,31,198,32],[198,33,198,36],[198,37,200,39],[199,1,199,7],[199,8,199,10],[199,11,199,12],[199,13,199,16],[199,21,199,27],[199,28,199,30],[199,31,199,32],[199,33,199,36],[200,1,200,12],[200,13,200,16],[200,21,200,32],[200,33,200,36],[201,1,201,39],[202,0,202,40],[203,0,207,40],[210,0,210,40],[212,3,212,11],[212,12,212,37],[214,9,214,28],[215,9,215,25],[215,26,215,28],[216,9,216,28],[217,9,217,25],[217,26,217,28],[218,9,218,28],[219,9,219,25],[219,26,219,28],[220,9,220,25],[220,26,220,28],[221,9,221,25],[221,26,221,28],[222,9,222,25],[222,26,222,28],[223,9,223,25],[223,26,223,28],[224,9,224,25],[224,26,224,28],[225,9,225,28],[226,9,227,25],[226,26,227,28]],"merged_total":1483,"flags":["merged_cut"]}
[]
[]
[]
[]
[]
[]
[null,"CALCOLO PUNTEGGIO GRADUATORIE DI ISTITUTO - ASSISTENTE TECNICO"]
[]
[null,"Nota 1: ",null,"In caso di periodi coincidenti (es servizi parte time) è necessario inserirne solo uno"]
[null,"Nota 2: ",null,"Nel servizio svolto inserire la data nel formato giorno/mese/anno oppure giorno-mese-anno"]
[null,"Nota 3: ",null,"Caselle ",{"$nulls":4}," inserimento valori con menu a tendina"]
[null,"Nota 4: ",null,"Caselle ",{"$nulls":4}," inserimento valori da tastiera"]
[]
[null,"Cognome e Nome"]
[]
[null,"Punteggio totale assegnato nel triennio precedente"]
[]
[null,"TITOLI  DI CULTURA DOPO L'ULTIMO AGGIORNAMENTO/INSERIMENTO"]
[null,"TITOLO DI ACCESSO",{"$nulls":18},"TITOLI  DI CULTURA CONSEGUITI  "]
[null,"(da compilare solo per variazione titolo di accesso)",{"$nulls":18},"Tipologia titoli posseduti",{"$nulls":14},"Si/No",null,"punti"]
[null,"Tipologia",{"$nulls":8},"voto / giudizio ",{"$nulls":5},"punti",{"$nulls":3},"Diploma di Laurea",{"$nulls":16},{"$f":"IF(AJ21=\"SI\",2,0)","v":{"v":0,"d":"0.00"}}]
[null,"Diploma precedentemente inserito",{"$nulls":10},"su",{"$nulls":3},{"$f":"IF(K22=0,0, K22*10/O22)","v":{"v":0,"d":"0.00"}},{"$nulls":3},"Idoneità in precedenti concorsi pubblici stesso profilo",{"$nulls":16},{"$f":"IF(AJ22=\"SI\",2,0)","v":{"v":0,"d":"0.00"}}]
[{"$nulls":20},"ECDL Specialised",{"$nulls":16},{"$f":"VLOOKUP(U23,tab_tec!A4:B29,2,FALSE)","v":{"v":0.6,"d":"0.60"}}]
[null,"Nuovo diploma conseguito",{"$nulls":10},"su",{"$nulls":3},{"$f":"IF(K24=0,0, K24*10/O24)","v":{"v":0,"d":"0.00"}},{"$nulls":3},"ECDL Specialised",{"$nulls":16},{"$f":"VLOOKUP(U24,tab_tec!A31:B56,2,FALSE)","v":{"v":0.6,"d":"0.60"}}]
[null,"Punteggio aggiuntivo titolo di accesso",{"$nulls":14},{"$f":"Q24-Q22","v":{"v":0,"d":"0.00"}},{"$nulls":3},"Totale titoli di cultura aggiuntivi",{"$nulls":16},{"$f":"AL21+AL22+AL24-AL23","v":{"v":0,"d":"0.00"}}]
[null,"SERVIZIO SVOLTO SUCCESSIVAMENTE ALLA DATA DEL 30/10/2017"]
[]
[null,"Servizio specifico statale (per ogni mese o frazione superiore a 15 giorni): 0,50"]
[null,"Servizio prestato in qualità di assistente tecnico in:\na) scuole dell'infanzia statali, delle Regioni Sicilia e Val d'Aosta, delle province autonome di Trento e Bolzano;\nb) Scuole primarie statali;\nc) Scuole di istruzione secondaria o artistica statali;\nd) Istituzioni convittuali; istituzioni scolastiche e culturali italiane all'estero in qualità di assistente tecnico (limitatamente a tale profilo professionale)"]
[]
[null,"Servizio svolto nell' a.s. 2017/2018",{"$nulls":19},"Servizio svolto nell' a.s. 2018/2019"]
[null,"DAL",null,null,"AL",null,null,"TOT GG",{"$nulls":3},"DAL",null,null,"AL",null,null,"TOT GG",{"$nulls":3},"DAL",null,null,"AL",null,null,"TOT GG",{"$nulls":3},"DAL",null,null,"AL",null,null,"TOT GG"]
[{"$nulls":7},{"$f":"IF(B33=0,0,DAYS360(B33,E33+1))","v":0},{"$nulls":9},{"$f":"IF(I33=0,0,DAYS360(I33,L33+1))","v":0},{"$nulls":9},{"$f":"IF(V33=0,0,DAYS360(V33,Y33+1))","v":0},{"$nulls":9},{"$f":"IF(AC33=0,0,DAYS360(AC33,AF33+1))","v":0}]
[{"$nulls":7},{"$f":"IF(B34=0,0,DAYS360(B34,E34+1))","v":0},{"$nulls":9},0,{"$nulls":9},{"$f":"IF(V34=0,0,DAYS360(V34,Y34+1))","v":0},{"$nulls":9},0]
[{"$nulls":7},0,{"$nulls":9},0,{"$nulls":9},0,{"$nulls":9},0]
[{"$nulls":7},0,{"$nulls":9},0,{"$nulls":9},0,{"$nulls":9},0]
[{"$nulls":7},0,{"$nulls":9},0,{"$nulls":9},0,{"$nulls":9},0]
[{"$nulls":7},0,{"$nulls":9},0,{"$nulls":9},0,{"$nulls":9},0]
[{"$nulls":7},0,{"$nulls":9},0,{"$nulls":9},0,{"$nulls":9},0]
[{"$nulls":7},0,{"$nulls":9},0,{"$nulls":9},0,{"$nulls":9},0]
[{"$nulls":7},0,{"$nulls":9},0,{"$nulls":9},0,{"$nulls":9},0]
[{"$nulls":7},0,{"$nulls":9},0,{"$nulls":9},0,{"$nulls":9},0]
[null,"Totale mesi 2017/2018",{"$nulls":6},{"$f":"INT(SUM(H33:H42,R33:T42,AL33:AN42)/30)","v":0},null,null,"punti",null,{"$f":"I43*0.5","v":{"v":0,"d":"0.00"}},{"$nulls":7},"Totale mesi 2018/2019",{"$nulls":6},{"$f":"INT(SUM(AB33:AB42,AL33:AN42,BF33:BH42)/30)","v":0},null,null,"punti",null,{"$f":"AC43*0.5","v":{"v":0,"d":"0.00"}}]
[null,"Totale giorni 2017/2018",{"$nulls":6},{"$f":"SUM(H33:H42,R33:T42,)-I43*30","v":0},null,null,"punti",null,{"$f":"IF(I44>15,0.5,0)","v":{"v":0,"d":"0.00"}},{"$nulls":7},"Totale giorni 2018/2019",{"$nulls":6},{"$f":"SUM(AB33:AB42,AL33:AN42,)-AC43*30","v":0},null,null,"punti",null,{"$f":"IF(AC44>15,0.5,0)","v":{"v":0,"d":"0.00"}}]
[null,"Totale titoli di servizio a.s. 2017/2018",{"$nulls":11},{"$f":"SUM(N43:O44)","v":{"v":0,"d":"0.00"}},{"$nulls":7},"Totale titoli di servizio a.s. 2018/2019",{"$nulls":11},{"$f":"SUM(AH43:AI44)","v":{"v":0,"d":"0.00"}}]
[]
[null,"Servizio svolto nell' a.s. 2019/2020",{"$nulls":19},"Servizio svolto nell' a.s. 2020/2021"]
[null,"DAL",null,null,"AL",null,null,"TOT GG",{"$nulls":3},"DAL",null,null,"AL",null,null,"TOT GG",{"$nulls":3},"DAL",null,null,"AL",null,null,"TOT GG",{"$nulls":3},"DAL",null,null,"AL",null,null,"TOT GG"]
[{"$nulls":7},{"$f":"IF(B49=0,0,DAYS360(B49,E49+1))","v":0},{"$nulls":9},{"$f":"IF(I49=0,0,DAYS360(I49,L49+1))","v":0},{"$nulls":9},{"$f":"IF(V49=0,0,DAYS360(V49,Y49+1))","v":0},{"$nulls":9},{"$f":"IF(AC49=0,0,DAYS360(AC49,AF49+1))","v":0}]
[{"$nulls":7},{"$f":"IF(B50=0,0,DAYS360(B50,E50+1))","v":0},{"$nulls":9},0,{"$nulls":9},{"$f":"IF(V50=0,0,DAYS360(V50,Y50+1))","v":0},{"$nulls":9},0]
[{"$nulls":7},0,{"$nulls":9},0,{"$nulls":9},0,{"$nulls":9},0]
[{"$nulls":7},0,{"$nulls":9},0,{"$nulls":9},0,{"$nulls":9},0]
[{"$nulls":7},0,{"$nulls":9},0,{"$nulls":9},0,{"$nulls":9},0]
[{"$nulls":7},0,{"$nulls":9},0,{"$nulls":9},0,{"$nulls":9},0]
[{"$nulls":7},0,{"$nulls":9},0,{"$nulls":9},0,{"$nulls":9},0]
[{"$nulls":7},0,{"$nulls":9},0,{"$nulls":9},0,{"$nulls":9},0]
[{"$nulls":7},0,{"$nulls":9},0,{"$nulls":9},0,{"$nulls":9},0]
[{"$nulls":7},0,{"$nulls":9},0,{"$nulls":9},0,{"$nulls":9},0]
[null,"Totale mesi 2019/2020",{"$nulls":6},{"$f":"INT(SUM(H49:H58,R49:T58,AL49:AN58)/30)","v":0},null,null,"punti",null,{"$f":"I59*0.5","v":{"v":0,"d":"0.00"}},{"$nulls":7},"Totale mesi 2020/2021",{"$nulls":6},{"$f":"INT(SUM(AB49:AB58,AL49:AN58,)/30)","v":0},null,null,"punti",null,{"$f":"AC59*0.5","v":{"v":0,"d":"0.00"}}]
[null,"Totale giorni 2019/2020",{"$nulls":6},{"$f":"SUM(H49:H58,R49:T58,)-I59*30","v":0},null,null,"punti",null,{"$f":"IF(I60>15,0.5,0)","v":{"v":0,"d":"0.00"}},{"$nulls":7},"Totale giorni 2020/2021",{"$nulls":6},{"$f":"SUM(AB49:AB58,AL49:AN58)-AC59*30","v":0},null,null,"punti",null,{"$f":"IF(AC60>15,0.5,0)","v":{"v":0,"d":"0.00"}}]
[null,"Totale titoli di servizio a.s. 2019/2020",{"$nulls":11},{"$f":"SUM(N59:O60)","v":{"v":0,"d":"0.00"}},{"$nulls":7},"Totale titoli di servizio a.s. 2020/2021",{"$nulls":11},{"$f":"SUM(AH59:AI60)","v":{"v":0,"d":"0.00"}}]
[]
[null,"Servizio non statale (per ogni mese o frazione superiore a 15 giorni): 0,25"]
[null,"Servizio prestato in qualità di assistente tecnico in:\na) scuole dell'infanzia non statali autorizzate;\nb) scuole primarie non statali parificate, sussidiate o sussidiarie;\nc) scuole di istruzione secondaria o artistica non statali pareggiate, legalmente riconosciute e convenzionate;\nd) scuole non statali paritarie"]
[]
[null,"Servizio svolto nell' a.s. 2017/2018",{"$nulls":19},"Servizio svolto nell' a.s. 2018/2019"]
[null,"DAL",null,null,"AL",null,null,"TOT GG",{"$nulls":3},"DAL",null,null,"AL",null,null,"TOT GG",{"$nulls":3},"DAL",null,null,"AL",null,null,"TOT GG",{"$nulls":3},"DAL",null,null,"AL",null,null,"TOT GG"]
[{"$nulls":7},{"$f":"IF(B68=0,0,DAYS360(B68,E68+1))","v":0},{"$nulls":9},{"$f":"IF(I68=0,0,DAYS360(I68,L68+1))","v":0},{"$nulls":9},{"$f":"IF(V68=0,0,DAYS360(V68,Y68+1))","v":0},{"$nulls":9},{"$f":"IF(AC68=0,0,DAYS360(AC68,AF68+1))","v":0}]
[{"$nulls":7},{"$f":"IF(B69=0,0,DAYS360(B69,E69+1))","v":0},{"$nulls":9},0,{"$nulls":9},{"$f":"IF(V69=0,0,DAYS360(V69,Y69+1))","v":0},{"$nulls":9},0]
[{"$nulls":7},0,{"$nulls":9},0,{"$nulls":9},0,{"$nulls":9},0]
[{"$nulls":7},0,{"$nulls":9},0,{"$nulls":9},0,{"$nulls":9},0]
[{"$nulls":7},0,{"$nulls":9},0,{"$nulls":9},0,{"$nulls":9},0]
[{"$nulls":7},0,{"$nulls":9},0,{"$nulls":9},0,{"$nulls":9},0]
[{"$nulls":7},0,{"$nulls":9},0,{"$nulls":9},0,{"$nulls":9},0]
[{"$nulls":7},0,{"$nulls":9},0,{"$nulls":9},0,{"$nulls":9},0]
[{"$nulls":7},0,{"$nulls":9},0,{"$nulls":9},0,{"$nulls":9},0]
[{"$nulls":7},0,{"$nulls":9},0,{"$nulls":9},0,{"$nulls":9},0]
[null,"Totale mesi 2017/2018",{"$nulls":6},{"$f":"INT(SUM(H68:H77,R68:T77,AL68:AN77)/30)","v":0},null,null,"punti",null,{"$f":"I78*0.25","v":{"v":0,"d":"0.00"}},{"$nulls":7},"Totale mesi 2018/2019",{"$nulls":6},{"$f":"INT(SUM(AB68:AB77,AL68:AN77,)/30)","v":0},null,null,"punti",null,{"$f":"AC78*0.25","v":{"v":0,"d":"0.00"}}]
[null,"Totale giorni 2017/2018",{"$nulls":6},{"$f":"SUM(H68:H77,R68:T77,)-I78*30","v":0},null,null,"punti",null,{"$f":"IF(I79>15,0.25,0)","v":{"v":0,"d":"0.00"}},{"$nulls":7},"Totale giorni 2018/2019",{"$nulls":6},{"$f":"SUM(AB68:AB77,AL68:AN77)-AC78*30","v":0},null,null,"punti",null,{"$f":"IF(AC79>15,0.25,0)","v":{"v":0,"d":"0.00"}}]
[null,"Totale titoli di servizio a.s. 2017/2018",{"$nulls":11},{"$f":"SUM(N78:O79)","v":{"v":0,"d":"0.00"}},{"$nulls":7},"Totale titoli di servizio a.s. 2018/2019",{"$nulls":11},{"$f":"SUM(AH78:AI79)","v":{"v":0,"d":"0.00"}}]
[]
[null,"Servizio svolto nell' a.s. 2019/2020",{"$nulls":19},"Servizio svolto nell' a.s. 2020/2021"]
[null,"DAL",null,null,"AL",null,null,"TOT GG",{"$nulls":3},"DAL",null,null,"AL",null,null,"TOT GG",{"$nulls":3},"DAL",null,null,"AL",null,null,"TOT GG",{"$nulls":3},"DAL",null,null,"AL",null,null,"TOT GG"]
[{"$nulls":7},{"$f":"IF(B84=0,0,DAYS360(B84,E84+1))","v":0},{"$nulls":9},{"$f":"IF(I84=0,0,DAYS360(I84,L84+1))","v":0},{"$nulls":9},{"$f":"IF(V84=0,0,DAYS360(V84,Y84+1))","v":0},{"$nulls":9},{"$f":"IF(AC84=0,0,DAYS360(AC84,AF84+1))","v":0}]
[{"$nulls":7},{"$f":"IF(B85=0,0,DAYS360(B85,E85+1))","v":0},{"$nulls":9},0,{"$nulls":9},{"$f":"IF(V85=0,0,DAYS360(V85,Y85+1))","v":0},{"$nulls":9},0]
[{"$nulls":7},0,{"$nulls":9},0,{"$nulls":9},0,{"$nulls":9},0]
[{"$nulls":7},0,{"$nulls":9},0,{"$nulls":9},0,{"$nulls":9},0]
[{"$nulls":7},0,{"$nulls":9},0,{"$nulls":9},0,{"$nulls":9},0]
[{"$nulls":7},0,{"$nulls":9},0,{"$nulls":9},0,{"$nulls":9},0]
[{"$nulls":7},0,{"$nulls":9},0,{"$nulls":9},0,{"$nulls":9},0]
[{"$nulls":7},0,{"$nulls":9},0,{"$nulls":9},0,{"$nulls":9},0]
[{"$nulls":7},0,{"$nulls":9},0,{"$nulls":9},0,{"$nulls":9},0]
[{"$nulls":7},0,{"$nulls":9},0,{"$nulls":9},0,{"$nulls":9},0]
[null,"Totale mesi 2019/2020",{"$nulls":6},{"$f":"INT(SUM(H84:H93,R84:T93,)/30)","v":0},null,null,"punti",null,{"$f":"I94*0.25","v":{"v":0,"d":"0.00"}},{"$nulls":7},"Totale mesi 2020/2021",{"$nulls":6},{"$f":"INT(SUM(AB84:AB93,AL84:AN93,)/30)","v":0},null,null,"punti",null,{"$f":"AC94*0.25","v":{"v":0,"d":"0.00"}}]
[null,"Totale giorni 2019/2020",{"$nulls":6},{"$f":"SUM(H84:H93,R84:T93)-I94*30","v":0},null,null,"punti",null,{"$f":"IF(I95>15,0.25,0)","v":{"v":0,"d":"0.00"}},{"$nulls":7},"Totale giorni 2020/2021",{"$nulls":6},{"$f":"SUM(AB84:AB93,AL84:AN93)-AC94*30","v":0},null,null,"punti",null,{"$f":"IF(AC95>15,0.25,0)","v":{"v":0,"d":"0.00"}}]
[null,"Totale titoli di servizio a.s. 2019/2020",{"$nulls":11},{"$f":"SUM(N94:O95)","v":{"v":0,"d":"0.00"}},{"$nulls":7},"Totale titoli di servizio a.s. 2020/2021",{"$nulls":11},{"$f":"SUM(AH94:AI95)","v":{"v":0,"d":"0.00"}}]
[]
[null,"Altro servizio statale (per ogni mese o frazione superiore a 15 giorni): 0,10"]
[null,"Altro servizio prestato, ivi compreso il servizio di insegnamento effettuato nei corsi C.R.A.C.I.S., servizio prestato come modello vivente, nelle scuole:\na) dell'infanzia statali, delle Regioni Sicilia e Val d'Aosta, delle province autonome di Trento e Bolzano;\nb) primarie statali;\nc) di istruzione secondaria o artistica statali;\nd) nelle istituzioni scolastiche e culturali italiane all'estero, nelle istituzioni convittuali;\ne) nei convitti annessi agli istituti tecnici e professionali, nei convitti nazionali e negli educandati femminili dello Stato"]
[]
[null,"Servizio svolto nell' a.s. 2017/2018",{"$nulls":19},"Servizio svolto nell' a.s. 2018/2019"]
[null,"DAL",null,null,"AL",null,null,"TOT GG",{"$nulls":3},"DAL",null,null,"AL",null,null,"TOT GG",{"$nulls":3},"DAL",null,null,"AL",null,null,"TOT GG",{"$nulls":3},"DAL",null,null,"AL",null,null,"TOT GG"]
[{"$nulls":7},{"$f":"IF(B103=0,0,DAYS360(B103,E103+1))","v":0},{"$nulls":9},{"$f":"IF(I103=0,0,DAYS360(I103,L103+1))","v":0},{"$nulls":9},{"$f":"IF(V103=0,0,DAYS360(V103,Y103+1))","v":0},{"$nulls":9},{"$f":"IF(AC103=0,0,DAYS360(AC103,AF103+1))","v":0}]
[{"$nulls":7},{"$f":"IF(B104=0,0,DAYS360(B104,E104+1))","v":0},{"$nulls":9},0,{"$nulls":9},{"$f":"IF(V104=0,0,DAYS360(V104,Y104+1))","v":0},{"$nulls":9},0]
[{"$nulls":7},0,{"$nulls":9},0,{"$nulls":9},0,{"$nulls":9},0]
[{"$nulls":7},0,{"$nulls":9},0,{"$nulls":9},0,{"$nulls":9},0]
[{"$nulls":7},0,{"$nulls":9},0,{"$nulls":9},0,{"$nulls":9},0]
[{"$nulls":7},0,{"$nulls":9},0,{"$nulls":9},0,{"$nulls":9},0]
[{"$nulls":7},0,{"$nulls":9},0,{"$nulls":9},0,{"$nulls":9},0]
[{"$nulls":7},0,{"$nulls":9},0,{"$nulls":9},0,{"$nulls":9},0]
[{"$nulls":7},0,{"$nulls":9},0,{"$nulls":9},0,{"$nulls":9},0]
[{"$nulls":7},0,{"$nulls":9},0,{"$nulls":9},0,{"$nulls":9},0]
[null,"Totale mesi 2017/2018",{"$nulls":6},{"$f":"INT(SUM(H103:H112,R103:T112,AL103:AN112)/30)","v":0},null,null,"punti",null,{"$f":"I113*0.1","v":{"v":0,"d":"0.00"}},{"$nulls":7},"Totale mesi 2018/2019",{"$nulls":6},{"$f":"INT(SUM(AB103:AB112,AL103:AN112,)/30)","v":0},null,null,"punti",null,{"$f":"AC113*0.1","v":{"v":0,"d":"0.00"}}]
[null,"Totale giorni 2017/2018",{"$nulls":6},{"$f":"SUM(H103:H112,R103:T112,)-I113*30","v":0},null,null,"punti",null,{"$f":"IF(I114>15,0.1,0)","v":{"v":0,"d":"0.00"}},{"$nulls":7},"Totale giorni 2018/2019",{"$nulls":6},{"$f":"SUM(AB103:AB112,AL103:AN112)-AC113*30","v":0},null,null,"punti",null,{"$f":"IF(AC114>15,0.1,0)","v":{"v":0,"d":"0.00"}}]
[null,"Totale titoli di servizio a.s. 2017/2018",{"$nulls":11},{"$f":"SUM(N113:O114)","v":{"v":0,"d":"0.00"}},{"$nulls":7},"Totale titoli di servizio a.s. 2018/2019",{"$nulls":11},{"$f":"SUM(AH113:AI114)","v":{"v":0,"d":"0.00"}}]
[]
[null,"Servizio svolto nell' a.s. 2019/2020",{"$nulls":19},"Servizio svolto nell' a.s. 2020/2021"]
[null,"DAL",null,null,"AL",null,null,"TOT GG",{"$nulls":3},"DAL",null,null,"AL",null,null,"TOT GG",{"$nulls":3},"DAL",null,null,"AL",null,null,"TOT GG",{"$nulls":3},"DAL",null,null,"AL",null,null,"TOT GG"]
[{"$nulls":7},{"$f":"IF(B119=0,0,DAYS360(B119,E119+1))","v":0},{"$nulls":9},{"$f":"IF(I119=0,0,DAYS360(I119,L119+1))","v":0},{"$nulls":9},{"$f":"IF(V119=0,0,DAYS360(V119,Y119+1))","v":0},{"$nulls":9},{"$f":"IF(AC119=0,0,DAYS360(AC119,AF119+1))","v":0}]
[{"$nulls":7},{"$f":"IF(B120=0,0,DAYS360(B120,E120+1))","v":0},{"$nulls":9},0,{"$nulls":9},{"$f":"IF(V120=0,0,DAYS360(V120,Y120+1))","v":0},{"$nulls":9},0]
[{"$nulls":7},0,{"$nulls":9},0,{"$nulls":9},0,{"$nulls":9},0]
[{"$nulls":7},0,{"$nulls":9},0,{"$nulls":9},0,{"$nulls":9},0]
[{"$nulls":7},0,{"$nulls":9},0,{"$nulls":9},0,{"$nulls":9},0]
[{"$nulls":7},0,{"$nulls":9},0,{"$nulls":9},0,{"$nulls":9},0]
[{"$nulls":7},0,{"$nulls":9},0,{"$nulls":9},0,{"$nulls":9},0]
[{"$nulls":7},0,{"$nulls":9},0,{"$nulls":9},0,{"$nulls":9},0]
[{"$nulls":7},0,{"$nulls":9},0,{"$nulls":9},0,{"$nulls":9},0]
[{"$nulls":7},0,{"$nulls":9},0,{"$nulls":9},0,{"$nulls":9},0]
[null,"Totale mesi 2019/2020",{"$nulls":6},{"$f":"INT(SUM(H119:H128,R119:T128,)/30)","v":0},null,null,"punti",null,{"$f":"I129*0.1","v":{"v":0,"d":"0.00"}},{"$nulls":7},"Totale mesi 2020/2021",{"$nulls":6},{"$f":"INT(SUM(AB119:AB128,AL119:AN128,)/30)","v":0},null,null,"punti",null,{"$f":"AC129*0.1","v":{"v":0,"d":"0.00"}}]
[null,"Totale giorni 2019/2020",{"$nulls":6},{"$f":"SUM(H119:H128,R119:T128)-I129*30","v":0},null,null,"punti",null,{"$f":"IF(I130>15,0.1,0)","v":{"v":0,"d":"0.00"}},{"$nulls":7},"Totale giorni 2020/2021",{"$nulls":6},{"$f":"SUM(AB119:AB128,AL119:AN128)-AC129*30","v":0},null,null,"punti",null,{"$f":"IF(AC130>15,0.1,0)","v":{"v":0,"d":"0.00"}}]
[null,"Totale titoli di servizio a.s. 2019/2020",{"$nulls":11},{"$f":"SUM(N129:O130)","v":{"v":0,"d":"0.00"}},{"$nulls":7},"Totale titoli di servizio a.s. 2020/2021",{"$nulls":11},{"$f":"SUM(AH129:AI130)","v":{"v":0,"d":"0.00"}}]
[]
[null,"Altro servizio non statale (per ogni mese o frazione superiore a 15 giorni): 0,05"]
[null,"Altro servizio prestato, ivi compreso il servizio di insegnamento effettuato nei corsi C.R.A.C.I.S., servizio prestato come modello vivente, nelle scuole:\na) scuole dell'infanzia non statali autorizzate;\nb) scuole primarie non statali parificate, sussidiate o sussidiarie;\nc) scuole di istruzione secondaria o artistica non statali pareggiate, legalmente riconosciute e convenzionate;\nd) scuole non statali paritarie"]
[]
[null,"Servizio svolto nell' a.s. 2017/2018",{"$nulls":19},"Servizio svolto nell' a.s. 2018/2019"]
[null,"DAL",null,null,"AL",null,null,"TOT GG",{"$nulls":3},"DAL",null,null,"AL",null,null,"TOT GG",{"$nulls":3},"DAL",null,null,"AL",null,null,"TOT GG",{"$nulls":3},"DAL",null,null,"AL",null,null,"TOT GG"]
[{"$nulls":7},{"$f":"IF(B138=0,0,DAYS360(B138,E138+1))","v":0},{"$nulls":9},{"$f":"IF(I138=0,0,DAYS360(I138,L138+1))","v":0},{"$nulls":9},{"$f":"IF(V138=0,0,DAYS360(V138,Y138+1))","v":0},{"$nulls":9},{"$f":"IF(AC138=0,0,DAYS360(AC138,AF138+1))","v":0}]
[{"$nulls":7},{"$f":"IF(B139=0,0,DAYS360(B139,E139+1))","v":0},{"$nulls":9},0,{"$nulls":9},{"$f":"IF(V139=0,0,DAYS360(V139,Y139+1))","v":0},{"$nulls":9},0]
[{"$nulls":7},0,{"$nulls":9},0,{"$nulls":9},0,{"$nulls":9},0]
[{"$nulls":7},0,{"$nulls":9},0,{"$nulls":9},0,{"$nulls":9},0]
[{"$nulls":7},0,{"$nulls":9},0,{"$nulls":9},0,{"$nulls":9},0]
[{"$nulls":7},0,{"$nulls":9},0,{"$nulls":9},0,{"$nulls":9},0]
[{"$nulls":7},0,{"$nulls":9},0,{"$nulls":9},0,{"$nulls":9},0]
[{"$nulls":7},0,{"$nulls":9},0,{"$nulls":9},0,{"$nulls":9},0]
[{"$nulls":7},0,{"$nulls":9},0,{"$nulls":9},0,{"$nulls":9},0]
[{"$nulls":7},0,{"$nulls":9},0,{"$nulls":9},0,{"$nulls":9},0]
[null,"Totale mesi 2017/2018",{"$nulls":6},{"$f":"INT(SUM(H138:H147,R138:T147,AL138:AN147)/30)","v":0},null,null,"punti",null,{"$f":"I148*0.05","v":{"v":0,"d":"0.000"}},{"$nulls":7},"Totale mesi 2018/2019",{"$nulls":6},{"$f":"INT(SUM(AB138:AB147,AL138:AN147,)/30)","v":0},null,null,"punti",null,{"$f":"AC148*0.05","v":{"v":0,"d":"0.000"}}]
[null,"Totale giorni 2017/2018",{"$nulls":6},{"$f":"SUM(H138:H147,R138:T147,)-I148*30","v":0},null,null,"punti",null,{"$f":"IF(I149>15,0.05,0)","v":{"v":0,"d":"0.000"}},{"$nulls":7},"Totale giorni 2018/2019",{"$nulls":6},{"$f":"SUM(AB138:AB147,AL138:AN147)-AC148*30","v":0},null,null,"punti",null,{"$f":"IF(AC149>15,0.05,0)","v":{"v":0,"d":"0.000"}}]
[null,"Totale titoli di servizio a.s. 2017/2018",{"$nulls":11},{"$f":"SUM(N148:O149)","v":{"v":0,"d":"0.000"}},{"$nulls":7},"Totale titoli di servizio a.s. 2018/2019",{"$nulls":11},{"$f":"SUM(AH148:AI149)","v":{"v":0,"d":"0.000"}}]
[]
[null,"Servizio svolto nell' a.s. 2019/2020",{"$nulls":19},"Servizio svolto nell' a.s. 2020/2021"]
[null,"DAL",null,null,"AL",null,null,"TOT GG",{"$nulls":3},"DAL",null,null,"AL",null,null,"TOT GG",{"$nulls":3},"DAL",null,null,"AL",null,null,"TOT GG",{"$nulls":3},"DAL",null,null,"AL",null,null,"TOT GG"]
[{"$nulls":7},{"$f":"IF(B154=0,0,DAYS360(B154,E154+1))","v":0},{"$nulls":9},{"$f":"IF(I154=0,0,DAYS360(I154,L154+1))","v":0},{"$nulls":9},{"$f":"IF(V154=0,0,DAYS360(V154,Y154+1))","v":0},{"$nulls":9},{"$f":"IF(AC154=0,0,DAYS360(AC154,AF154+1))","v":0}]
[{"$nulls":7},{"$f":"IF(B155=0,0,DAYS360(B155,E155+1))","v":0},{"$nulls":9},0,{"$nulls":9},{"$f":"IF(V155=0,0,DAYS360(V155,Y155+1))","v":0},{"$nulls":9},0]
[{"$nulls":7},0,{"$nulls":9},0,{"$nulls":9},0,{"$nulls":9},0]
[{"$nulls":7},0,{"$nulls":9},0,{"$nulls":9},0,{"$nulls":9},0]
[{"$nulls":7},0,{"$nulls":9},0,{"$nulls":9},0,{"$nulls":9},0]
[{"$nulls":7},0,{"$nulls":9},0,{"$nulls":9},0,{"$nulls":9},0]
[{"$nulls":7},0,{"$nulls":9},0,{"$nulls":9},0,{"$nulls":9},0]
[{"$nulls":7},0,{"$nulls":9},0,{"$nulls":9},0,{"$nulls":9},0]
[{"$nulls":7},0,{"$nulls":9},0,{"$nulls":9},0,{"$nulls":9},0]
[{"$nulls":7},0,{"$nulls":9},0,{"$nulls":9},0,{"$nulls":9},0]
[null,"Totale mesi 2019/2020",{"$nulls":6},{"$f":"INT(SUM(H154:H163,R154:T163,)/30)","v":0},null,null,"punti",null,{"$f":"I164*0.05","v":{"v":0,"d":"0.000"}},{"$nulls":7},"Totale mesi 2020/2021",{"$nulls":6},{"$f":"INT(SUM(AB154:AB163,AL154:AN163,)/30)","v":0},null,null,"punti",null,{"$f":"AC164*0.05","v":{"v":0,"d":"0.000"}}]
[null,"Totale giorni 2019/2020",{"$nulls":6},{"$f":"SUM(H154:H163,R154:T163)-I164*30","v":0},null,null,"punti",null,{"$f":"IF(I165>15,0.05,0)","v":{"v":0,"d":"0.000"}},{"$nulls":7},"Totale giorni 2020/2021",{"$nulls":6},{"$f":"SUM(AB154:AB163,AL154:AN163)-AC164*30","v":0},null,null,"punti",null,{"$f":"IF(AC165>15,0.05,0)","v":{"v":0,"d":"0.000"}}]
[null,"Totale titoli di servizio a.s. 2019/2020",{"$nulls":11},{"$f":"SUM(N164:O165)","v":{"v":0,"d":"0.000"}},{"$nulls":7},"Totale titoli di servizio a.s. 2020/2021",{"$nulls":11},{"$f":"SUM(AH164:AI165)","v":{"v":0,"d":"0.000"}}]
[]
[null,"Servizio altre amministrazioni (per ogni mese o frazione superiore a 15 giorni): 0,05"]
[null,"Servizio prestato alle dirette dipendenze di Amministrazioni statali o Enti locali e nei patronati scolastici"]
[]
[null,"Servizio svolto nell' a.s. 2017/2018",{"$nulls":19},"Servizio svolto nell' a.s. 2017/2018"]
[null,"DAL",null,null,"AL",null,null,"TOT GG",{"$nulls":3},"DAL",null,null,"AL",null,null,"TOT GG",{"$nulls":3},"DAL",null,null,"AL",null,null,"TOT GG",{"$nulls":3},"DAL",null,null,"AL",null,null,"TOT GG"]
[{"$nulls":7},{"$f":"IF(B173=0,0,DAYS360(B173,E173+1))","v":0},{"$nulls":9},{"$f":"IF(I173=0,0,DAYS360(I173,L173+1))","v":0},{"$nulls":9},{"$f":"IF(V173=0,0,DAYS360(V173,Y173+1))","v":0},{"$nulls":9},{"$f":"IF(AC173=0,0,DAYS360(AC173,AF173+1))","v":0}]
[{"$nulls":7},{"$f":"IF(B174=0,0,DAYS360(B174,E174+1))","v":0},{"$nulls":9},0,{"$nulls":9},{"$f":"IF(V174=0,0,DAYS360(V174,Y174+1))","v":0},{"$nulls":9},0]
[{"$nulls":7},0,{"$nulls":9},0,{"$nulls":9},0,{"$nulls":9},0]
[{"$nulls":7},0,{"$nulls":9},0,{"$nulls":9},0,{"$nulls":9},0]
[{"$nulls":7},0,{"$nulls":9},0,{"$nulls":9},0,{"$nulls":9},0]
[{"$nulls":7},0,{"$nulls":9},0,{"$nulls":9},0,{"$nulls":9},0]
[{"$nulls":7},0,{"$nulls":9},0,{"$nulls":9},0,{"$nulls":9},0]
[{"$nulls":7},0,{"$nulls":9},0,{"$nulls":9},0,{"$nulls":9},0]
[{"$nulls":7},0,{"$nulls":9},0,{"$nulls":9},0,{"$nulls":9},0]
[{"$nulls":7},0,{"$nulls":9},0,{"$nulls":9},0,{"$nulls":9},0]
[null,"Totale mesi 2017/2018",{"$nulls":6},{"$f":"INT(SUM(H173:H182,R173:T182,AL173:AN182)/30)","v":0},null,null,"punti",null,{"$f":"I183*0.05","v":{"v":0,"d":"0.00"}},{"$nulls":7},"Totale mesi 2018/2019",{"$nulls":6},{"$f":"INT(SUM(AB173:AB182,AL173:AN182,)/30)","v":0},null,null,"punti",null,{"$f":"AC183*0.05","v":{"v":0,"d":"0.00"}}]
[null,"Totale giorni 2017/2018",{"$nulls":6},{"$f":"SUM(H173:H182,R173:T182,)-I183*30","v":0},null,null,"punti",null,{"$f":"IF(I184>15,0.05,0)","v":{"v":0,"d":"0.00"}},{"$nulls":7},"Totale giorni 2018/2019",{"$nulls":6},{"$f":"SUM(AB173:AB182,AL173:AN182)-AC183*30","v":0},null,null,"punti",null,{"$f":"IF(AC184>15,0.05,0)","v":{"v":0,"d":"0.00"}}]
[null,"Totale titoli di servizio a.s. 2017/2018",{"$nulls":11},{"$f":"SUM(N183:O184)","v":{"v":0,"d":"0.00"}},{"$nulls":7},"Totale titoli di servizio a.s. 2018/2019",{"$nulls":11},{"$f":"SUM(AH183:AI184)","v":{"v":0,"d":"0.00"}}]
[]
[null,"Servizio svolto nell' a.s. 2019/2020",{"$nulls":19},"Servizio svolto nell' a.s. 2020/2021"]
[null,"DAL",null,null,"AL",null,null,"TOT GG",{"$nulls":3},"DAL",null,null,"AL",null,null,"TOT GG",{"$nulls":3},"DAL",null,null,"AL",null,null,"TOT GG",{"$nulls":3},"DAL",null,null,"AL",null,null,"TOT GG"]
[{"$nulls":7},{"$f":"IF(B189=0,0,DAYS360(B189,E189+1))","v":0},{"$nulls":9},{"$f":"IF(I189=0,0,DAYS360(I189,L189+1))","v":0},{"$nulls":9},{"$f":"IF(V189=0,0,DAYS360(V189,Y189+1))","v":0},{"$nulls":9},{"$f":"IF(AC189=0,0,DAYS360(AC189,AF189+1))","v":0}]
[{"$nulls":7},{"$f":"IF(B190=0,0,DAYS360(B190,E190+1))","v":0},{"$nulls":9},0,{"$nulls":9},{"$f":"IF(V190=0,0,DAYS360(V190,Y190+1))","v":0},{"$nulls":9},0]
[{"$nulls":7},0,{"$nulls":9},0,{"$nulls":9},0,{"$nulls":9},0]
[{"$nulls":7},0,{"$nulls":9},0,{"$nulls":9},0,{"$nulls":9},0]
[{"$nulls":7},0,{"$nulls":9},0,{"$nulls":9},0,{"$nulls":9},0]
[{"$nulls":7},0,{"$nulls":9},0,{"$nulls":9},0,{"$nulls":9},0]
[{"$nulls":7},0,{"$nulls":9},0,{"$nulls":9},0,{"$nulls":9},0]
[{"$nulls":7},0,{"$nulls":9},0,{"$nulls":9},0,{"$nulls":9},0]
[{"$nulls":7},0,{"$nulls":9},0,{"$nulls":9},0,{"$nulls":9},0]
[{"$nulls":7},0,{"$nulls":9},0,{"$nulls":9},0,{"$nulls":9},0]
[null,"Totale mesi 2019/2020",{"$nulls":6},{"$f":"INT(SUM(H189:H198,R189:T198,)/30)","v":0},null,null,"punti",null,{"$f":"I199*0.05","v":{"v":0,"d":"0.00"}},{"$nulls":7},"Totale mesi 2020/2021",{"$nulls":6},{"$f":"INT(SUM(AB189:AB198,AL189:AN198,)/30)","v":0},null,null,"punti",null,{"$f":"AC199*0.05","v":{"v":0,"d":"0.00"}}]
[null,"Totale giorni 2019/2020",{"$nulls":6},{"$f":"SUM(H189:H198,R189:T198)-I199*30","v":0},null,null,"punti",null,{"$f":"IF(I200>15,0.05,0)","v":{"v":0,"d":"0.00"}},{"$nulls":7},"Totale giorni 2020/2021",{"$nulls":6},{"$f":"SUM(AB189:AB198,AL189:AN198)-AC199*30","v":0},null,null,"punti",null,{"$f":"IF(AC200>15,0.05,0)","v":{"v":0,"d":"0.00"}}]
[null,"Totale titoli di servizio a.s. 2019/2020",{"$nulls":11},{"$f":"SUM(N199:O200)","v":{"v":0,"d":"0.00"}},{"$nulls":7},"Totale titoli di servizio a.s. 2020/2021",{"$nulls":11},{"$f":"SUM(AH199:AI200)","v":{"v":0,"d":"0.00"}}]
{"$rows_empty":9}
["CALCOLO PUNTEGGIO GRADUATORIE DI ISTITUTO - ASSISTENTE TECNICO"]
[]
[{"$nulls":3},"Cognome e Nome",{"$nulls":8},{"$f":"L14","v":0}]
[]
[{"$nulls":9},"RIEPILOGO"]
[{"$nulls":9},"Punteggio triennio precedente",{"$nulls":16},{"$f":"Z16","v":{"v":0,"d":"0.000"}}]
[]
[{"$nulls":9},"Totale titoli culturali aggiuntivi",{"$nulls":16},{"$f":"AL25","v":{"v":0,"d":"0.000"}}]
[]
[{"$nulls":9},"Totale titoli di servizio specifico statale",{"$nulls":16},{"$f":"SUM(N45,AH45,N61,AH61)","v":{"v":0,"d":"0.000"}}]
[{"$nulls":9},"Totale titoli di servizio non statale",{"$nulls":16},{"$f":"SUM(N80,AH80,N96,AH96)","v":{"v":0,"d":"0.000"}}]
[{"$nulls":9},"Totale titoli di altro servizio statale",{"$nulls":16},{"$f":"SUM(N115,AH115,N131,AH131)","v":{"v":0,"d":"0.000"}}]
[{"$nulls":9},"Totale titoli di altro servizio non statale",{"$nulls":16},{"$f":"SUM(N150,AH150,N166,AH166)","v":{"v":0,"d":"0.000"}}]
[{"$nulls":9},"Totale titoli di servizio altre amministrazioni",{"$nulls":16},{"$f":"SUM(N185,AH185,N201,AH201)","v":{"v":0,"d":"0.000"}}]
[{"$nulls":9},"Totale titoli di servizio ",{"$nulls":16},{"$f":"SUM(AA220:AC224)","v":{"v":0,"d":"0.000"}}]
[]
[{"$nulls":9},"TOTALE generale",{"$nulls":16},{"$f":"SUM(AA216,AA218,AA225,)","v":{"v":0,"d":"0.000"}}]
[]
[]
[{"$nulls":35},"©","Francesco Gioffreda"]

{"sheet":"tab_tec","index":3,"n_rows":56,"n_cols":2,"rows_kept":56,"hidden":true}
["SI"]
["NO"]
[]
["Scegli certificazione precedentemente conseguita",{"v":0,"d":"0.00"}]
["ECDL Core",{"v":0.5,"d":"0.50"}]
["ECDL Advanced",0.55]
["ECDL Specialised",{"v":0.6,"d":"0.60"}]
["NUOVA ECDL Base",{"v":0.5,"d":"0.50"}]
["NUOVA ECDL Advanced",0.55]
["NUOVA ECDL Specialised",{"v":0.6,"d":"0.60"}]
["NUOVA ECDL Professional",{"v":0.6,"d":"0.60"}]
["MICROSOFT MCAD o equivalente",{"v":0.5,"d":"0.50"}]
["MICROSOFT MCSD o equivalente",0.55]
["MICROSOFT MCDBA o equivalente",{"v":0.6,"d":"0.60"}]
["EUCIP",{"v":0.6,"d":"0.60"}]
["IC3",{"v":0.6,"d":"0.60"}]
["MOUS (Microsoft Office User Specialist)",{"v":0.6,"d":"0.60"}]
["CISCO (Cisco System)",{"v":0.6,"d":"0.60"}]
["PEKIT",{"v":0.6,"d":"0.60"}]
["EIPASS",{"v":0.6,"d":"0.60"}]
["EIRSAF Full",{"v":0.6,"d":"0.60"}]
["EIRSAF Four",{"v":0.5,"d":"0.50"}]
["EIRSAF Green",{"v":0.5,"d":"0.50"}]
["IIQ 7 Moduli",{"v":0.5,"d":"0.50"}]
["IIQ 7 Moduli + 1 Skill Base",0.55]
["IIQ 4 Moduli Advanced Level",{"v":0.6,"d":"0.60"}]
["IDCert Digital Competence",{"v":0.5,"d":"0.50"}]
["IDCert Digital Competence Advanced",0.55]
["IDCert Digital Competence Specialized",{"v":0.6,"d":"0.60"}]
[]
["Scegli nuova certificazione conseguita",{"v":0,"d":"0.00"}]
["ECDL Core",{"v":0.5,"d":"0.50"}]
["ECDL Advanced",0.55]
["ECDL Specialised",{"v":0.6,"d":"0.60"}]
["NUOVA ECDL Base",{"v":0.5,"d":"0.50"}]
["NUOVA ECDL Advanced",0.55]
["NUOVA ECDL Specialised",{"v":0.6,"d":"0.60"}]
["NUOVA ECDL Professional",{"v":0.6,"d":"0.60"}]
["MICROSOFT MCAD o equivalente",{"v":0.5,"d":"0.50"}]
["MICROSOFT MCSD o equivalente",0.55]
["MICROSOFT MCDBA o equivalente",{"v":0.6,"d":"0.60"}]
["EUCIP",{"v":0.6,"d":"0.60"}]
["IC3",{"v":0.6,"d":"0.60"}]
["MOUS (Microsoft Office User Specialist)",{"v":0.6,"d":"0.60"}]
["CISCO (Cisco System)",{"v":0.6,"d":"0.60"}]
["PEKIT",{"v":0.6,"d":"0.60"}]
["EIPASS",{"v":0.6,"d":"0.60"}]
["EIRSAF Full",{"v":0.6,"d":"0.60"}]
["EIRSAF Four",{"v":0.5,"d":"0.50"}]
["EIRSAF Green",{"v":0.5,"d":"0.50"}]
["IIQ 7 Moduli",{"v":0.5,"d":"0.50"}]
["IIQ 7 Moduli + 1 Skill Base",0.55]
["IIQ 4 Moduli Advanced Level",{"v":0.6,"d":"0.60"}]
["IDCert Digital Competence",{"v":0.5,"d":"0.50"}]
["IDCert Digital Competence Advanced",0.55]
["IDCert Digital Competence Specialized",{"v":0.6,"d":"0.60"}]

{"sheet":"tab_cuo","index":4,"n_rows":56,"n_cols":2,"rows_kept":56,"hidden":true}
["SI"]
["NO"]
[]
["Scegli certificazione precedentemente conseguita",{"v":0,"d":"0.00"}]
["ECDL Core",0.25]
["ECDL Advanced",0.28]
["ECDL Specialised",{"v":0.3,"d":"0.30"}]
["NUOVA ECDL Base",0.25]
["NUOVA ECDL Advanced",0.28]
["NUOVA ECDL Specialised",{"v":0.3,"d":"0.30"}]
["NUOVA ECDL Professional",{"v":0.3,"d":"0.30"}]
["MICROSOFT MCAD o equivalente",0.25]
["MICROSOFT MCSD o equivalente",0.28]
["MICROSOFT MCDBA o equivalente",{"v":0.3,"d":"0.30"}]
["EUCIP",{"v":0.3,"d":"0.30"}]
["IC3",{"v":0.3,"d":"0.30"}]
["MOUS (Microsoft Office User Specialist)",{"v":0.3,"d":"0.30"}]
["CISCO (Cisco System)",{"v":0.3,"d":"0.30"}]
["PEKIT",{"v":0.3,"d":"0.30"}]
["EIPASS",{"v":0.3,"d":"0.30"}]
["EIRSAF Full",{"v":0.3,"d":"0.30"}]
["EIRSAF Four",0.25]
["EIRSAF Green",0.25]
["IIQ 7 Moduli",0.25]
["IIQ 7 Moduli + 1 Skill Base",0.28]
["IIQ 4 Moduli Advanced Level",{"v":0.3,"d":"0.30"}]
["IDCert Digital Competence",0.25]
["IDCert Digital Competence Advanced",0.28]
["IDCert Digital Competence Specialized",{"v":0.3,"d":"0.30"}]
[]
["Scegli nuova certificazione conseguita",{"v":0,"d":"0.00"}]
["ECDL Core",0.25]
["ECDL Advanced",0.28]
["ECDL Specialised",{"v":0.3,"d":"0.30"}]
["NUOVA ECDL Base",0.25]
["NUOVA ECDL Advanced",0.28]
["NUOVA ECDL Specialised",{"v":0.3,"d":"0.30"}]
["NUOVA ECDL Professional",{"v":0.3,"d":"0.30"}]
["MICROSOFT MCAD o equivalente",0.25]
["MICROSOFT MCSD o equivalente",0.28]
["MICROSOFT MCDBA o equivalente",{"v":0.3,"d":"0.30"}]
["EUCIP",{"v":0.3,"d":"0.30"}]
["IC3",{"v":0.3,"d":"0.30"}]
["MOUS (Microsoft Office User Specialist)",{"v":0.3,"d":"0.30"}]
["CISCO (Cisco System)",{"v":0.3,"d":"0.30"}]
["PEKIT",{"v":0.3,"d":"0.30"}]
["EIPASS",{"v":0.3,"d":"0.30"}]
["EIRSAF Full",{"v":0.3,"d":"0.30"}]
["EIRSAF Four",0.25]
["EIRSAF Green",0.25]
["IIQ 7 Moduli",0.25]
["IIQ 7 Moduli + 1 Skill Base",0.28]
["IIQ 4 Moduli Advanced Level",{"v":0.3,"d":"0.30"}]
["IDCert Digital Competence",0.25]
["IDCert Digital Competence Advanced",0.28]
["IDCert Digital Competence Specialized",{"v":0.3,"d":"0.30"}]

{"sheet":"COLL","index":5,"n_rows":232,"n_cols":38,"rows_kept":232,"merged":[[7,1,7,39],[8,1,8,2],[8,3,8,39],[9,1,9,2],[9,3,9,39],[10,1,10,2],[10,3,10,5],[10,6,10,7],[10,8,10,39],[11,1,11,2],[11,3,11,5],[11,6,11,7],[11,8,11,39],[12,1,12,39],[13,1,13,10],[13,11,13,39],[14,1,14,39],[15,1,15,24],[15,25,15,39],[16,1,16,39],[18,1,18,21],[18,22,24,22],[18,23,18,39],[19,1,19,21],[19,23,19,34],[20,1,20,13],[20,23,20,34],[21,1,22,13],[21,14,22,15],[21,16,22,17],[21,18,22,19],[21,20,22,21],[21,23,21,34],[22,23,22,35],[23,1,23,13],[23,14,23,15],[23,16,23,17],[23,18,23,19],[23,20,23,21],[23,23,23,35],[23,37,23,39],[24,1,24,19],[24,20,24,21],[24,23,24,36],[26,1,26,39],[27,1,27,39],[28,1,28,39],[29,1,29,39],[31,24,31,26],[31,28,41,30],[31,31,31,33],[31,34,31,36],[32,24,32,26],[32,31,32,33],[32,34,32,36],[33,24,33,26],[33,31,33,33],[33,34,33,36],[34,24,34,26],[34,31,34,33],[34,34,34,36],[35,24,35,26],[35,31,35,33],[36,24,36,26],[36,31,36,33],[37,24,37,26],[37,31,37,33],[38,24,38,26],[38,31,38,33],[39,24,39,26],[39,31,39,33],[40,24,40,26],[40,31,40,33],[41,24,41,26],[42,8,42,10],[42,17,44,19],[42,33,42,36],[42,37,44,39],[43,13,43,16],[43,33,43,36],[44,13,44,16],[44,21,44,32],[44,33,44,36],[45,1,45,39],[46,20,60,20],[47,24,47,26],[47,28,57,30],[47,31,47,33],[47,34,47,36],[48,24,48,26],[48,31,48,33],[48,34,48,36],[49,24,49,26],[49,31,49,33],[49,34,49,36],[50,24,50,26],[50,31,50,33],[50,34,50,36],[51,24,51,26],[51,31,51,33],[51,34,51,36],[52,24,52,26],[52,31,52,33],[52,34,52,36],[53,24,53,26],[53,31,53,33],[53,34,53,36],[54,24,54,26],[54,31,54,33],[58,13,58,16],[58,17,60,19],[58,33,58,36],[58,37,60,39],[59,1,59,7],[59,33,59,36],[60,1,60,12],[60,13,60,16],[60,21,60,32],[60,33,60,36],[61,1,61,39],[62,1,62,39],[63,1,63,39],[64,1,64,39],[65,20,95,20],[66,24,66,26],[66,28,76,30],[66,31,66,33],[73,37,73,39],[74,1,74,3],[74,4,74,6],[74,11,74,13],[74,14,74,16],[77,13,77,16],[77,17,79,19],[77,33,77,36],[77,37,79,39],[78,13,78,16],[78,21,78,27],[78,31,78,32],[78,33,78,36],[79,1,79,12],[79,13,79,16],[79,21,79,32],[79,33,79,36],[80,1,80,19],[80,21,80,39],[82,24,82,26],[82,28,92,30],[82,31,82,33],[82,34,82,36],[83,24,83,26],[83,31,83,33],[83,34,83,36],[84,24,84,26],[84,31,84,33],[84,34,84,36],[85,24,85,26],[85,31,85,33],[85,34,85,36],[86,24,86,26],[86,31,86,33],[86,34,86,36],[87,24,87,26],[87,31,87,33],[87,34,87,36],[93,1,93,7],[93,11,93,12],[93,13,93,16],[93,17,95,19],[93,31,93,32],[93,33,93,36],[93,37,95,39],[94,1,94,7],[94,11,94,12],[94,13,94,16],[94,21,94,27],[94,31,94,32],[94,33,94,36],[95,1,95,12],[95,13,95,16],[95,21,95,32],[95,33,95,36],[96,1,96,39],[97,1,97,39],[98,1,98,39],[99,1,99,39],[100,1,100,19],[100,20,130,20],[100,21,100,39],[101,8,111,10],[101,11,101,13],[101,14,101,16],[101,17,101,19],[101,21,101,23],[101,24,101,26],[101,28,111,30],[101,31,101,33],[101,34,101,36],[101,37,101,39],[102,1,102,3],[102,11,102,13],[102,14,102,16],[102,17,102,19],[102,21,102,23],[102,24,102,26],[102,31,102,33],[102,34,102,36],[102,37,102,39],[103,1,103,3],[103,4,103,6],[103,11,103,13],[103,14,103,16],[103,17,103,19],[103,21,103,23],[103,24,103,26],[103,31,103,33],[103,34,103,36],[103,37,103,39],[104,1,104,3],[104,4,104,6],[104,11,104,13],[104,14,104,16],[104,17,104,19],[104,21,104,23],[104,24,104,26],[104,31,104,33],[104,34,104,36],[104,37,104,39],[105,1,105,3],[105,4,105,6],[105,11,105,13],[105,14,105,16],[105,17,105,19],[105,21,105,23],[105,24,105,26],[105,31,105,33],[105,34,105,36],[105,37,105,39],[106,1,106,3],[106,4,106,6],[106,11,106,13],[106,14,106,16],[106,17,106,19],[106,21,106,23],[106,24,106,26],[106,31,106,33],[106,34,106,36],[106,37,106,39],[107,1,107,3],[107,4,107,6],[107,11,107,13],[107,14,107,16],[107,17,107,19],[107,21,107,23],[107,24,107,26],[107,31,107,33],[107,34,107,36],[107,37,107,39],[108,1,108,3],[108,4,108,6],[108,11,108,13],[108,14,108,16],[108,17,108,19],[108,21,108,23],[108,24,108,26],[108,31,108,33],[108,34,108,36],[108,37,108,39],[109,1,109,3],[109,4,109,6],[109,11,109,13],[109,14,109,16],[109,17,109,19],[109,21,109,23],[109,24,109,26],[109,31,109,33],[109,34,109,36],[109,37,109,39],[110,1,110,3],[110,4,110,6],[110,11,110,13],[110,14,110,16],[110,17,110,19],[110,21,110,23],[110,24,110,26],[110,31,110,33],[110,34,110,36],[110,37,110,39],[111,1,111,3],[111,4,111,6],[111,11,111,13],[111,14,111,16],[111,17,111,19],[111,21,111,23],[111,24,111,26],[111,31,111,33],[111,34,111,36],[111,37,111,39],[112,1,112,7],[112,11,112,12],[112,13,112,16],[112,17,114,19],[112,21,112,27],[112,31,112,32],[112,33,112,36],[112,37,114,39],[113,1,113,7],[113,11,113,12],[113,13,113,16],[113,21,113,27],[113,31,113,32],[113,33,113,36],[114,1,114,12],[114,13,114,16],[114,21,114,32],[114,33,114,36],[115,1,115,19],[115,21,115,39],[116,1,116,19],[116,21,116,39],[117,1,117,3],[117,4,117,6],[117,8,127,10],[117,11,117,13],[117,14,117,16],[117,17,117,19],[117,21,117,23],[117,24,117,26],[117,28,127,30],[117,31,117,33],[117,34,117,36],[117,37,117,39],[118,1,118,3],[118,4,118,6],[118,11,118,13],[118,14,118,16],[118,17,118,19],[118,21,118,23],[118,24,118,26],[118,31,118,33],[118,34,118,36],[118,37,118,39],[119,1,119,3],[119,4,119,6],[119,11,119,13],[119,14,119,16],[119,17,119,19],[119,21,119,23],[119,24,119,26],[119,31,119,33],[119,34,119,36],[119,37,119,39],[120,1,120,3],[120,4,120,6],[120,11,120,13],[120,14,120,16],[120,17,120,19],[120,21,120,23],[120,24,120,26],[120,31,120,33],[120,34,120,36],[120,37,120,39],[121,1,121,3],[121,4,121,6],[121,11,121,13],[121,14,121,16],[121,17,121,19],[121,21,121,23],[121,24,121,26],[121,31,121,33],[121,34,121,36],[121,37,121,39],[122,1,122,3],[122,4,122,6],[122,11,122,13],[122,14,122,16],[122,17,122,19],[122,21,122,23],[122,24,122,26],[122,31,122,33],[122,34,122,36],[122,37,122,39],[123,1,123,3],[123,4,123,6],[123,11,123,13],[123,14,123,16],[123,17,123,19],[123,21,123,23],[123,24,123,26],[123,31,123,33],[123,34,123,36],[123,37,123,39],[124,1,124,3],[124,4,124,6],[124,11,124,13],[124,14,124,16],[124,17,124,19],[124,21,124,23],[124,24,124,26],[124,31,124,33],[124,34,124,36],[124,37,124,39],[125,1,125,3],[125,4,125,6],[125,11,125,13],[125,14,125,16],[125,17,125,19],[125,21,125,23],[125,24,125,26],[125,31,125,33],[125,34,125,36],[125,37,125,39],[126,1,126,3],[126,4,126,6],[126,11,126,13],[126,14,126,16],[126,17,126,19],[126,21,126,23],[126,24,126,26],[126,31,126,33],[126,34,126,36],[126,37,126,39],[127,1,127,3],[127,4,127,6],[127,11,127,13],[127,14,127,16],[127,17,127,19],[127,21,127,23],[127,24,127,26],[127,31,127,33],[127,34,127,36],[127,37,127,39],[128,1,128,7],[128,8,128,10],[128,11,128,12],[128,13,128,16],[128,17,130,19],[128,21,128,27],[128,28,128,30],[128,31,128,32],[128,33,128,36],[128,37,130,39],[129,1,129,7],[129,11,129,12],[129,13,129,16],[129,21,129,27],[129,31,129,32],[129,33,129,36],[130,1,130,12],[130,13,130,16],[130,21,130,32],[130,33,130,36],[131,1,131,39],[132,1,132,39],[133,1,133,39],[134,1,134,39],[135,1,135,19],[135,20,165,20],[135,21,135,39],[136,1,136,3],[136,4,136,6],[136,8,146,10],[136,11,136,13],[136,14,136,16],[136,17,136,19],[136,21,136,23],[136,24,136,26],[136,28,146,30],[136,31,136,33],[136,34,136,36],[136,37,136,39],[137,1,137,3],[137,4,137,6],[137,11,137,13],[137,14,137,16],[137,31,137,33],[137,34,137,36],[137,37,137,39],[138,34,138,36],[138,37,138,39],[139,1,139,3],[139,4,139,6],[139,11,139,13],[139,14,139,16],[139,17,139,19],[139,34,139,36],[139,37,139,39],[140,1,140,3],[140,4,140,6],[140,31,140,33],[140,34,140,36],[140,37,140,39],[141,1,141,3],[141,4,141,6],[141,11,141,13],[141,14,141,16],[141,17,141,19],[141,21,141,23],[141,24,141,26],[141,31,141,33],[141,34,141,36],[141,37,141,39],[142,1,142,3],[142,4,142,6],[142,11,142,13],[142,14,142,16],[142,17,142,19],[142,21,142,23],[142,24,142,26],[142,31,142,33],[142,34,142,36],[142,37,142,39],[143,1,143,3],[143,4,143,6],[143,11,143,13],[143,14,143,16],[143,17,143,19],[143,21,143,23],[143,24,143,26],[143,31,143,33],[143,34,143,36],[143,37,143,39],[144,1,144,3],[144,4,144,6],[144,11,144,13],[144,14,144,16],[144,17,144,19],[144,21,144,23],[144,24,144,26],[144,31,144,33],[144,34,144,36],[144,37,144,39],[145,1,145,3],[145,4,145,6],[145,11,145,13],[145,14,145,16],[145,17,145,19],[145,21,145,23],[145,24,145,26],[145,31,145,33],[145,34,145,36],[145,37,145,39],[146,1,146,3],[146,4,146,6],[146,11,146,13],[146,14,146,16],[146,17,146,19],[146,21,146,23],[146,24,146,26],[146,31,146,33],[146,34,146,36],[146,37,146,39],[147,1,147,7],[147,11,147,12],[147,13,147,16],[147,17,149,19],[147,21,147,27],[147,31,147,32],[147,33,147,36],[147,37,149,39],[148,1,148,7],[148,11,148,12],[148,13,148,16],[148,21,148,27],[148,31,148,32],[148,33,148,36],[149,13,149,16],[149,33,149,36],[152,1,152,3],[152,4,152,6],[152,8,162,10],[152,11,152,13],[152,14,152,16],[152,17,152,19],[152,21,152,23],[152,24,152,26],[152,28,162,30],[152,31,152,33],[152,34,152,36],[152,37,152,39],[153,1,153,3],[153,4,153,6],[153,11,153,13],[153,14,153,16],[153,17,153,19],[153,21,153,23],[153,24,153,26],[153,31,153,33],[153,34,153,36],[153,37,153,39],[154,1,154,3],[154,4,154,6],[154,11,154,13],[154,14,154,16],[154,17,154,19],[154,21,154,23],[154,24,154,26],[154,31,154,33],[154,34,154,36],[154,37,154,39],[155,1,155,3],[155,4,155,6],[155,11,155,13],[155,14,155,16],[155,17,155,19],[155,21,155,23],[155,24,155,26],[155,31,155,33],[155,34,155,36],[155,37,155,39],[156,1,156,3],[156,4,156,6],[156,11,156,13],[156,14,156,16],[156,17,156,19],[156,21,156,23],[156,24,156,26],[156,31,156,33],[156,34,156,36],[156,37,156,39],[157,1,157,3],[157,4,157,6],[157,11,157,13],[157,14,157,16],[157,17,157,19],[157,21,157,23],[157,24,157,26],[157,31,157,33],[157,34,157,36],[157,37,157,39],[158,1,158,3],[158,4,158,6],[158,11,158,13],[158,14,158,16],[158,17,158,19],[158,21,158,23],[158,24,158,26],[158,31,158,33],[158,34,158,36],[158,37,158,39],[159,1,159,3],[159,4,159,6],[159,11,159,13],[159,14,159,16],[159,17,159,19],[159,21,159,23],[159,24,159,26],[159,31,159,33],[159,34,159,36],[159,37,159,39],[160,1,160,3],[160,4,160,6],[160,11,160,13],[160,14,160,16],[160,17,160,19],[160,21,160,23],[160,24,160,26],[160,31,160,33],[160,34,160,36],[160,37,160,39],[161,1,161,3],[161,4,161,6],[161,11,161,13],[161,14,161,16],[161,17,161,19],[161,21,161,23],[161,24,161,26],[161,31,161,33],[161,34,161,36],[161,37,161,39],[162,1,162,3],[162,4,162,6],[162,11,162,13],[162,14,162,16],[162,17,162,19],[162,21,162,23],[162,24,162,26],[162,31,162,33],[162,34,162,36],[162,37,162,39],[163,1,163,7],[163,8,163,10],[163,11,163,12],[163,13,163,16],[163,17,165,19],[163,21,163,27],[163,28,163,30],[163,31,163,32],[163,33,163,36],[163,37,165,39],[164,1,164,7],[164,11,164,12],[164,13,164,16],[164,21,164,27],[164,31,164,32],[164,33,164,36],[165,1,165,12],[165,13,165,16],[165,21,165,32],[165,33,165,36],[166,1,166,39],[167,1,167,39],[168,1,168,39],[169,1,169,39],[170,1,170,19],[170,20,200,20],[170,21,170,39],[171,1,171,3],[171,4,171,6],[171,8,181,10],[171,11,171,13],[171,14,171,16],[171,17,171,19],[171,21,171,23],[171,24,171,26],[171,28,181,30],[171,31,171,33],[171,34,171,36],[171,37,171,39],[172,1,172,3],[172,4,172,6],[172,11,172,13],[172,14,172,16],[172,17,172,19],[172,21,172,23],[172,24,172,26],[172,31,172,33],[172,34,172,36],[172,37,172,39],[173,1,173,3],[173,4,173,6],[173,11,173,13],[173,14,173,16],[173,17,173,19],[173,21,173,23],[173,24,173,26],[173,31,173,33],[173,34,173,36],[173,37,173,39],[174,1,174,3],[174,4,174,6],[174,11,174,13],[174,14,174,16],[174,17,174,19],[174,21,174,23],[174,24,174,26],[174,31,174,33],[174,34,174,36],[174,37,174,39],[175,1,175,3],[175,4,175,6],[175,11,175,13],[175,14,175,16],[175,17,175,19],[175,21,175,23],[175,24,175,26],[175,31,175,33],[175,34,175,36],[175,37,175,39],[176,1,176,3],[176,4,176,6],[176,11,176,13],[176,14,176,16],[176,17,176,19],[176,21,176,23],[176,24,176,26],[176,31,176,33],[176,34,176,36],[176,37,176,39],[177,1,177,3],[177,4,177,6],[177,11,177,13],[177,14,177,16],[177,17,177,19],[177,21,177,23],[177,24,177,26],[177,31,177,33],[177,34,177,36],[177,37,177,39],[178,1,178,3],[178,4,178,6],[178,11,178,13],[178,14,178,16],[178,17,178,19],[178,21,178,23],[178,24,178,26],[178,31,178,33],[178,34,178,36],[178,37,178,39],[179,1,179,3],[179,4,179,6],[179,11,179,13],[179,14,179,16],[179,17,179,19],[179,21,179,23],[179,24,179,26],[179,31,179,33],[179,34,179,36],[179,37,179,39],[180,1,180,3],[180,4,180,6],[180,11,180,13],[180,14,180,16],[180,17,180,19],[180,21,180,23],[180,24,180,26],[180,31,180,33],[180,34,180,36],[180,37,180,39],[181,1,181,3],[181,4,181,6],[181,11,181,13],[181,14,181,16],[181,21,181,23],[181,24,181,26],[181,31,181,33],[182,8,182,10],[182,11,182,12],[182,13,182,16],[182,17,184,19],[182,21,182,27],[182,31,182,32],[182,33,182,36],[182,37,184,39],[183,1,183,7],[183,11,183,12],[183,13,183,16],[183,21,183,27],[183,28,183,30],[183,31,183,32],[183,33,183,36],[184,1,184,12],[184,13,184,16],[184,21,184,32],[184,33,184,36],[185,1,185,19],[185,21,185,39],[186,1,186,19],[186,21,186,39],[187,1,187,3],[187,4,187,6],[187,8,197,10],[187,11,187,13],[187,14,187,16],[187,17,187,19],[187,21,187,23],[187,24,187,26],[187,28,197,30],[187,31,187,33],[187,34,187,36],[187,37,187,39],[188,1,188,3],[188,4,188,6],[188,11,188,13],[188,14,188,16],[188,17,188,19],[188,21,188,23],[188,24,188,26],[188,31,188,33],[188,34,188,36],[188,37,188,39],[189,1,189,3],[189,4,189,6],[189,11,189,13],[189,14,189,16],[189,17,189,19],[189,21,189,23],[189,24,189,26],[189,31,189,33],[189,34,189,36],[189,37,189,39],[190,1,190,3],[190,4,190,6],[190,11,190,13],[190,14,190,16],[190,17,190,19],[190,21,190,23],[190,24,190,26],[190,31,190,33],[190,34,190,36],[190,37,190,39],[191,1,191,3],[191,4,191,6],[191,11,191,13],[191,14,191,16],[191,17,191,19],[191,21,191,23],[191,24,191,26],[191,31,191,33],[191,34,191,36],[191,37,191,39],[192,1,192,3],[192,4,192,6],[192,11,192,13],[192,14,192,16],[192,17,192,19],[192,21,192,23],[192,24,192,26],[192,31,192,33],[192,34,192,36],[192,37,192,39],[193,1,193,3],[193,4,193,6],[193,11,193,13],[193,14,193,16],[193,17,193,19],[193,21,193,23],[193,24,193,26],[193,31,193,33],[193,34,193,36],[193,37,193,39],[194,1,194,3],[194,4,194,6],[194,11,194,13],[194,14,194,16],[194,17,194,19],[194,21,194,23],[194,24,194,26],[194,31,194,33],[194,34,194,36],[194,37,194,39],[195,1,195,3],[195,4,195,6],[195,11,195,13],[195,14,195,16],[195,17,195,19],[195,21,195,23],[195,24,195,26],[195,31,195,33],[195,34,195,36],[195,37,195,39],[196,1,196,3],[196,4,196,6],[196,11,196,13],[196,14,196,16],[196,17,196,19],[196,21,196,23],[196,24,196,26],[196,31,196,33],[196,34,196,36],[196,37,196,39],[197,1,197,3],[197,4,197,6],[197,11,197,13],[197,14,197,16],[197,17,197,19],[197,21,197,23],[197,24,197,26],[197,31,197,33],[197,34,197,36],[197,37,197,39],[198,1,198,7],[198,11,198,12],[198,13,198,16],[198,17,200,19],[198,21,198,27],[198,31,198,32],[198,33,198,36],[198,37,200,39],[199,1,199,7],[199,11,199,12],[199,13,199,16],[199,21,199,27],[199,31,199,32],[199,33,199,36],[200,1,200,12],[200,13,200,16],[200,21,200,32],[200,33,200,36],[201,1,201,39],[202,0,202,40],[203,0,207,40],[210,0,210,40],[212,3,212,11],[212,12,212,37],[214,9,214,28],[215,9,215,25],[215,26,215,28],[216,9,216,28],[217,9,217,25],[217,26,217,28],[218,9,218,28],[219,9,219,25],[219,26,219,28],[220,9,220,28],[221,9,221,25],[221,26,221,28],[222,9,222,25],[222,26,222,28],[223,9,223,25],[223,26,223,28],[224,9,224,25],[224,26,224,28],[225,9,225,25],[225,26,225,28],[226,9,226,25],[226,26,226,28],[227,9,227,28],[228,9,229,25],[228,26,229,28]],"merged_total":1484,"flags":["merged_cut"]}
[]
[]
[]
[]
[]
[]
[null,"CALCOLO PUNTEGGIO GRADUATORIE DI ISTITUTO - COLLABORATORE SCOLASTICO"]
[]
[null,"Nota 1: ",null,"In caso di periodi coincidenti (es servizi parte time) è necessario inserirne solo uno"]
[null,"Nota 2: ",null,"Nel servizio svolto inserire la data nel formato giorno/mese/anno oppure giorno-mese-anno"]
[null,"Nota 3: ",null,"Caselle ",{"$nulls":4}," inserimento valori con menu a tendina"]
[null,"Nota 4: ",null,"Caselle ",{"$nulls":4}," inserimento valori da tastiera"]
[]
[null,"Cognome e Nome"]
[]
[null,"Punteggio totale assegnato nel triennio precedente"]
[]
[null,"TITOLI  DI CULTURA DOPO L'ULTIMO AGGIORNAMENTO/INSERIMENTO"]
[null,"TITOLO DI ACCESSO",{"$nulls":21},"TITOLI  DI CULTURA CONSEGUITI  "]
[null,"(da compilare solo per variazione titolo di accesso)",{"$nulls":21},"Tipologia titoli posseduti",{"$nulls":11},"Si/No",null,"punti"]
[null,"Tipologia",{"$nulls":12},"voto / giudizio ",{"$nulls":5},"punti",null,null,"Qualifica corso socio-assistenziale",{"$nulls":13},{"$f":"IF(AJ21=\"SI\",1,0)","v":{"v":0,"d":"0.00"}}]
[null,"Scegli titolo di accesso precedentemente inserito",{"$nulls":14},"su",{"$nulls":3},{"$f":"IF(O22=0,0, O22*10/S22)","v":{"v":0,"d":"0.00"}},null,null,"Qualifica corso socio-sanitari",{"$nulls":13},{"$f":"IF(AJ22=\"SI\",1,0)","v":{"v":0,"d":"0.00"}}]
[{"$nulls":23},"Scegli certificazione precedentemente inserita",{"$nulls":13},{"$f":"VLOOKUP(X23,tab_coll!A12:B38,2,FALSE)","v":{"v":0,"d":"0.00"}}]
[null,"Scegli nuovo titolo di accesso",{"$nulls":14},"su",{"$nulls":3},{"$f":"IF(O24=0,0, O24*10/S24)","v":{"v":0,"d":"0.00"}},null,null,"Scegli nuova certificazione conseguita",{"$nulls":13},{"$f":"VLOOKUP(X24,tab_coll!A40:B65,2,FALSE)","v":{"v":0,"d":"0.00"}}]
[null,"Punteggio aggiuntivo titolo di accesso",{"$nulls":18},{"$f":"U24-U22","v":{"v":0,"d":"0.00"}},null,null,"Totale titoli di cultura aggiuntivi",{"$nulls":13},{"$f":"AL21+AL22+AL24-AL23","v":{"v":0,"d":"0.00"}}]
[null,"SERVIZIO SVOLTO SUCCESSIVAMENTE ALLA DATA DEL 30/10/2017"]
[]
[null,"Servizio specifico statale (per ogni mese o frazione superiore a 15 giorni): 0,50"]
[null,"Servizio prestato in qualità di collaboratore scolastico in:\na) scuole dell'infanzia statali, delle Regioni Sicilia e Val d'Aosta, delle province autonome di Trento e Bolzano;\nb) Scuole primarie statali;\nc) Scuole di istruzione secondaria o artistica statali, nelle istituzioni scolastiche e culturali italiane all'estero, nelle istituzioni convittuali"]
[]
[null,"Servizio svolto nell' a.s. 2017/2018",{"$nulls":19},"Servizio svolto nell' a.s. 2018/2019"]
[null,"DAL",null,null,"AL",null,null,"TOT GG",{"$nulls":3},"DAL",null,null,"AL",null,null,"TOT GG",{"$nulls":3},"DAL",null,null,"AL",null,null,"TOT GG",{"$nulls":3},"DAL",null,null,"AL",null,null,"TOT GG"]
[{"$nulls":7},{"$f":"IF(B33=0,0,DAYS360(B33,E33+1))","v":0},{"$nulls":9},{"$f":"IF(I33=0,0,DAYS360(I33,L33+1))","v":0},{"$nulls":9},{"$f":"IF(V33=0,0,DAYS360(V33,Y33+1))","v":0},{"$nulls":9},{"$f":"IF(AC33=0,0,DAYS360(AC33,AF33+1))","v":0}]
[{"$nulls":7},{"$f":"IF(B34=0,0,DAYS360(B34,E34+1))","v":0},{"$nulls":9},0,{"$nulls":9},{"$f":"IF(V34=0,0,DAYS360(V34,Y34+1))","v":0},{"$nulls":9},0]
[{"$nulls":7},0,{"$nulls":9},0,{"$nulls":9},0,{"$nulls":9},0]
[{"$nulls":7},0,{"$nulls":9},0,{"$nulls":9},0,{"$nulls":9},0]
[{"$nulls":7},0,{"$nulls":9},0,{"$nulls":9},0,{"$nulls":9},0]
[{"$nulls":7},0,{"$nulls":9},0,{"$nulls":9},0,{"$nulls":9},0]
[{"$nulls":7},0,{"$nulls":9},0,{"$nulls":9},0,{"$nulls":9},0]
[{"$nulls":7},0,{"$nulls":9},0,{"$nulls":9},0,{"$nulls":9},0]
[{"$nulls":7},0,{"$nulls":9},0,{"$nulls":9},0,{"$nulls":9},0]
[{"$nulls":7},0,{"$nulls":9},0,{"$nulls":9},0,{"$nulls":9},0]
[null,"Totale mesi 2017/2018",{"$nulls":6},{"$f":"INT(SUM(H33:H42,R33:T42,AL33:AN42)/30)","v":0},null,null,"punti",null,{"$f":"I43*0.5","v":{"v":0,"d":"0.00"}},{"$nulls":7},"Totale mesi 2018/2019",{"$nulls":6},{"$f":"INT(SUM(AB33:AB42,AL33:AN42,BF33:BH42)/30)","v":0},null,null,"punti",null,{"$f":"AC43*0.5","v":{"v":0,"d":"0.00"}}]
[null,"Totale giorni 2017/2018",{"$nulls":6},{"$f":"SUM(H33:H42,R33:T42,)-I43*30","v":0},null,null,"punti",null,{"$f":"IF(I44>15,0.5,0)","v":{"v":0,"d":"0.00"}},{"$nulls":7},"Totale giorni 2018/2019",{"$nulls":6},{"$f":"SUM(AB33:AB42,AL33:AN42,)-AC43*30","v":0},null,null,"punti",null,{"$f":"IF(AC44>15,0.5,0)","v":{"v":0,"d":"0.00"}}]
[null,"Totale titoli di servizio a.s. 2017/2018",{"$nulls":11},{"$f":"SUM(N43:O44)","v":{"v":0,"d":"0.00"}},{"$nulls":7},"Totale titoli di servizio a.s. 2018/2019",{"$nulls":11},{"$f":"SUM(AH43:AI44)","v":{"v":0,"d":"0.00"}}]
[]
[null,"Servizio svolto nell' a.s. 2019/2020",{"$nulls":19},"Servizio svolto nell' a.s. 2020/2021"]
[null,"DAL",null,null,"AL",null,null,"TOT GG",{"$nulls":3},"DAL",null,null,"AL",null,null,"TOT GG",{"$nulls":3},"DAL",null,null,"AL",null,null,"TOT GG",{"$nulls":3},"DAL",null,null,"AL",null,null,"TOT GG"]
[{"$nulls":7},{"$f":"IF(B49=0,0,DAYS360(B49,E49+1))","v":0},{"$nulls":9},{"$f":"IF(I49=0,0,DAYS360(I49,L49+1))","v":0},{"$nulls":9},{"$f":"IF(V49=0,0,DAYS360(V49,Y49+1))","v":0},{"$nulls":9},{"$f":"IF(AC49=0,0,DAYS360(AC49,AF49+1))","v":0}]
[{"$nulls":7},{"$f":"IF(B50=0,0,DAYS360(B50,E50+1))","v":0},{"$nulls":9},0,{"$nulls":9},{"$f":"IF(V50=0,0,DAYS360(V50,Y50+1))","v":0},{"$nulls":9},0]
[{"$nulls":7},0,{"$nulls":9},0,{"$nulls":9},0,{"$nulls":9},0]
[{"$nulls":7},0,{"$nulls":9},0,{"$nulls":9},0,{"$nulls":9},0]
[{"$nulls":7},0,{"$nulls":9},0,{"$nulls":9},0,{"$nulls":9},0]
[{"$nulls":7},0,{"$nulls":9},0,{"$nulls":9},0,{"$nulls":9},0]
[{"$nulls":7},0,{"$nulls":9},0,{"$nulls":9},0,{"$nulls":9},0]
[{"$nulls":7},0,{"$nulls":9},0,{"$nulls":9},0,{"$nulls":9},0]
[{"$nulls":7},0,{"$nulls":9},0,{"$nulls":9},0,{"$nulls":9},0]
[{"$nulls":7},0,{"$nulls":9},0,{"$nulls":9},0,{"$nulls":9},0]
[null,"Totale mesi 2019/2020",{"$nulls":6},{"$f":"INT(SUM(H49:H58,R49:T58,AL49:AN58)/30)","v":0},null,null,"punti",null,{"$f":"I59*0.5","v":{"v":0,"d":"0.00"}},{"$nulls":7},"Totale mesi 2020/2021",{"$nulls":6},{"$f":"INT(SUM(AB49:AB58,AL49:AN58,)/30)","v":0},null,null,"punti",null,{"$f":"AC59*0.5","v":{"v":0,"d":"0.00"}}]
[null,"Totale giorni 2019/2020",{"$nulls":6},{"$f":"SUM(H49:H58,R49:T58,)-I59*30","v":0},null,null,"punti",null,{"$f":"IF(I60>15,0.5,0)","v":{"v":0,"d":"0.00"}},{"$nulls":7},"Totale giorni 2020/2021",{"$nulls":6},{"$f":"SUM(AB49:AB58,AL49:AN58)-AC59*30","v":0},null,null,"punti",null,{"$f":"IF(AC60>15,0.5,0)","v":{"v":0,"d":"0.00"}}]
[null,"Totale titoli di servizio a.s. 2019/2020",{"$nulls":11},{"$f":"SUM(N59:O60)","v":{"v":0,"d":"0.00"}},{"$nulls":7},"Totale titoli di servizio a.s. 2020/2021",{"$nulls":11},{"$f":"SUM(AH59:AI60)","v":{"v":0,"d":"0.00"}}]
[]
[null,"Servizio non statale (per ogni mese o frazione superiore a 15 giorni): 0,25"]
[null,"Servizio prestato in qualità di collaboratore scolastico in:\na) scuole dell'infanzia non statali autorizzate;\nb) scuole primarie non statali parificate, sussidiate o sussidiarie;\nc) scuole di istruzione secondaria o artistica non statali pareggiate, legalmente riconosciute e convenzionate;\nd) scuole non statali paritarie"]
[]
[null,"Servizio svolto nell' a.s. 2017/2018",{"$nulls":19},"Servizio svolto nell' a.s. 2018/2019"]
[null,"DAL",null,null,"AL",null,null,"TOT GG",{"$nulls":3},"DAL",null,null,"AL",null,null,"TOT GG",{"$nulls":3},"DAL",null,null,"AL",null,null,"TOT GG",{"$nulls":3},"DAL",null,null,"AL",null,null,"TOT GG"]
[{"$nulls":7},{"$f":"IF(B68=0,0,DAYS360(B68,E68+1))","v":0},{"$nulls":9},{"$f":"IF(I68=0,0,DAYS360(I68,L68+1))","v":0},{"$nulls":9},{"$f":"IF(V68=0,0,DAYS360(V68,Y68+1))","v":0},{"$nulls":9},{"$f":"IF(AC68=0,0,DAYS360(AC68,AF68+1))","v":0}]
[{"$nulls":7},{"$f":"IF(B69=0,0,DAYS360(B69,E69+1))","v":0},{"$nulls":9},0,{"$nulls":9},{"$f":"IF(V69=0,0,DAYS360(V69,Y69+1))","v":0},{"$nulls":9},0]
[{"$nulls":7},0,{"$nulls":9},0,{"$nulls":9},0,{"$nulls":9},0]
[{"$nulls":7},0,{"$nulls":9},0,{"$nulls":9},0,{"$nulls":9},0]
[{"$nulls":7},0,{"$nulls":9},0,{"$nulls":9},0,{"$nulls":9},0]
[{"$nulls":7},0,{"$nulls":9},0,{"$nulls":9},0,{"$nulls":9},0]
[{"$nulls":7},0,{"$nulls":9},0,{"$nulls":9},0,{"$nulls":9},0]
[{"$nulls":7},0,{"$nulls":9},0,{"$nulls":9},0,{"$nulls":9},0]
[{"$nulls":7},0,{"$nulls":9},0,{"$nulls":9},0,{"$nulls":9},0]
[{"$nulls":7},0,{"$nulls":9},0,{"$nulls":9},0,{"$nulls":9},0]
[null,"Totale mesi 2017/2018",{"$nulls":6},{"$f":"INT(SUM(H68:H77,R68:T77,AL68:AN77)/30)","v":0},null,null,"punti",null,{"$f":"I78*0.25","v":{"v":0,"d":"0.00"}},{"$nulls":7},"Totale mesi 2018/2019",{"$nulls":6},{"$f":"INT(SUM(AB68:AB77,AL68:AN77,)/30)","v":0},null,null,"punti",null,{"$f":"AC78*0.25","v":{"v":0,"d":"0.00"}}]
[null,"Totale giorni 2017/2018",{"$nulls":6},{"$f":"SUM(H68:H77,R68:T77,)-I78*30","v":0},null,null,"punti",null,{"$f":"IF(I79>15,0.25,0)","v":{"v":0,"d":"0.00"}},{"$nulls":7},"Totale giorni 2018/2019",{"$nulls":6},{"$f":"SUM(AB68:AB77,AL68:AN77)-AC78*30","v":0},null,null,"punti",null,{"$f":"IF(AC79>15,0.25,0)","v":{"v":0,"d":"0.00"}}]
[null,"Totale titoli di servizio a.s. 2017/2018",{"$nulls":11},{"$f":"SUM(N78:O79)","v":{"v":0,"d":"0.00"}},{"$nulls":7},"Totale titoli di servizio a.s. 2018/2019",{"$nulls":11},{"$f":"SUM(AH78:AI79)","v":{"v":0,"d":"0.00"}}]
[]
[null,"Servizio svolto nell' a.s. 2019/2020",{"$nulls":19},"Servizio svolto nell' a.s. 2020/2021"]
[null,"DAL",null,null,"AL",null,null,"TOT GG",{"$nulls":3},"DAL",null,null,"AL",null,null,"TOT GG",{"$nulls":3},"DAL",null,null,"AL",null,null,"TOT GG",{"$nulls":3},"DAL",null,null,"AL",null,null,"TOT GG"]
[{"$nulls":7},{"$f":"IF(B84=0,0,DAYS360(B84,E84+1))","v":0},{"$nulls":9},{"$f":"IF(I84=0,0,DAYS360(I84,L84+1))","v":0},{"$nulls":9},{"$f":"IF(V84=0,0,DAYS360(V84,Y84+1))","v":0},{"$nulls":9},{"$f":"IF(AC84=0,0,DAYS360(AC84,AF84+1))","v":0}]
[{"$nulls":7},{"$f":"IF(B85=0,0,DAYS360(B85,E85+1))","v":0},{"$nulls":9},0,{"$nulls":9},{"$f":"IF(V85=0,0,DAYS360(V85,Y85+1))","v":0},{"$nulls":9},0]
[{"$nulls":7},0,{"$nulls":9},0,{"$nulls":9},0,{"$nulls":9},0]
[{"$nulls":7},0,{"$nulls":9},0,{"$nulls":9},0,{"$nulls":9},0]
[{"$nulls":7},0,{"$nulls":9},0,{"$nulls":9},0,{"$nulls":9},0]
[{"$nulls":7},0,{"$nulls":9},0,{"$nulls":9},0,{"$nulls":9},0]
[{"$nulls":7},0,{"$nulls":9},0,{"$nulls":9},0,{"$nulls":9},0]
[{"$nulls":7},0,{"$nulls":9},0,{"$nulls":9},0,{"$nulls":9},0]
[{"$nulls":7},0,{"$nulls":9},0,{"$nulls":9},0,{"$nulls":9},0]
[{"$nulls":7},0,{"$nulls":9},0,{"$nulls":9},0,{"$nulls":9},0]
[null,"Totale mesi 2019/2020",{"$nulls":6},{"$f":"INT(SUM(H84:H93,R84:T93,)/30)","v":0},null,null,"punti",null,{"$f":"I94*0.25","v":{"v":0,"d":"0.00"}},{"$nulls":7},"Totale mesi 2020/2021",{"$nulls":6},{"$f":"INT(SUM(AB84:AB93,AL84:AN93,)/30)","v":0},null,null,"punti",null,{"$f":"AC94*0.25","v":{"v":0,"d":"0.00"}}]
[null,"Totale giorni 2019/2020",{"$nulls":6},{"$f":"SUM(H84:H93,R84:T93)-I94*30","v":0},null,null,"punti",null,{"$f":"IF(I95>15,0.25,0)","v":{"v":0,"d":"0.00"}},{"$nulls":7},"Totale giorni 2020/2021",{"$nulls":6},{"$f":"SUM(AB84:AB93,AL84:AN93)-AC94*30","v":0},null,null,"punti",null,{"$f":"IF(AC95>15,0.25,0)","v":{"v":0,"d":"0.00"}}]
[null,"Totale titoli di servizio a.s. 2019/2020",{"$nulls":11},{"$f":"SUM(N94:O95)","v":{"v":0,"d":"0.00"}},{"$nulls":7},"Totale titoli di servizio a.s. 2020/2021",{"$nulls":11},{"$f":"SUM(AH94:AI95)","v":{"v":0,"d":"0.00"}}]
[]
[null,"Altro servizio statale (per ogni mese o frazione superiore a 15 giorni): 0,15"]
[null,"Altro servizio prestato nelle scuole:\na) dell'infanzia statali, delle Regioni Sicilia e Val d'Aosta, delle province autonome di Trento e Bolzano;\nb) primarie statali;\nc) di istruzione secondaria o artistica statali;\nd) nelle istituzioni scolastiche e culturali italiane all'estero, nelle istituzioni convittuali;\ne) nei convitti annessi agli istituti tecnici e professionali, nei convitti nazionali e negli educandati femminili dello Stato, ivi compreso il servizio di insegnamento effettuato nei corsi C.R.A.C.I.S., servizio prestato come modello vivente"]
[]
[null,"Servizio svolto nell' a.s. 2017/2018",{"$nulls":19},"Servizio svolto nell' a.s. 2018/2019"]
[null,"DAL",null,null,"AL",null,null,"TOT GG",{"$nulls":3},"DAL",null,null,"AL",null,null,"TOT GG",{"$nulls":3},"DAL",null,null,"AL",null,null,"TOT GG",{"$nulls":3},"DAL",null,null,"AL",null,null,"TOT GG"]
[{"$nulls":7},{"$f":"IF(B103=0,0,DAYS360(B103,E103+1))","v":0},{"$nulls":9},{"$f":"IF(I103=0,0,DAYS360(I103,L103+1))","v":0},{"$nulls":9},{"$f":"IF(V103=0,0,DAYS360(V103,Y103+1))","v":0},{"$nulls":9},{"$f":"IF(AC103=0,0,DAYS360(AC103,AF103+1))","v":0}]
[{"$nulls":7},{"$f":"IF(B104=0,0,DAYS360(B104,E104+1))","v":0},{"$nulls":9},0,{"$nulls":9},{"$f":"IF(V104=0,0,DAYS360(V104,Y104+1))","v":0},{"$nulls":9},0]
[{"$nulls":7},0,{"$nulls":9},0,{"$nulls":9},0,{"$nulls":9},0]
[{"$nulls":7},0,{"$nulls":9},0,{"$nulls":9},0,{"$nulls":9},0]
[{"$nulls":7},0,{"$nulls":9},0,{"$nulls":9},0,{"$nulls":9},0]
[{"$nulls":7},0,{"$nulls":9},0,{"$nulls":9},0,{"$nulls":9},0]
[{"$nulls":7},0,{"$nulls":9},0,{"$nulls":9},0,{"$nulls":9},0]
[{"$nulls":7},0,{"$nulls":9},0,{"$nulls":9},0,{"$nulls":9},0]
[{"$nulls":7},0,{"$nulls":9},0,{"$nulls":9},0,{"$nulls":9},0]
[{"$nulls":7},0,{"$nulls":9},0,{"$nulls":9},0,{"$nulls":9},0]
[null,"Totale mesi 2017/2018",{"$nulls":6},{"$f":"INT(SUM(H103:H112,R103:T112,AL103:AN112)/30)","v":0},null,null,"punti",null,{"$f":"I113*0.15","v":{"v":0,"d":"0.00"}},{"$nulls":7},"Totale mesi 2018/2019",{"$nulls":6},{"$f":"INT(SUM(AB103:AB112,AL103:AN112,)/30)","v":0},null,null,"punti",null,{"$f":"AC113*0.15","v":{"v":0,"d":"0.00"}}]
[null,"Totale giorni 2017/2018",{"$nulls":6},{"$f":"SUM(H103:H112,R103:T112,)-I113*30","v":0},null,null,"punti",null,{"$f":"IF(I114>15,0.15,0)","v":{"v":0,"d":"0.00"}},{"$nulls":7},"Totale giorni 2018/2019",{"$nulls":6},{"$f":"SUM(AB103:AB112,AL103:AN112)-AC113*30","v":0},null,null,"punti",null,{"$f":"IF(AC114>15,0.15,0)","v":{"v":0,"d":"0.00"}}]
[null,"Totale titoli di servizio a.s. 2017/2018",{"$nulls":11},{"$f":"SUM(N113:O114)","v":{"v":0,"d":"0.00"}},{"$nulls":7},"Totale titoli di servizio a.s. 2018/2019",{"$nulls":11},{"$f":"SUM(AH113:AI114)","v":{"v":0,"d":"0.00"}}]
[]
[null,"Servizio svolto nell' a.s. 2019/2020",{"$nulls":19},"Servizio svolto nell' a.s. 2020/2021"]
[null,"DAL",null,null,"AL",null,null,"TOT GG",{"$nulls":3},"DAL",null,null,"AL",null,null,"TOT GG",{"$nulls":3},"DAL",null,null,"AL",null,null,"TOT GG",{"$nulls":3},"DAL",null,null,"AL",null,null,"TOT GG"]
[{"$nulls":7},{"$f":"IF(B119=0,0,DAYS360(B119,E119+1))","v":0},{"$nulls":9},{"$f":"IF(I119=0,0,DAYS360(I119,L119+1))","v":0},{"$nulls":9},{"$f":"IF(V119=0,0,DAYS360(V119,Y119+1))","v":0},{"$nulls":9},{"$f":"IF(AC119=0,0,DAYS360(AC119,AF119+1))","v":0}]
[{"$nulls":7},{"$f":"IF(B120=0,0,DAYS360(B120,E120+1))","v":0},{"$nulls":9},0,{"$nulls":9},{"$f":"IF(V120=0,0,DAYS360(V120,Y120+1))","v":0},{"$nulls":9},0]
[{"$nulls":7},0,{"$nulls":9},0,{"$nulls":9},0,{"$nulls":9},0]
[{"$nulls":7},0,{"$nulls":9},0,{"$nulls":9},0,{"$nulls":9},0]
[{"$nulls":7},0,{"$nulls":9},0,{"$nulls":9},0,{"$nulls":9},0]
[{"$nulls":7},0,{"$nulls":9},0,{"$nulls":9},0,{"$nulls":9},0]
[{"$nulls":7},0,{"$nulls":9},0,{"$nulls":9},0,{"$nulls":9},0]
[{"$nulls":7},0,{"$nulls":9},0,{"$nulls":9},0,{"$nulls":9},0]
[{"$nulls":7},0,{"$nulls":9},0,{"$nulls":9},0,{"$nulls":9},0]
[{"$nulls":7},0,{"$nulls":9},0,{"$nulls":9},0,{"$nulls":9},0]
[null,"Totale mesi 2019/2020",{"$nulls":6},{"$f":"INT(SUM(H119:H128,R119:T128,)/30)","v":0},null,null,"punti",null,{"$f":"I129*0.15","v":{"v":0,"d":"0.00"}},{"$nulls":7},"Totale mesi 2020/2021",{"$nulls":6},{"$f":"INT(SUM(AB119:AB128,AL119:AN128,)/30)","v":0},null,null,"punti",null,{"$f":"AC129*0.15","v":{"v":0,"d":"0.00"}}]
[null,"Totale giorni 2019/2020",{"$nulls":6},{"$f":"SUM(H119:H128,R119:T128)-I129*30","v":0},null,null,"punti",null,{"$f":"IF(I130>15,0.15,0)","v":{"v":0,"d":"0.00"}},{"$nulls":7},"Totale giorni 2020/2021",{"$nulls":6},{"$f":"SUM(AB119:AB128,AL119:AN128)-AC129*30","v":0},null,null,"punti",null,{"$f":"IF(AC130>15,0.15,0)","v":{"v":0,"d":"0.00"}}]
[null,"Totale titoli di servizio a.s. 2019/2020",{"$nulls":11},{"$f":"SUM(N129:O130)","v":{"v":0,"d":"0.00"}},{"$nulls":7},"Totale titoli di servizio a.s. 2020/2021",{"$nulls":11},{"$f":"SUM(AH129:AI130)","v":{"v":0,"d":"0.00"}}]
[]
[null,"Altro servizio non statale (per ogni mese o frazione superiore a 15 giorni): 0,075"]
[null,"Altro servizio prestato in:\na) scuole dell'infanzia non statali autorizzate;\nb) scuole primarie non statali parificate, sussidiate o sussidiarie;\nc) scuole di istruzione secondaria o artistica non statali pareggiate, legalmente riconosciute e convenzionate;\nd) scuole non statali paritarie"]
[]
[null,"Servizio svolto nell' a.s. 2017/2018",{"$nulls":19},"Servizio svolto nell' a.s. 2018/2019"]
[null,"DAL",null,null,"AL",null,null,"TOT GG",{"$nulls":3},"DAL",null,null,"AL",null,null,"TOT GG",{"$nulls":3},"DAL",null,null,"AL",null,null,"TOT GG",{"$nulls":3},"DAL",null,null,"AL",null,null,"TOT GG"]
[{"$nulls":7},{"$f":"IF(B138=0,0,DAYS360(B138,E138+1))","v":0},{"$nulls":9},{"$f":"IF(I138=0,0,DAYS360(I138,L138+1))","v":0},{"$nulls":9},{"$f":"IF(V138=0,0,DAYS360(V138,Y138+1))","v":0},{"$nulls":9},{"$f":"IF(AC138=0,0,DAYS360(AC138,AF138+1))","v":0}]
[{"$nulls":7},{"$f":"IF(B139=0,0,DAYS360(B139,E139+1))","v":0},{"$nulls":9},0,{"$nulls":9},{"$f":"IF(V139=0,0,DAYS360(V139,Y139+1))","v":0},{"$nulls":9},0]
[{"$nulls":7},0,{"$nulls":9},0,{"$nulls":9},0,{"$nulls":9},0]
[{"$nulls":7},0,{"$nulls":9},0,{"$nulls":9},0,{"$nulls":9},0]
[{"$nulls":7},0,{"$nulls":9},0,{"$nulls":9},0,{"$nulls":9},0]
[{"$nulls":7},0,{"$nulls":9},0,{"$nulls":9},0,{"$nulls":9},0]
[{"$nulls":7},0,{"$nulls":9},0,{"$nulls":9},0,{"$nulls":9},0]
[{"$nulls":7},0,{"$nulls":9},0,{"$nulls":9},0,{"$nulls":9},0]
[{"$nulls":7},0,{"$nulls":9},0,{"$nulls":9},0,{"$nulls":9},0]
[{"$nulls":7},0,{"$nulls":9},0,{"$nulls":9},0,{"$nulls":9},0]
[null,"Totale mesi 2017/2018",{"$nulls":6},{"$f":"INT(SUM(H138:H147,R138:T147,AL138:AN147)/30)","v":0},null,null,"punti",null,{"$f":"I148*0.075","v":{"v":0,"d":"0.000"}},{"$nulls":7},"Totale mesi 2018/2019",{"$nulls":6},{"$f":"INT(SUM(AB138:AB147,AL138:AN147,)/30)","v":0},null,null,"punti",null,{"$f":"AC148*0.075","v":{"v":0,"d":"0.000"}}]
[null,"Totale giorni 2017/2018",{"$nulls":6},{"$f":"SUM(H138:H147,R138:T147,)-I148*30","v":0},null,null,"punti",null,{"$f":"IF(I149>15,0.075,0)","v":{"v":0,"d":"0.000"}},{"$nulls":7},"Totale giorni 2018/2019",{"$nulls":6},{"$f":"SUM(AB138:AB147,AL138:AN147)-AC148*30","v":0},null,null,"punti",null,{"$f":"IF(AC149>15,0.075,0)","v":{"v":0,"d":"0.000"}}]
[null,"Totale titoli di servizio a.s. 2017/2018",{"$nulls":11},{"$f":"SUM(N148:O149)","v":{"v":0,"d":"0.000"}},{"$nulls":7},"Totale titoli di servizio a.s. 2018/2019",{"$nulls":11},{"$f":"SUM(AH148:AI149)","v":{"v":0,"d":"0.000"}}]
[]
[null,"Servizio svolto nell' a.s. 2019/2020",{"$nulls":19},"Servizio svolto nell' a.s. 2020/2021"]
[null,"DAL",null,null,"AL",null,null,"TOT GG",{"$nulls":3},"DAL",null,null,"AL",null,null,"TOT GG",{"$nulls":3},"DAL",null,null,"AL",null,null,"TOT GG",{"$nulls":3},"DAL",null,null,"AL",null,null,"TOT GG"]
[{"$nulls":7},{"$f":"IF(B154=0,0,DAYS360(B154,E154+1))","v":0},{"$nulls":9},{"$f":"IF(I154=0,0,DAYS360(I154,L154+1))","v":0},{"$nulls":9},{"$f":"IF(V154=0,0,DAYS360(V154,Y154+1))","v":0},{"$nulls":9},{"$f":"IF(AC154=0,0,DAYS360(AC154,AF154+1))","v":0}]
[{"$nulls":7},{"$f":"IF(B155=0,0,DAYS360(B155,E155+1))","v":0},{"$nulls":9},0,{"$nulls":9},{"$f":"IF(V155=0,0,DAYS360(V155,Y155+1))","v":0},{"$nulls":9},0]
[{"$nulls":7},0,{"$nulls":9},0,{"$nulls":9},0,{"$nulls":9},0]
[{"$nulls":7},0,{"$nulls":9},0,{"$nulls":9},0,{"$nulls":9},0]
[{"$nulls":7},0,{"$nulls":9},0,{"$nulls":9},0,{"$nulls":9},0]
[{"$nulls":7},0,{"$nulls":9},0,{"$nulls":9},0,{"$nulls":9},0]
[{"$nulls":7},0,{"$nulls":9},0,{"$nulls":9},0,{"$nulls":9},0]
[{"$nulls":7},0,{"$nulls":9},0,{"$nulls":9},0,{"$nulls":9},0]
[{"$nulls":7},0,{"$nulls":9},0,{"$nulls":9},0,{"$nulls":9},0]
[{"$nulls":7},0,{"$nulls":9},0,{"$nulls":9},0,{"$nulls":9},0]
[null,"Totale mesi 2019/2020",{"$nulls":6},{"$f":"INT(SUM(H154:H163,R154:T163,)/30)","v":0},null,null,"punti",null,{"$f":"I164*0.075","v":{"v":0,"d":"0.000"}},{"$nulls":7},"Totale mesi 2020/2021",{"$nulls":6},{"$f":"INT(SUM(AB154:AB163,AL154:AN163,)/30)","v":0},null,null,"punti",null,{"$f":"AC164*0.075","v":{"v":0,"d":"0.000"}}]
[null,"Totale giorni 2019/2020",{"$nulls":6},{"$f":"SUM(H154:H163,R154:T163)-I164*30","v":0},null,null,"punti",null,{"$f":"IF(I165>15,0.075,0)","v":{"v":0,"d":"0.000"}},{"$nulls":7},"Totale giorni 2020/2021",{"$nulls":6},{"$f":"SUM(AB154:AB163,AL154:AN163)-AC164*30","v":0},null,null,"punti",null,{"$f":"IF(AC165>15,0.075,0)","v":{"v":0,"d":"0.000"}}]
[null,"Totale titoli di servizio a.s. 2019/2020",{"$nulls":11},{"$f":"SUM(N164:O165)","v":{"v":0,"d":"0.000"}},{"$nulls":7},"Totale titoli di servizio a.s. 2020/2021",{"$nulls":11},{"$f":"SUM(AH164:AI165)","v":{"v":0,"d":"0.000"}}]
[]
[null,"Servizio altre amministrazioni (per ogni mese o frazione superiore a 15 giorni): 0,05"]
[null,"Servizio prestato alle dirette dipendenze di amministrazioni statali, Enti locali, nei patronati scolastici o nei consorzi provinciali per l'istruzione tecnica"]
[]
[null,"Servizio svolto nell' a.s. 2017/2018",{"$nulls":19},"Servizio svolto nell' a.s. 2017/2018"]
[null,"DAL",null,null,"AL",null,null,"TOT GG",{"$nulls":3},"DAL",null,null,"AL",null,null,"TOT GG",{"$nulls":3},"DAL",null,null,"AL",null,null,"TOT GG",{"$nulls":3},"DAL",null,null,"AL",null,null,"TOT GG"]
[{"$nulls":7},{"$f":"IF(B173=0,0,DAYS360(B173,E173+1))","v":0},{"$nulls":9},{"$f":"IF(I173=0,0,DAYS360(I173,L173+1))","v":0},{"$nulls":9},{"$f":"IF(V173=0,0,DAYS360(V173,Y173+1))","v":0},{"$nulls":9},{"$f":"IF(AC173=0,0,DAYS360(AC173,AF173+1))","v":0}]
[{"$nulls":7},{"$f":"IF(B174=0,0,DAYS360(B174,E174+1))","v":0},{"$nulls":9},0,{"$nulls":9},{"$f":"IF(V174=0,0,DAYS360(V174,Y174+1))","v":0},{"$nulls":9},0]
[{"$nulls":7},0,{"$nulls":9},0,{"$nulls":9},0,{"$nulls":9},0]
[{"$nulls":7},0,{"$nulls":9},0,{"$nulls":9},0,{"$nulls":9},0]
[{"$nulls":7},0,{"$nulls":9},0,{"$nulls":9},0,{"$nulls":9},0]
[{"$nulls":7},0,{"$nulls":9},0,{"$nulls":9},0,{"$nulls":9},0]
[{"$nulls":7},0,{"$nulls":9},0,{"$nulls":9},0,{"$nulls":9},0]
[{"$nulls":7},0,{"$nulls":9},0,{"$nulls":9},0,{"$nulls":9},0]
[{"$nulls":7},0,{"$nulls":9},0,{"$nulls":9},0,{"$nulls":9},0]
[{"$nulls":7},0,{"$nulls":9},0,{"$nulls":9},0,{"$nulls":9},0]
[null,"Totale mesi 2017/2018",{"$nulls":6},{"$f":"INT(SUM(H173:H182,R173:T182,AL173:AN182)/30)","v":0},null,null,"punti",null,{"$f":"I183*0.05","v":{"v":0,"d":"0.00"}},{"$nulls":7},"Totale mesi 2018/2019",{"$nulls":6},{"$f":"INT(SUM(AB173:AB182,AL173:AN182,)/30)","v":0},null,null,"punti",null,{"$f":"AC183*0.05","v":{"v":0,"d":"0.00"}}]
[null,"Totale giorni 2017/2018",{"$nulls":6},{"$f":"SUM(H173:H182,R173:T182,)-I183*30","v":0},null,null,"punti",null,{"$f":"IF(I184>15,0.05,0)","v":{"v":0,"d":"0.00"}},{"$nulls":7},"Totale giorni 2018/2019",{"$nulls":6},{"$f":"SUM(AB173:AB182,AL173:AN182)-AC183*30","v":0},null,null,"punti",null,{"$f":"IF(AC184>15,0.05,0)","v":{"v":0,"d":"0.00"}}]
[null,"Totale titoli di servizio a.s. 2017/2018",{"$nulls":11},{"$f":"SUM(N183:O184)","v":{"v":0,"d":"0.00"}},{"$nulls":7},"Totale titoli di servizio a.s. 2018/2019",{"$nulls":11},{"$f":"SUM(AH183:AI184)","v":{"v":0,"d":"0.00"}}]
[]
[null,"Servizio svolto nell' a.s. 2019/2020",{"$nulls":19},"Servizio svolto nell' a.s. 2020/2021"]
[null,"DAL",null,null,"AL",null,null,"TOT GG",{"$nulls":3},"DAL",null,null,"AL",null,null,"TOT GG",{"$nulls":3},"DAL",null,null,"AL",null,null,"TOT GG",{"$nulls":3},"DAL",null,null,"AL",null,null,"TOT GG"]
[{"$nulls":7},{"$f":"IF(B189=0,0,DAYS360(B189,E189+1))","v":0},{"$nulls":9},{"$f":"IF(I189=0,0,DAYS360(I189,L189+1))","v":0},{"$nulls":9},{"$f":"IF(V189=0,0,DAYS360(V189,Y189+1))","v":0},{"$nulls":9},{"$f":"IF(AC189=0,0,DAYS360(AC189,AF189+1))","v":0}]
[{"$nulls":7},{"$f":"IF(B190=0,0,DAYS360(B190,E190+1))","v":0},{"$nulls":9},0,{"$nulls":9},{"$f":"IF(V190=0,0,DAYS360(V190,Y190+1))","v":0},{"$nulls":9},0]
[{"$nulls":7},0,{"$nulls":9},0,{"$nulls":9},0,{"$nulls":9},0]
[{"$nulls":7},0,{"$nulls":9},0,{"$nulls":9},0,{"$nulls":9},0]
[{"$nulls":7},0,{"$nulls":9},0,{"$nulls":9},0,{"$nulls":9},0]
[{"$nulls":7},0,{"$nulls":9},0,{"$nulls":9},0,{"$nulls":9},0]
[{"$nulls":7},0,{"$nulls":9},0,{"$nulls":9},0,{"$nulls":9},0]
[{"$nulls":7},0,{"$nulls":9},0,{"$nulls":9},0,{"$nulls":9},0]
[{"$nulls":7},0,{"$nulls":9},0,{"$nulls":9},0,{"$nulls":9},0]
[{"$nulls":7},0,{"$nulls":9},0,{"$nulls":9},0,{"$nulls":9},0]
[null,"Totale mesi 2019/2020",{"$nulls":6},{"$f":"INT(SUM(H189:H198,R189:T198,)/30)","v":0},null,null,"punti",null,{"$f":"I199*0.05","v":{"v":0,"d":"0.00"}},{"$nulls":7},"Totale mesi 2020/2021",{"$nulls":6},{"$f":"INT(SUM(AB189:AB198,AL189:AN198,)/30)","v":0},null,null,"punti",null,{"$f":"AC199*0.05","v":{"v":0,"d":"0.00"}}]
[null,"Totale giorni 2019/2020",{"$nulls":6},{"$f":"SUM(H189:H198,R189:T198)-I199*30","v":0},null,null,"punti",null,{"$f":"IF(I200>15,0.05,0)","v":{"v":0,"d":"0.00"}},{"$nulls":7},"Totale giorni 2020/2021",{"$nulls":6},{"$f":"SUM(AB189:AB198,AL189:AN198)-AC199*30","v":0},null,null,"punti",null,{"$f":"IF(AC200>15,0.05,0)","v":{"v":0,"d":"0.00"}}]
[null,"Totale titoli di servizio a.s. 2019/2020",{"$nulls":11},{"$f":"SUM(N199:O200)","v":{"v":0,"d":"0.00"}},{"$nulls":7},"Totale titoli di servizio a.s. 2020/2021",{"$nulls":11},{"$f":"SUM(AH199:AI200)","v":{"v":0,"d":"0.00"}}]
{"$rows_empty":9}
["CALCOLO PUNTEGGIO GRADUATORIE DI ISTITUTO - COLLABORATORE SCOLASTICO"]
[]
[{"$nulls":3},"Cognome e Nome",{"$nulls":8},{"$f":"L14","v":0}]
[]
[{"$nulls":9},"RIEPILOGO"]
[{"$nulls":9},"Punteggio triennio precedente",{"$nulls":16},{"$f":"Z16","v":{"v":0,"d":"0.000"}}]
[]
[{"$nulls":9},"Punteggio aggiuntivo titolo di accesso",{"$nulls":16},{"$f":"U25","v":{"v":0,"d":"0.000"}}]
[]
[{"$nulls":9},"Totale titoli culturali aggiuntivi",{"$nulls":16},{"$f":"AL25","v":{"v":0,"d":"0.000"}}]
[]
[{"$nulls":9},"Totale titoli di servizio specifico statale",{"$nulls":16},{"$f":"SUM(N45,AH45,N61,AH61)","v":{"v":0,"d":"0.000"}}]
[{"$nulls":9},"Totale titoli di servizio non statale",{"$nulls":16},{"$f":"SUM(N80,AH80,N96,AH96)","v":{"v":0,"d":"0.000"}}]
[{"$nulls":9},"Totale titoli di altro servizio statale",{"$nulls":16},{"$f":"SUM(N115,AH115,N131,AH131)","v":{"v":0,"d":"0.000"}}]
[{"$nulls":9},"Totale titoli di altro servizio non statale",{"$nulls":16},{"$f":"SUM(N150,AH150,N166,AH166)","v":{"v":0,"d":"0.000"}}]
[{"$nulls":9},"Totale titoli di servizio altre amministrazioni",{"$nulls":16},{"$f":"SUM(N185,AH185,N201,AH201)","v":{"v":0,"d":"0.000"}}]
[{"$nulls":9},"Totale titoli di servizio ",{"$nulls":16},{"$f":"SUM(AA222:AC226)","v":{"v":0,"d":"0.000"}}]
[]
[{"$nulls":9},"TOTALE generale",{"$nulls":16},{"$f":"SUM(AA216,AA218,AA220,AA227,)","v":{"v":0,"d":"0.000"}}]
[]
[]
[{"$nulls":35},"©","Francesco Gioffreda"]

{"sheet":"tab_coll","index":6,"n_rows":65,"n_cols":2,"rows_kept":65,"hidden":true}
["Scegli titolo di accesso precedentemente inserito"]
["Qualifica triennale"]
["Diploma di maturità"]
[]
["Scegli nuovo titolo di accesso"]
["Qualifica triennale"]
["Diploma di maturità"]
[]
["SI"]
["NO"]
[]
["Scegli certificazione precedentemente inserita",{"v":0,"d":"0.00"}]
["Nessuna",{"v":0,"d":"0.00"}]
["ECDL Core",0.25]
["ECDL Advanced",0.28]
["ECDL Specialised",{"v":0.3,"d":"0.30"}]
["NUOVA ECDL Base",0.25]
["NUOVA ECDL Advanced",0.28]
["NUOVA ECDL Specialised",{"v":0.3,"d":"0.30"}]
["NUOVA ECDL Professional",{"v":0.3,"d":"0.30"}]
["MICROSOFT MCAD o equivalente",0.25]
["MICROSOFT MCSD o equivalente",0.28]
["MICROSOFT MCDBA o equivalente",{"v":0.3,"d":"0.30"}]
["EUCIP",{"v":0.3,"d":"0.30"}]
["IC3",{"v":0.3,"d":"0.30"}]
["MOUS (Microsoft Office User Specialist)",{"v":0.3,"d":"0.30"}]
["CISCO (Cisco System)",{"v":0.3,"d":"0.30"}]
["PEKIT",{"v":0.3,"d":"0.30"}]
["EIPASS",{"v":0.3,"d":"0.30"}]
["EIRSAF Full",{"v":0.3,"d":"0.30"}]
["EIRSAF Four",0.25]
["EIRSAF Green",0.25]
["IIQ 7 Moduli",0.25]
["IIQ 7 Moduli + 1 Skill Base",0.28]
["IIQ 4 Moduli Advanced Level",{"v":0.3,"d":"0.30"}]
["IDCert Digital Competence",0.25]
["IDCert Digital Competence Advanced",0.28]
["IDCert Digital Competence Specialized",{"v":0.3,"d":"0.30"}]
[]
["Scegli nuova certificazione conseguita",{"v":0,"d":"0.00"}]
["ECDL Core",0.25]
["ECDL Advanced",0.28]
["ECDL Specialised",{"v":0.3,"d":"0.30"}]
["NUOVA ECDL Base",0.25]
["NUOVA ECDL Advanced",0.28]
["NUOVA ECDL Specialised",{"v":0.3,"d":"0.30"}]
["NUOVA ECDL Professional",{"v":0.3,"d":"0.30"}]
["MICROSOFT MCAD o equivalente",0.25]
["MICROSOFT MCSD o equivalente",0.28]
["MICROSOFT MCDBA o equivalente",{"v":0.3,"d":"0.30"}]
["EUCIP",{"v":0.3,"d":"0.30"}]
["IC3",{"v":0.3,"d":"0.30"}]
["MOUS (Microsoft Office User Specialist)",{"v":0.3,"d":"0.30"}]
["CISCO (Cisco System)",{"v":0.3,"d":"0.30"}]
["PEKIT",{"v":0.3,"d":"0.30"}]
["EIPASS",{"v":0.3,"d":"0.30"}]
["EIRSAF Full",{"v":0.3,"d":"0.30"}]
["EIRSAF Four",0.25]
["EIRSAF Green",0.25]
["IIQ 7 Moduli",0.25]
["IIQ 7 Moduli + 1 Skill Base",0.28]
["IIQ 4 Moduli Advanced Level",{"v":0.3,"d":"0.30"}]
["IDCert Digital Competence",0.25]
["IDCert Digital Competence Advanced",0.28]
["IDCert Digital Competence Specialized",{"v":0.3,"d":"0.30"}]

{"sheet":"CUO","index":7,"n_rows":230,"n_cols":38,"rows_kept":230,"merged":[[7,1,7,39],[8,1,8,2],[8,3,8,39],[9,1,9,2],[9,3,9,39],[10,1,10,2],[10,3,10,5],[10,6,10,7],[10,8,10,39],[11,1,11,2],[11,3,11,5],[11,6,11,7],[11,8,11,39],[12,1,12,39],[13,1,13,10],[13,11,13,39],[14,1,14,39],[15,1,15,24],[15,25,15,39],[16,1,16,39],[18,1,18,18],[18,19,24,19],[19,1,19,18],[20,1,20,9],[20,10,20,15],[20,16,20,18],[21,1,22,9],[21,10,22,11],[21,12,22,13],[21,14,22,15],[21,16,22,18],[23,1,23,9],[23,10,23,11],[23,12,23,13],[23,14,23,15],[23,16,23,18],[24,1,24,15],[24,16,24,18],[82,1,82,3],[82,4,82,6],[82,8,92,10],[82,11,82,13],[82,14,82,16],[82,17,82,19],[82,21,82,23],[82,24,82,26],[82,28,92,30],[82,31,82,33],[82,34,82,36],[82,37,82,39],[83,1,83,3],[83,4,83,6],[83,11,83,13],[83,14,83,16],[83,17,83,19],[83,21,83,23],[84,14,84,16],[84,17,84,19],[84,21,84,23],[85,24,85,26],[85,31,85,33],[85,34,85,36],[85,37,85,39],[86,1,86,3],[86,4,86,6],[86,11,86,13],[86,14,86,16],[86,17,86,19],[86,21,86,23],[86,24,86,26],[86,31,86,33],[86,34,86,36],[86,37,86,39],[87,1,87,3],[87,4,87,6],[87,11,87,13],[87,14,87,16],[87,17,87,19],[87,21,87,23],[87,24,87,26],[87,31,87,33],[87,34,87,36],[87,37,87,39],[88,1,88,3],[88,4,88,6],[88,11,88,13],[88,14,88,16],[88,17,88,19],[88,21,88,23],[88,24,88,26],[88,31,88,33],[88,34,88,36],[88,37,88,39],[89,1,89,3],[89,4,89,6],[89,11,89,13],[89,14,89,16],[89,17,89,19],[89,21,89,23],[89,24,89,26],[89,31,89,33],[89,34,89,36],[89,37,89,39],[90,1,90,3],[90,4,90,6],[90,11,90,13],[90,14,90,16],[90,17,90,19],[90,21,90,23],[90,24,90,26],[90,31,90,33],[90,34,90,36],[90,37,90,39],[91,1,91,3],[91,4,91,6],[91,11,91,13],[91,14,91,16],[91,17,91,19],[91,21,91,23],[91,24,91,26],[91,31,91,33],[91,34,91,36],[91,37,91,39],[92,1,92,3],[92,4,92,6],[92,11,92,13],[92,14,92,16],[92,17,92,19],[92,21,92,23],[92,24,92,26],[92,31,92,33],[92,34,92,36],[92,37,92,39],[93,1,93,7],[93,11,93,12],[93,13,93,16],[93,17,95,19],[93,21,93,27],[93,31,93,32],[93,33,93,36],[93,37,95,39],[94,1,94,7],[94,11,94,12],[94,13,94,16],[94,21,94,27],[94,31,94,32],[94,33,94,36],[95,1,95,12],[95,13,95,16],[95,21,95,32],[95,33,95,36],[96,1,96,39],[97,1,97,39],[98,1,98,39],[99,1,99,39],[100,1,100,19],[100,20,130,20],[100,21,100,39],[101,1,101,3],[101,4,101,6],[101,8,111,10],[101,11,101,13],[101,14,101,16],[101,17,101,19],[101,21,101,23],[101,24,101,26],[101,28,111,30],[101,31,101,33],[101,34,101,36],[101,37,101,39],[102,1,102,3],[102,4,102,6],[102,11,102,13],[102,14,102,16],[102,17,102,19],[102,21,102,23],[102,24,102,26],[102,31,102,33],[102,34,102,36],[102,37,102,39],[103,1,103,3],[103,4,103,6],[103,11,103,13],[103,14,103,16],[103,17,103,19],[103,21,103,23],[103,24,103,26],[103,31,103,33],[103,34,103,36],[103,37,103,39],[104,1,104,3],[104,4,104,6],[104,11,104,13],[104,14,104,16],[104,17,104,19],[104,21,104,23],[104,24,104,26],[104,31,104,33],[104,34,104,36],[104,37,104,39],[105,1,105,3],[105,4,105,6],[105,11,105,13],[105,14,105,16],[105,17,105,19],[105,21,105,23],[105,24,105,26],[105,31,105,33],[105,34,105,36],[105,37,105,39],[106,1,106,3],[106,4,106,6],[106,11,106,13],[106,14,106,16],[106,17,106,19],[106,21,106,23],[106,24,106,26],[106,31,106,33],[106,34,106,36],[106,37,106,39],[107,1,107,3],[107,4,107,6],[107,11,107,13],[107,14,107,16],[107,17,107,19],[107,21,107,23],[107,24,107,26],[107,31,107,33],[107,34,107,36],[107,37,107,39],[108,1,108,3],[108,4,108,6],[108,11,108,13],[108,14,108,16],[108,17,108,19],[108,21,108,23],[108,24,108,26],[108,31,108,33],[108,34,108,36],[108,37,108,39],[109,1,109,3],[109,4,109,6],[109,11,109,13],[109,14,109,16],[109,17,109,19],[109,21,109,23],[109,24,109,26],[109,31,109,33],[109,34,109,36],[109,37,109,39],[110,1,110,3],[110,4,110,6],[110,11,110,13],[110,14,110,16],[110,17,110,19],[110,21,110,23],[110,24,110,26],[110,31,110,33],[110,34,110,36],[110,37,110,39],[111,1,111,3],[111,4,111,6],[111,11,111,13],[111,14,111,16],[111,17,111,19],[111,21,111,23],[111,24,111,26],[111,31,111,33],[111,34,111,36],[111,37,111,39],[112,1,112,7],[112,11,112,12],[112,13,112,16],[112,17,114,19],[112,21,112,27],[112,31,112,32],[112,33,112,36],[112,37,114,39],[113,1,113,7],[113,11,113,12],[113,13,113,16],[113,21,113,27],[113,31,113,32],[113,33,113,36],[114,1,114,12],[114,13,114,16],[114,21,114,32],[114,33,114,36],[115,1,115,19],[115,21,115,39],[116,1,116,19],[116,21,116,39],[117,1,117,3],[117,4,117,6],[117,8,127,10],[117,11,117,13],[117,14,117,16],[117,17,117,19],[117,21,117,23],[117,24,117,26],[117,28,127,30],[117,31,117,33],[117,34,117,36],[117,37,117,39],[118,1,118,3],[118,4,118,6],[118,11,118,13],[118,14,118,16],[118,17,118,19],[118,21,118,23],[118,24,118,26],[118,31,118,33],[118,34,118,36],[118,37,118,39],[119,1,119,3],[119,4,119,6],[119,11,119,13],[119,14,119,16],[119,17,119,19],[119,21,119,23],[119,24,119,26],[119,31,119,33],[119,34,119,36],[119,37,119,39],[120,1,120,3],[120,4,120,6],[120,11,120,13],[120,14,120,16],[120,17,120,19],[120,21,120,23],[120,24,120,26],[120,31,120,33],[120,34,120,36],[120,37,120,39],[121,1,121,3],[121,4,121,6],[121,11,121,13],[121,14,121,16],[121,17,121,19],[121,21,121,23],[121,24,121,26],[121,31,121,33],[121,34,121,36],[121,37,121,39],[122,1,122,3],[122,4,122,6],[122,11,122,13],[122,14,122,16],[122,17,122,19],[122,21,122,23],[122,24,122,26],[122,31,122,33],[122,34,122,36],[122,37,122,39],[123,1,123,3],[123,4,123,6],[123,11,123,13],[123,14,123,16],[123,17,123,19],[123,21,123,23],[123,24,123,26],[123,31,123,33],[123,34,123,36],[123,37,123,39],[124,1,124,3],[124,4,124,6],[124,11,124,13],[124,14,124,16],[124,17,124,19],[124,21,124,23],[124,24,124,26],[124,31,124,33],[124,34,124,36],[124,37,124,39],[125,1,125,3],[125,4,125,6],[125,11,125,13],[125,14,125,16],[125,17,125,19],[125,21,125,23],[125,24,125,26],[125,31,125,33],[125,34,125,36],[125,37,125,39],[126,1,126,3],[126,4,126,6],[126,11,126,13],[126,14,126,16],[126,17,126,19],[126,21,126,23],[126,24,126,26],[126,31,126,33],[126,34,126,36],[126,37,126,39],[127,1,127,3],[127,4,127,6],[127,11,127,13],[127,14,127,16],[127,17,127,19],[127,21,127,23],[127,24,127,26],[127,31,127,33],[127,34,127,36],[127,37,127,39],[128,1,128,7],[128,11,128,12],[128,13,128,16],[128,17,130,19],[128,21,128,27],[128,31,128,32],[128,33,128,36],[128,37,130,39],[129,1,129,7],[129,11,129,12],[129,13,129,16],[129,21,129,27],[129,31,129,32],[129,33,129,36],[130,1,130,12],[130,13,130,16],[130,21,130,32],[130,33,130,36],[131,1,131,39],[132,1,132,39],[133,1,133,39],[134,1,134,39],[135,1,135,19],[135,20,165,20],[135,21,135,39],[136,1,136,3],[136,4,136,6],[136,8,146,10],[136,11,136,13],[136,14,136,16],[136,17,136,19],[136,21,136,23],[136,24,136,26],[136,28,146,30],[136,31,136,33],[136,34,136,36],[136,37,136,39],[137,1,137,3],[137,4,137,6],[137,11,137,13],[137,14,137,16],[137,17,137,19],[137,21,137,23],[137,24,137,26],[137,31,137,33],[137,34,137,36],[137,37,137,39],[138,1,138,3],[138,4,138,6],[138,11,138,13],[138,14,138,16],[138,17,138,19],[138,21,138,23],[138,24,138,26],[138,31,138,33],[138,34,138,36],[138,37,138,39],[139,1,139,3],[139,4,139,6],[139,11,139,13],[139,14,139,16],[139,17,139,19],[139,21,139,23],[139,24,139,26],[139,31,139,33],[139,34,139,36],[139,37,139,39],[140,1,140,3],[140,4,140,6],[140,11,140,13],[140,14,140,16],[140,17,140,19],[140,21,140,23],[140,24,140,26],[140,31,140,33],[140,34,140,36],[140,37,140,39],[141,1,141,3],[141,4,141,6],[141,11,141,13],[141,14,141,16],[141,17,141,19],[141,21,141,23],[141,24,141,26],[141,31,141,33],[141,34,141,36],[141,37,141,39],[142,1,142,3],[142,4,142,6],[142,11,142,13],[142,14,142,16],[142,17,142,19],[142,21,142,23],[142,24,142,26],[142,31,142,33],[142,34,142,36],[142,37,142,39],[143,1,143,3],[143,4,143,6],[143,11,143,13],[143,14,143,16],[143,17,143,19],[143,21,143,23],[143,24,143,26],[143,31,143,33],[143,34,143,36],[143,37,143,39],[144,1,144,3],[144,4,144,6],[144,11,144,13],[144,14,144,16],[144,17,144,19],[144,21,144,23],[144,24,144,26],[144,31,144,33],[144,34,144,36],[144,37,144,39],[145,1,145,3],[145,4,145,6],[145,11,145,13],[145,14,145,16],[145,17,145,19],[145,21,145,23],[145,24,145,26],[145,31,145,33],[145,34,145,36],[145,37,145,39],[146,1,146,3],[146,4,146,6],[146,11,146,13],[146,14,146,16],[146,17,146,19],[146,21,146,23],[146,24,146,26],[146,31,146,33],[146,34,146,36],[146,37,146,39],[147,1,147,7],[147,11,147,12],[147,13,147,16],[147,17,149,19],[147,21,147,27],[147,31,147,32],[147,33,147,36],[147,37,149,39],[148,1,148,7],[148,11,148,12],[148,13,148,16],[148,21,148,27],[148,31,148,32],[148,33,148,36],[149,1,149,12],[149,13,149,16],[149,21,149,32],[149,33,149,36],[150,1,150,19],[150,21,150,39],[151,1,151,19],[151,21,151,39],[152,1,152,3],[152,4,152,6],[152,8,162,10],[152,11,152,13],[152,14,152,16],[152,17,152,19],[152,21,152,23],[152,24,152,26],[152,28,162,30],[152,31,152,33],[152,34,152,36],[152,37,152,39],[153,1,153,3],[153,4,153,6],[153,11,153,13],[153,14,153,16],[153,17,153,19],[153,21,153,23],[153,24,153,26],[153,31,153,33],[153,34,153,36],[153,37,153,39],[154,1,154,3],[154,4,154,6],[154,11,154,13],[154,14,154,16],[154,17,154,19],[154,21,154,23],[154,24,154,26],[154,31,154,33],[154,34,154,36],[154,37,154,39],[155,1,155,3],[155,4,155,6],[155,11,155,13],[155,14,155,16],[155,17,155,19],[155,21,155,23],[155,24,155,26],[155,31,155,33],[155,34,155,36],[155,37,155,39],[156,1,156,3],[156,4,156,6],[156,11,156,13],[156,14,156,16],[156,17,156,19],[156,21,156,23],[156,24,156,26],[156,31,156,33],[156,34,156,36],[156,37,156,39],[157,1,157,3],[157,4,157,6],[157,11,157,13],[157,14,157,16],[157,17,157,19],[157,21,157,23],[157,24,157,26],[157,31,157,33],[157,34,157,36],[157,37,157,39],[158,1,158,3],[158,4,158,6],[158,11,158,13],[158,14,158,16],[158,17,158,19],[158,21,158,23],[158,24,158,26],[158,31,158,33],[158,34,158,36],[158,37,158,39],[159,1,159,3],[159,4,159,6],[159,11,159,13],[159,14,159,16],[159,17,159,19],[159,21,159,23],[159,24,159,26],[159,31,159,33],[159,34,159,36],[159,37,159,39],[160,1,160,3],[160,4,160,6],[160,11,160,13],[160,14,160,16],[160,17,160,19],[160,21,160,23],[160,24,160,26],[160,31,160,33],[160,34,160,36],[160,37,160,39],[161,1,161,3],[161,4,161,6],[161,11,161,13],[161,14,161,16],[161,17,161,19],[161,21,161,23],[161,24,161,26],[161,31,161,33],[161,34,161,36],[161,37,161,39],[162,1,162,3],[162,4,162,6],[162,11,162,13],[162,14,162,16],[162,17,162,19],[162,21,162,23],[162,24,162,26],[162,31,162,33],[162,34,162,36],[162,37,162,39],[163,1,163,7],[163,11,163,12],[163,13,163,16],[163,17,165,19],[163,21,163,27],[163,31,163,32],[163,33,163,36],[163,37,165,39],[164,1,164,7],[164,11,164,12],[164,13,164,16],[164,21,164,27],[164,31,164,32],[164,33,164,36],[165,1,165,12],[165,13,165,16],[165,21,165,32],[165,33,165,36],[166,1,166,39],[167,1,167,39],[168,1,168,39],[169,1,169,39],[170,1,170,19],[170,20,200,20],[170,21,170,39],[171,1,171,3],[171,4,171,6],[171,8,181,10],[171,11,171,13],[171,14,171,16],[171,17,171,19],[171,21,171,23],[171,24,171,26],[171,28,181,30],[171,31,171,33],[171,34,171,36],[171,37,171,39],[172,1,172,3],[172,4,172,6],[172,11,172,13],[172,14,172,16],[172,17,172,19],[172,21,172,23],[172,24,172,26],[172,31,172,33],[172,34,172,36],[172,37,172,39],[173,1,173,3],[173,4,173,6],[173,11,173,13],[173,14,173,16],[173,17,173,19],[173,21,173,23],[173,24,173,26],[173,31,173,33],[173,34,173,36],[173,37,173,39],[174,1,174,3],[174,4,174,6],[174,11,174,13],[174,14,174,16],[174,17,174,19],[174,21,174,23],[174,24,174,26],[174,31,174,33],[174,34,174,36],[174,37,174,39],[175,1,175,3],[175,4,175,6],[175,11,175,13],[175,14,175,16],[175,17,175,19],[175,21,175,23],[175,24,175,26],[175,31,175,33],[175,34,175,36],[175,37,175,39],[176,1,176,3],[176,4,176,6],[176,11,176,13],[176,14,176,16],[176,17,176,19],[176,21,176,23],[176,24,176,26],[176,31,176,33],[176,34,176,36],[176,37,176,39],[177,1,177,3],[177,4,177,6],[177,11,177,13],[177,14,177,16],[177,17,177,19],[177,21,177,23],[177,24,177,26],[177,31,177,33],[177,34,177,36],[177,37,177,39],[178,1,178,3],[178,4,178,6],[178,11,178,13],[178,14,178,16],[178,17,178,19],[178,21,178,23],[178,24,178,26],[178,31,178,33],[178,34,178,36],[178,37,178,39],[179,1,179,3],[179,4,179,6],[179,11,179,13],[179,14,179,16],[179,17,179,19],[179,21,179,23],[179,24,179,26],[179,31,179,33],[179,34,179,36],[179,37,179,39],[180,1,180,3],[180,4,180,6],[180,11,180,13],[180,14,180,16],[180,17,180,19],[180,21,180,23],[180,24,180,26],[180,31,180,33],[180,34,180,36],[180,37,180,39],[181,1,181,3],[181,4,181,6],[181,11,181,13],[181,14,181,16],[181,17,181,19],[181,21,181,23],[181,24,181,26],[181,31,181,33],[181,34,181,36],[181,37,181,39],[182,1,182,7],[182,8,182,10],[182,11,182,12],[182,13,182,16],[182,17,184,19],[182,21,182,27],[182,28,182,30],[182,31,182,32],[182,33,182,36],[182,37,184,39],[183,1,183,7],[183,8,183,10],[183,11,183,12],[183,13,183,16],[183,21,183,27],[183,28,183,30],[183,31,183,32],[183,33,183,36],[184,1,184,12],[184,13,184,16],[184,21,184,32],[184,33,184,36],[185,1,185,19],[185,21,185,39],[186,1,186,19],[186,21,186,39],[187,1,187,3],[187,4,187,6],[187,8,197,10],[187,11,187,13],[187,14,187,16],[187,17,187,19],[187,21,187,23],[187,24,187,26],[187,28,197,30],[187,31,187,33],[187,34,187,36],[187,37,187,39],[188,1,188,3],[188,4,188,6],[188,11,188,13],[188,14,188,16],[188,17,188,19],[188,21,188,23],[188,24,188,26],[188,31,188,33],[188,34,188,36],[188,37,188,39],[189,1,189,3],[189,4,189,6],[189,11,189,13],[189,14,189,16],[189,17,189,19],[189,21,189,23],[189,24,189,26],[189,31,189,33],[189,34,189,36],[189,37,189,39],[190,1,190,3],[190,4,190,6],[190,11,190,13],[190,14,190,16],[190,17,190,19],[190,21,190,23],[190,24,190,26],[190,31,190,33],[190,34,190,36],[190,37,190,39],[191,1,191,3],[191,4,191,6],[191,11,191,13],[191,14,191,16],[191,17,191,19],[191,21,191,23],[191,24,191,26],[191,31,191,33],[191,34,191,36],[191,37,191,39],[192,1,192,3],[192,4,192,6],[192,11,192,13],[192,14,192,16],[192,17,192,19],[192,21,192,23],[192,24,192,26],[192,31,192,33],[192,34,192,36],[192,37,192,39],[193,1,193,3],[193,4,193,6],[193,11,193,13],[193,14,193,16],[193,17,193,19],[193,21,193,23],[193,24,193,26],[193,31,193,33],[193,34,193,36],[193,37,193,39],[194,1,194,3],[194,4,194,6],[194,11,194,13],[194,14,194,16],[194,17,194,19],[194,21,194,23],[194,24,194,26],[194,31,194,33],[194,34,194,36],[194,37,194,39],[195,1,195,3],[195,4,195,6],[195,11,195,13],[195,14,195,16],[195,17,195,19],[195,21,195,23],[195,24,195,26],[195,31,195,33],[195,34,195,36],[195,37,195,39],[196,1,196,3],[196,4,196,6],[196,11,196,13],[196,14,196,16],[196,17,196,19],[196,21,196,23],[196,24,196,26],[196,31,196,33],[196,34,196,36],[196,37,196,39],[197,1,197,3],[197,4,197,6],[197,11,197,13],[197,14,197,16],[197,17,197,19],[197,21,197,23],[197,24,197,26],[197,31,197,33],[197,34,197,36],[197,37,197,39],[198,1,198,7],[198,8,198,10],[198,11,198,12],[198,13,198,16],[198,17,200,19],[198,21,198,27],[198,28,198,30],[198,31,198,32],[198,33,198,36],[198,37,200,39],[199,1,199,7],[199,8,199,10],[199,11,199,12],[199,13,199,16],[199,21,199,27],[199,28,199,30],[199,31,199,32],[199,33,199,36],[200,1,200,12],[200,13,200,16],[200,21,200,32],[200,33,200,36],[201,1,201,39],[202,0,202,40],[203,0,207,40],[210,0,210,40],[212,3,212,11],[212,12,212,37],[214,9,214,28],[215,9,215,25],[215,26,215,28],[216,9,216,28],[217,9,217,25],[217,26,217,28],[218,9,218,28],[219,9,219,25],[219,26,219,28],[220,9,220,25],[220,26,220,28],[221,9,221,25],[221,26,221,28],[222,9,222,25],[222,26,222,28],[223,9,223,25],[223,26,223,28],[224,9,224,25],[224,26,224,28],[225,9,225,28],[226,9,227,25],[226,26,227,28]],"merged_total":1483,"flags":["merged_cut"]}
[]
[]
[]
[]
[]
[]
[null,"CALCOLO PUNTEGGIO GRADUATORIE DI ISTITUTO - CUOCO"]
[]
[null,"Nota 1: ",null,"In caso di servizi coincidenti con lo stesso periodo (es. due servizi part-time), inserirne solo uno"]
[null,"Nota 2: ",null,"Nel servizio svolto inserire la data nel formato giorno/mese/anno oppure giorno-mese-anno"]
[null,"Nota 3: ",null,"Caselle ",{"$nulls":4}," inserimento valori con menu a tendina"]
[null,"Nota 4: ",null,"Caselle ",{"$nulls":4}," inserimento valori da tastiera"]
[]
[null,"Cognome e Nome"]
[]
[null,"Punteggio totale assegnato nel triennio precedente"]
[]
[null,"TITOLI  DI CULTURA DOPO L'ULTIMO AGGIORNAMENTO/INSERIMENTO"]
[null,"TITOLO DI ACCESSO",{"$nulls":18},"TITOLI  DI CULTURA CONSEGUITI  "]
[null,"(da compilare solo per variazione titolo di accesso)",{"$nulls":18},"Tipologia titoli posseduti",{"$nulls":14},"Si/No",null,"punti"]
[null,"Tipologia",{"$nulls":8},"voto / giudizio ",{"$nulls":5},"punti",{"$nulls":3},"Diploma di Laurea",{"$nulls":16},{"$f":"IF(AJ21=\"SI\",2,0)","v":{"v":0,"d":"0.00"}}]
[null,"Qualifica precedentemente inserita",{"$nulls":10},"su",{"$nulls":3},{"$f":"IF(K22=0,0, K22*10/O22)","v":{"v":0,"d":"0.00"}},{"$nulls":3},"Idoneità in precedenti concorsi pubblici stesso profilo",{"$nulls":16},{"$f":"IF(AJ22=\"SI\",2,0)","v":{"v":0,"d":"0.00"}}]
[{"$nulls":20},"Scegli certificazione precedentemente conseguita",{"$nulls":16},{"$f":"VLOOKUP(U23,tab_tec!A4:B29,2,FALSE)","v":{"v":0,"d":"0.00"}}]
[null,"Nuova qualifica conseguita",{"$nulls":10},"su",{"$nulls":3},{"$f":"IF(K24=0,0, K24*10/O24)","v":{"v":0,"d":"0.00"}},{"$nulls":3},"Scegli nuova certificazione conseguita",{"$nulls":16},{"$f":"VLOOKUP(U24,tab_tec!A31:B56,2,FALSE)","v":{"v":0,"d":"0.00"}}]
[null,"Punteggio aggiuntivo titolo di accesso",{"$nulls":14},{"$f":"Q24-Q22","v":{"v":0,"d":"0.00"}},{"$nulls":3},"Totale titoli di cultura aggiuntivi",{"$nulls":16},{"$f":"AL21+AL22+AL24-AL23","v":{"v":0,"d":"0.00"}}]
[null,"SERVIZIO SVOLTO SUCCESSIVAMENTE ALLA DATA DEL 30/10/2017"]
[]
[null,"Servizio specifico statale (per ogni mese o frazione superiore a 15 giorni): 0,50"]
[null,"Servizio prestato in qualità di cuoco in:\na) scuole dell'infanzia statali, delle Regioni Sicilia e Val d'Aosta, delle province autonome di Trento e Bolzano;\nb) Scuole primarie statali;\nc) Scuole di istruzione secondaria o artistica statali, nelle istituzioni scolastiche e culturali italiane all'estero, nelle istituzioni convittuali"]
[]
[null,"Servizio svolto nell' a.s. 2017/2018",{"$nulls":19},"Servizio svolto nell' a.s. 2018/2019"]
[null,"DAL",null,null,"AL",null,null,"TOT GG",{"$nulls":3},"DAL",null,null,"AL",null,null,"TOT GG",{"$nulls":3},"DAL",null,null,"AL",null,null,"TOT GG",{"$nulls":3},"DAL",null,null,"AL",null,null,"TOT GG"]
[{"$nulls":7},{"$f":"IF(B33=0,0,DAYS360(B33,E33+1))","v":0},{"$nulls":9},{"$f":"IF(I33=0,0,DAYS360(I33,L33+1))","v":0},{"$nulls":9},{"$f":"IF(V33=0,0,DAYS360(V33,Y33+1))","v":0},{"$nulls":9},{"$f":"IF(AC33=0,0,DAYS360(AC33,AF33+1))","v":0}]
[{"$nulls":7},{"$f":"IF(B34=0,0,DAYS360(B34,E34+1))","v":0},{"$nulls":9},0,{"$nulls":9},{"$f":"IF(V34=0,0,DAYS360(V34,Y34+1))","v":0},{"$nulls":9},0]
[{"$nulls":7},0,{"$nulls":9},0,{"$nulls":9},0,{"$nulls":9},0]
[{"$nulls":7},0,{"$nulls":9},0,{"$nulls":9},0,{"$nulls":9},0]
[{"$nulls":7},0,{"$nulls":9},0,{"$nulls":9},0,{"$nulls":9},0]
[{"$nulls":7},0,{"$nulls":9},0,{"$nulls":9},0,{"$nulls":9},0]
[{"$nulls":7},0,{"$nulls":9},0,{"$nulls":9},0,{"$nulls":9},0]
[{"$nulls":7},0,{"$nulls":9},0,{"$nulls":9},0,{"$nulls":9},0]
[{"$nulls":7},0,{"$nulls":9},0,{"$nulls":9},0,{"$nulls":9},0]
[{"$nulls":7},0,{"$nulls":9},0,{"$nulls":9},0,{"$nulls":9},0]
[null,"Totale mesi 2017/2018",{"$nulls":6},{"$f":"INT(SUM(H33:H42,R33:T42,AL33:AN42)/30)","v":0},null,null,"punti",null,{"$f":"I43*0.5","v":{"v":0,"d":"0.00"}},{"$nulls":7},"Totale mesi 2018/2019",{"$nulls":6},{"$f":"INT(SUM(AB33:AB42,AL33:AN42,BF33:BH42)/30)","v":0},null,null,"punti",null,{"$f":"AC43*0.5","v":{"v":0,"d":"0.00"}}]
[null,"Totale giorni 2017/2018",{"$nulls":6},{"$f":"SUM(H33:H42,R33:T42,)-I43*30","v":0},null,null,"punti",null,{"$f":"IF(I44>15,0.5,0)","v":{"v":0,"d":"0.00"}},{"$nulls":7},"Totale giorni 2018/2019",{"$nulls":6},{"$f":"SUM(AB33:AB42,AL33:AN42,)-AC43*30","v":0},null,null,"punti",null,{"$f":"IF(AC44>15,0.5,0)","v":{"v":0,"d":"0.00"}}]
[null,"Totale titoli di servizio a.s. 2017/2018",{"$nulls":11},{"$f":"SUM(N43:O44)","v":{"v":0,"d":"0.00"}},{"$nulls":7},"Totale titoli di servizio a.s. 2018/2019",{"$nulls":11},{"$f":"SUM(AH43:AI44)","v":{"v":0,"d":"0.00"}}]
[]
[null,"Servizio svolto nell' a.s. 2019/2020",{"$nulls":19},"Servizio svolto nell' a.s. 2020/2021"]
[null,"DAL",null,null,"AL",null,null,"TOT GG",{"$nulls":3},"DAL",null,null,"AL",null,null,"TOT GG",{"$nulls":3},"DAL",null,null,"AL",null,null,"TOT GG",{"$nulls":3},"DAL",null,null,"AL",null,null,"TOT GG"]
[{"$nulls":7},{"$f":"IF(B49=0,0,DAYS360(B49,E49+1))","v":0},{"$nulls":9},{"$f":"IF(I49=0,0,DAYS360(I49,L49+1))","v":0},{"$nulls":9},{"$f":"IF(V49=0,0,DAYS360(V49,Y49+1))","v":0},{"$nulls":9},{"$f":"IF(AC49=0,0,DAYS360(AC49,AF49+1))","v":0}]
[{"$nulls":7},{"$f":"IF(B50=0,0,DAYS360(B50,E50+1))","v":0},{"$nulls":9},0,{"$nulls":9},{"$f":"IF(V50=0,0,DAYS360(V50,Y50+1))","v":0},{"$nulls":9},0]
[{"$nulls":7},0,{"$nulls":9},0,{"$nulls":9},0,{"$nulls":9},0]
[{"$nulls":7},0,{"$nulls":9},0,{"$nulls":9},0,{"$nulls":9},0]
[{"$nulls":7},0,{"$nulls":9},0,{"$nulls":9},0,{"$nulls":9},0]
[{"$nulls":7},0,{"$nulls":9},0,{"$nulls":9},0,{"$nulls":9},0]
[{"$nulls":7},0,{"$nulls":9},0,{"$nulls":9},0,{"$nulls":9},0]
[{"$nulls":7},0,{"$nulls":9},0,{"$nulls":9},0,{"$nulls":9},0]
[{"$nulls":7},0,{"$nulls":9},0,{"$nulls":9},0,{"$nulls":9},0]
[{"$nulls":7},0,{"$nulls":9},0,{"$nulls":9},0,{"$nulls":9},0]
[null,"Totale mesi 2019/2020",{"$nulls":6},{"$f":"INT(SUM(H49:H58,R49:T58,AL49:AN58)/30)","v":0},null,null,"punti",null,{"$f":"I59*0.5","v":{"v":0,"d":"0.00"}},{"$nulls":7},"Totale mesi 2020/2021",{"$nulls":6},{"$f":"INT(SUM(AB49:AB58,AL49:AN58,)/30)","v":0},null,null,"punti",null,{"$f":"AC59*0.5","v":{"v":0,"d":"0.00"}}]
[null,"Totale giorni 2019/2020",{"$nulls":6},{"$f":"SUM(H49:H58,R49:T58,)-I59*30","v":0},null,null,"punti",null,{"$f":"IF(I60>15,0.5,0)","v":{"v":0,"d":"0.00"}},{"$nulls":7},"Totale giorni 2020/2021",{"$nulls":6},{"$f":"SUM(AB49:AB58,AL49:AN58)-AC59*30","v":0},null,null,"punti",null,{"$f":"IF(AC60>15,0.5,0)","v":{"v":0,"d":"0.00"}}]
[null,"Totale titoli di servizio a.s. 2019/2020",{"$nulls":11},{"$f":"SUM(N59:O60)","v":{"v":0,"d":"0.00"}},{"$nulls":7},"Totale titoli di servizio a.s. 2020/2021",{"$nulls":11},{"$f":"SUM(AH59:AI60)","v":{"v":0,"d":"0.00"}}]
[]
[null,"Servizio non statale (per ogni mese o frazione superiore a 15 giorni): 0,25"]
[null,"Servizio prestato in qualità di cuoco in:\na) scuole dell'infanzia non statali autorizzate;\nb) scuole primarie non statali parificate, sussidiate o sussidiarie;\nc) scuole di istruzione secondaria o artistica non statali pareggiate, legalmente riconosciute e convenzionate;\nd) scuole non statali paritarie"]
[]
[null,"Servizio svolto nell' a.s. 2017/2018",{"$nulls":19},"Servizio svolto nell' a.s. 2018/2019"]
[null,"DAL",null,null,"AL",null,null,"TOT GG",{"$nulls":3},"DAL",null,null,"AL",null,null,"TOT GG",{"$nulls":3},"DAL",null,null,"AL",null,null,"TOT GG",{"$nulls":3},"DAL",null,null,"AL",null,null,"TOT GG"]
[{"$nulls":7},{"$f":"IF(B68=0,0,DAYS360(B68,E68+1))","v":0},{"$nulls":9},{"$f":"IF(I68=0,0,DAYS360(I68,L68+1))","v":0},{"$nulls":9},{"$f":"IF(V68=0,0,DAYS360(V68,Y68+1))","v":0},{"$nulls":9},{"$f":"IF(AC68=0,0,DAYS360(AC68,AF68+1))","v":0}]
[{"$nulls":7},{"$f":"IF(B69=0,0,DAYS360(B69,E69+1))","v":0},{"$nulls":9},0,{"$nulls":9},{"$f":"IF(V69=0,0,DAYS360(V69,Y69+1))","v":0},{"$nulls":9},0]
[{"$nulls":7},0,{"$nulls":9},0,{"$nulls":9},0,{"$nulls":9},0]
[{"$nulls":7},0,{"$nulls":9},0,{"$nulls":9},0,{"$nulls":9},0]
[{"$nulls":7},0,{"$nulls":9},0,{"$nulls":9},0,{"$nulls":9},0]
[{"$nulls":7},0,{"$nulls":9},0,{"$nulls":9},0,{"$nulls":9},0]
[{"$nulls":7},0,{"$nulls":9},0,{"$nulls":9},0,{"$nulls":9},0]
[{"$nulls":7},0,{"$nulls":9},0,{"$nulls":9},0,{"$nulls":9},0]
[{"$nulls":7},0,{"$nulls":9},0,{"$nulls":9},0,{"$nulls":9},0]
[{"$nulls":7},0,{"$nulls":9},0,{"$nulls":9},0,{"$nulls":9},0]
[null,"Totale mesi 2017/2018",{"$nulls":6},{"$f":"INT(SUM(H68:H77,R68:T77,AL68:AN77)/30)","v":0},null,null,"punti",null,{"$f":"I78*0.25","v":{"v":0,"d":"0.00"}},{"$nulls":7},"Totale mesi 2018/2019",{"$nulls":6},{"$f":"INT(SUM(AB68:AB77,AL68:AN77,)/30)","v":0},null,null,"punti",null,{"$f":"AC78*0.25","v":{"v":0,"d":"0.00"}}]
[null,"Totale giorni 2017/2018",{"$nulls":6},{"$f":"SUM(H68:H77,R68:T77,)-I78*30","v":0},null,null,"punti",null,{"$f":"IF(I79>15,0.25,0)","v":{"v":0,"d":"0.00"}},{"$nulls":7},"Totale giorni 2018/2019",{"$nulls":6},{"$f":"SUM(AB68:AB77,AL68:AN77)-AC78*30","v":0},null,null,"punti",null,{"$f":"IF(AC79>15,0.25,0)","v":{"v":0,"d":"0.00"}}]
[null,"Totale titoli di servizio a.s. 2017/2018",{"$nulls":11},{"$f":"SUM(N78:O79)","v":{"v":0,"d":"0.00"}},{"$nulls":7},"Totale titoli di servizio a.s. 2018/2019",{"$nulls":11},{"$f":"SUM(AH78:AI79)","v":{"v":0,"d":"0.00"}}]
[]
[null,"Servizio svolto nell' a.s. 2019/2020",{"$nulls":19},"Servizio svolto nell' a.s. 2020/2021"]
[null,"DAL",null,null,"AL",null,null,"TOT GG",{"$nulls":3},"DAL",null,null,"AL",null,null,"TOT GG",{"$nulls":3},"DAL",null,null,"AL",null,null,"TOT GG",{"$nulls":3},"DAL",null,null,"AL",null,null,"TOT GG"]
[{"$nulls":7},{"$f":"IF(B84=0,0,DAYS360(B84,E84+1))","v":0},{"$nulls":9},{"$f":"IF(I84=0,0,DAYS360(I84,L84+1))","v":0},{"$nulls":9},{"$f":"IF(V84=0,0,DAYS360(V84,Y84+1))","v":0},{"$nulls":9},{"$f":"IF(AC84=0,0,DAYS360(AC84,AF84+1))","v":0}]
[{"$nulls":7},{"$f":"IF(B85=0,0,DAYS360(B85,E85+1))","v":0},{"$nulls":9},0,{"$nulls":9},{"$f":"IF(V85=0,0,DAYS360(V85,Y85+1))","v":0},{"$nulls":9},0]
[{"$nulls":7},0,{"$nulls":9},0,{"$nulls":9},0,{"$nulls":9},0]
[{"$nulls":7},0,{"$nulls":9},0,{"$nulls":9},0,{"$nulls":9},0]
[{"$nulls":7},0,{"$nulls":9},0,{"$nulls":9},0,{"$nulls":9},0]
[{"$nulls":7},0,{"$nulls":9},0,{"$nulls":9},0,{"$nulls":9},0]
[{"$nulls":7},0,{"$nulls":9},0,{"$nulls":9},0,{"$nulls":9},0]
[{"$nulls":7},0,{"$nulls":9},0,{"$nulls":9},0,{"$nulls":9},0]
[{"$nulls":7},0,{"$nulls":9},0,{"$nulls":9},0,{"$nulls":9},0]
[{"$nulls":7},0,{"$nulls":9},0,{"$nulls":9},0,{"$nulls":9},0]
[null,"Totale mesi 2019/2020",{"$nulls":6},{"$f":"INT(SUM(H84:H93,R84:T93,)/30)","v":0},null,null,"punti",null,{"$f":"I94*0.25","v":{"v":0,"d":"0.00"}},{"$nulls":7},"Totale mesi 2020/2021",{"$nulls":6},{"$f":"INT(SUM(AB84:AB93,AL84:AN93,)/30)","v":0},null,null,"punti",null,{"$f":"AC94*0.25","v":{"v":0,"d":"0.00"}}]
[null,"Totale giorni 2019/2020",{"$nulls":6},{"$f":"SUM(H84:H93,R84:T93)-I94*30","v":0},null,null,"punti",null,{"$f":"IF(I95>15,0.25,0)","v":{"v":0,"d":"0.00"}},{"$nulls":7},"Totale giorni 2020/2021",{"$nulls":6},{"$f":"SUM(AB84:AB93,AL84:AN93)-AC94*30","v":0},null,null,"punti",null,{"$f":"IF(AC95>15,0.25,0)","v":{"v":0,"d":"0.00"}}]
[null,"Totale titoli di servizio a.s. 2019/2020",{"$nulls":11},{"$f":"SUM(N94:O95)","v":{"v":0,"d":"0.00"}},{"$nulls":7},"Totale titoli di servizio a.s. 2020/2021",{"$nulls":11},{"$f":"SUM(AH94:AI95)","v":{"v":0,"d":"0.00"}}]
[]
[null,"Altro servizio statale (per ogni mese o frazione superiore a 15 giorni): 0,10"]
[null,"Altro servizio prestato nelle scuole:\na) dell'infanzia statali, delle Regioni Sicilia e Val d'Aosta, delle province autonome di Trento e Bolzano;\nb) primarie statali;\nc) di istruzione secondaria o artistica statali;\nd) nelle istituzioni scolastiche e culturali italiane all'estero, nelle istituzioni convittuali;\ne) nei convitti annessi agli istituti tecnici e professionali, nei convitti nazionali e negli educandati femminili dello Stato, ivi compreso il servizio di insegnamento effettuato nei corsi C.R.A.C.I.S., servizio prestato come modello vivente"]
[]
[null,"Servizio svolto nell' a.s. 2017/2018",{"$nulls":19},"Servizio svolto nell' a.s. 2018/2019"]
[null,"DAL",null,null,"AL",null,null,"TOT GG",{"$nulls":3},"DAL",null,null,"AL",null,null,"TOT GG",{"$nulls":3},"DAL",null,null,"AL",null,null,"TOT GG",{"$nulls":3},"DAL",null,null,"AL",null,null,"TOT GG"]
[{"$nulls":7},{"$f":"IF(B103=0,0,DAYS360(B103,E103+1))","v":0},{"$nulls":9},{"$f":"IF(I103=0,0,DAYS360(I103,L103+1))","v":0},{"$nulls":9},{"$f":"IF(V103=0,0,DAYS360(V103,Y103+1))","v":0},{"$nulls":9},{"$f":"IF(AC103=0,0,DAYS360(AC103,AF103+1))","v":0}]
[{"$nulls":7},{"$f":"IF(B104=0,0,DAYS360(B104,E104+1))","v":0},{"$nulls":9},0,{"$nulls":9},{"$f":"IF(V104=0,0,DAYS360(V104,Y104+1))","v":0},{"$nulls":9},0]
[{"$nulls":7},0,{"$nulls":9},0,{"$nulls":9},0,{"$nulls":9},0]
[{"$nulls":7},0,{"$nulls":9},0,{"$nulls":9},0,{"$nulls":9},0]
[{"$nulls":7},0,{"$nulls":9},0,{"$nulls":9},0,{"$nulls":9},0]
[{"$nulls":7},0,{"$nulls":9},0,{"$nulls":9},0,{"$nulls":9},0]
[{"$nulls":7},0,{"$nulls":9},0,{"$nulls":9},0,{"$nulls":9},0]
[{"$nulls":7},0,{"$nulls":9},0,{"$nulls":9},0,{"$nulls":9},0]
[{"$nulls":7},0,{"$nulls":9},0,{"$nulls":9},0,{"$nulls":9},0]
[{"$nulls":7},0,{"$nulls":9},0,{"$nulls":9},0,{"$nulls":9},0]
[null,"Totale mesi 2017/2018",{"$nulls":6},{"$f":"INT(SUM(H103:H112,R103:T112,AL103:AN112)/30)","v":0},null,null,"punti",null,{"$f":"I113*0.1","v":{"v":0,"d":"0.00"}},{"$nulls":7},"Totale mesi 2018/2019",{"$nulls":6},{"$f":"INT(SUM(AB103:AB112,AL103:AN112,)/30)","v":0},null,null,"punti",null,{"$f":"AC113*0.1","v":{"v":0,"d":"0.00"}}]
[null,"Totale giorni 2017/2018",{"$nulls":6},{"$f":"SUM(H103:H112,R103:T112,)-I113*30","v":0},null,null,"punti",null,{"$f":"IF(I114>15,0.1,0)","v":{"v":0,"d":"0.00"}},{"$nulls":7},"Totale giorni 2018/2019",{"$nulls":6},{"$f":"SUM(AB103:AB112,AL103:AN112)-AC113*30","v":0},null,null,"punti",null,{"$f":"IF(AC114>15,0.1,0)","v":{"v":0,"d":"0.00"}}]
[null,"Totale titoli di servizio a.s. 2017/2018",{"$nulls":11},{"$f":"SUM(N113:O114)","v":{"v":0,"d":"0.00"}},{"$nulls":7},"Totale titoli di servizio a.s. 2018/2019",{"$nulls":11},{"$f":"SUM(AH113:AI114)","v":{"v":0,"d":"0.00"}}]
[]
[null,"Servizio svolto nell' a.s. 2019/2020",{"$nulls":19},"Servizio svolto nell' a.s. 2020/2021"]
[null,"DAL",null,null,"AL",null,null,"TOT GG",{"$nulls":3},"DAL",null,null,"AL",null,null,"TOT GG",{"$nulls":3},"DAL",null,null,"AL",null,null,"TOT GG",{"$nulls":3},"DAL",null,null,"AL",null,null,"TOT GG"]
[{"$nulls":7},{"$f":"IF(B119=0,0,DAYS360(B119,E119+1))","v":0},{"$nulls":9},{"$f":"IF(I119=0,0,DAYS360(I119,L119+1))","v":0},{"$nulls":9},{"$f":"IF(V119=0,0,DAYS360(V119,Y119+1))","v":0},{"$nulls":9},{"$f":"IF(AC119=0,0,DAYS360(AC119,AF119+1))","v":0}]
[{"$nulls":7},{"$f":"IF(B120=0,0,DAYS360(B120,E120+1))","v":0},{"$nulls":9},0,{"$nulls":9},{"$f":"IF(V120=0,0,DAYS360(V120,Y120+1))","v":0},{"$nulls":9},0]
[{"$nulls":7},0,{"$nulls":9},0,{"$nulls":9},0,{"$nulls":9},0]
[{"$nulls":7},0,{"$nulls":9},0,{"$nulls":9},0,{"$nulls":9},0]
[{"$nulls":7},0,{"$nulls":9},0,{"$nulls":9},0,{"$nulls":9},0]
[{"$nulls":7},0,{"$nulls":9},0,{"$nulls":9},0,{"$nulls":9},0]
[{"$nulls":7},0,{"$nulls":9},0,{"$nulls":9},0,{"$nulls":9},0]
[{"$nulls":7},0,{"$nulls":9},0,{"$nulls":9},0,{"$nulls":9},0]
[{"$nulls":7},0,{"$nulls":9},0,{"$nulls":9},0,{"$nulls":9},0]
[{"$nulls":7},0,{"$nulls":9},0,{"$nulls":9},0,{"$nulls":9},0]
[null,"Totale mesi 2019/2020",{"$nulls":6},{"$f":"INT(SUM(H119:H128,R119:T128,)/30)","v":0},null,null,"punti",null,{"$f":"I129*0.1","v":{"v":0,"d":"0.00"}},{"$nulls":7},"Totale mesi 2020/2021",{"$nulls":6},{"$f":"INT(SUM(AB119:AB128,AL119:AN128,)/30)","v":0},null,null,"punti",null,{"$f":"AC129*0.1","v":{"v":0,"d":"0.00"}}]
[null,"Totale giorni 2019/2020",{"$nulls":6},{"$f":"SUM(H119:H128,R119:T128)-I129*30","v":0},null,null,"punti",null,{"$f":"IF(I130>15,0.1,0)","v":{"v":0,"d":"0.00"}},{"$nulls":7},"Totale giorni 2020/2021",{"$nulls":6},{"$f":"SUM(AB119:AB128,AL119:AN128)-AC129*30","v":0},null,null,"punti",null,{"$f":"IF(AC130>15,0.1,0)","v":{"v":0,"d":"0.00"}}]
[null,"Totale titoli di servizio a.s. 2019/2020",{"$nulls":11},{"$f":"SUM(N129:O130)","v":{"v":0,"d":"0.00"}},{"$nulls":7},"Totale titoli di servizio a.s. 2020/2021",{"$nulls":11},{"$f":"SUM(AH129:AI130)","v":{"v":0,"d":"0.00"}}]
[]
[null,"Altro servizio non statale (per ogni mese o frazione superiore a 15 giorni): 0,05"]
[null,"Altro servizio prestato in:\na) scuole dell'infanzia non statali autorizzate;\nb) scuole primarie non statali parificate, sussidiate o sussidiarie;\nc) scuole di istruzione secondaria o artistica non statali pareggiate, legalmente riconosciute e convenzionate;\nd) scuole non statali paritarie"]
[]
[null,"Servizio svolto nell' a.s. 2017/2018",{"$nulls":19},"Servizio svolto nell' a.s. 2018/2019"]
[null,"DAL",null,null,"AL",null,null,"TOT GG",{"$nulls":3},"DAL",null,null,"AL",null,null,"TOT GG",{"$nulls":3},"DAL",null,null,"AL",null,null,"TOT GG",{"$nulls":3},"DAL",null,null,"AL",null,null,"TOT GG"]
[{"$nulls":7},{"$f":"IF(B138=0,0,DAYS360(B138,E138+1))","v":0},{"$nulls":9},{"$f":"IF(I138=0,0,DAYS360(I138,L138+1))","v":0},{"$nulls":9},{"$f":"IF(V138=0,0,DAYS360(V138,Y138+1))","v":0},{"$nulls":9},{"$f":"IF(AC138=0,0,DAYS360(AC138,AF138+1))","v":0}]
[{"$nulls":7},{"$f":"IF(B139=0,0,DAYS360(B139,E139+1))","v":0},{"$nulls":9},0,{"$nulls":9},{"$f":"IF(V139=0,0,DAYS360(V139,Y139+1))","v":0},{"$nulls":9},0]
[{"$nulls":7},0,{"$nulls":9},0,{"$nulls":9},0,{"$nulls":9},0]
[{"$nulls":7},0,{"$nulls":9},0,{"$nulls":9},0,{"$nulls":9},0]
[{"$nulls":7},0,{"$nulls":9},0,{"$nulls":9},0,{"$nulls":9},0]
[{"$nulls":7},0,{"$nulls":9},0,{"$nulls":9},0,{"$nulls":9},0]
[{"$nulls":7},0,{"$nulls":9},0,{"$nulls":9},0,{"$nulls":9},0]
[{"$nulls":7},0,{"$nulls":9},0,{"$nulls":9},0,{"$nulls":9},0]
[{"$nulls":7},0,{"$nulls":9},0,{"$nulls":9},0,{"$nulls":9},0]
[{"$nulls":7},0,{"$nulls":9},0,{"$nulls":9},0,{"$nulls":9},0]
[null,"Totale mesi 2017/2018",{"$nulls":6},{"$f":"INT(SUM(H138:H147,R138:T147,AL138:AN147)/30)","v":0},null,null,"punti",null,{"$f":"I148*0.05","v":{"v":0,"d":"0.000"}},{"$nulls":7},"Totale mesi 2018/2019",{"$nulls":6},{"$f":"INT(SUM(AB138:AB147,AL138:AN147,)/30)","v":0},null,null,"punti",null,{"$f":"AC148*0.05","v":{"v":0,"d":"0.000"}}]
[null,"Totale giorni 2017/2018",{"$nulls":6},{"$f":"SUM(H138:H147,R138:T147,)-I148*30","v":0},null,null,"punti",null,{"$f":"IF(I149>15,0.05,0)","v":{"v":0,"d":"0.000"}},{"$nulls":7},"Totale giorni 2018/2019",{"$nulls":6},{"$f":"SUM(AB138:AB147,AL138:AN147)-AC148*30","v":0},null,null,"punti",null,{"$f":"IF(AC149>15,0.05,0)","v":{"v":0,"d":"0.000"}}]
[null,"Totale titoli di servizio a.s. 2017/2018",{"$nulls":11},{"$f":"SUM(N148:O149)","v":{"v":0,"d":"0.000"}},{"$nulls":7},"Totale titoli di servizio a.s. 2018/2019",{"$nulls":11},{"$f":"SUM(AH148:AI149)","v":{"v":0,"d":"0.000"}}]
[]
[null,"Servizio svolto nell' a.s. 2019/2020",{"$nulls":19},"Servizio svolto nell' a.s. 2020/2021"]
[null,"DAL",null,null,"AL",null,null,"TOT GG",{"$nulls":3},"DAL",null,null,"AL",null,null,"TOT GG",{"$nulls":3},"DAL",null,null,"AL",null,null,"TOT GG",{"$nulls":3},"DAL",null,null,"AL",null,null,"TOT GG"]
[{"$nulls":7},{"$f":"IF(B154=0,0,DAYS360(B154,E154+1))","v":0},{"$nulls":9},{"$f":"IF(I154=0,0,DAYS360(I154,L154+1))","v":0},{"$nulls":9},{"$f":"IF(V154=0,0,DAYS360(V154,Y154+1))","v":0},{"$nulls":9},{"$f":"IF(AC154=0,0,DAYS360(AC154,AF154+1))","v":0}]
[{"$nulls":7},{"$f":"IF(B155=0,0,DAYS360(B155,E155+1))","v":0},{"$nulls":9},0,{"$nulls":9},{"$f":"IF(V155=0,0,DAYS360(V155,Y155+1))","v":0},{"$nulls":9},0]
[{"$nulls":7},0,{"$nulls":9},0,{"$nulls":9},0,{"$nulls":9},0]
[{"$nulls":7},0,{"$nulls":9},0,{"$nulls":9},0,{"$nulls":9},0]
[{"$nulls":7},0,{"$nulls":9},0,{"$nulls":9},0,{"$nulls":9},0]
[{"$nulls":7},0,{"$nulls":9},0,{"$nulls":9},0,{"$nulls":9},0]
[{"$nulls":7},0,{"$nulls":9},0,{"$nulls":9},0,{"$nulls":9},0]
[{"$nulls":7},0,{"$nulls":9},0,{"$nulls":9},0,{"$nulls":9},0]
[{"$nulls":7},0,{"$nulls":9},0,{"$nulls":9},0,{"$nulls":9},0]
[{"$nulls":7},0,{"$nulls":9},0,{"$nulls":9},0,{"$nulls":9},0]
[null,"Totale mesi 2019/2020",{"$nulls":6},{"$f":"INT(SUM(H154:H163,R154:T163,)/30)","v":0},null,null,"punti",null,{"$f":"I164*0.05","v":{"v":0,"d":"0.000"}},{"$nulls":7},"Totale mesi 2020/2021",{"$nulls":6},{"$f":"INT(SUM(AB154:AB163,AL154:AN163,)/30)","v":0},null,null,"punti",null,{"$f":"AC164*0.05","v":{"v":0,"d":"0.000"}}]
[null,"Totale giorni 2019/2020",{"$nulls":6},{"$f":"SUM(H154:H163,R154:T163)-I164*30","v":0},null,null,"punti",null,{"$f":"IF(I165>15,0.05,0)","v":{"v":0,"d":"0.000"}},{"$nulls":7},"Totale giorni 2020/2021",{"$nulls":6},{"$f":"SUM(AB154:AB163,AL154:AN163)-AC164*30","v":0},null,null,"punti",null,{"$f":"IF(AC165>15,0.05,0)","v":{"v":0,"d":"0.000"}}]
[null,"Totale titoli di servizio a.s. 2019/2020",{"$nulls":11},{"$f":"SUM(N164:O165)","v":{"v":0,"d":"0.000"}},{"$nulls":7},"Totale titoli di servizio a.s. 2020/2021",{"$nulls":11},{"$f":"SUM(AH164:AI165)","v":{"v":0,"d":"0.000"}}]
[]
[null,"Servizio altre amministrazioni (per ogni mese o frazione superiore a 15 giorni): 0,05"]
[null,"Servizio prestato alle dirette dipendenze di Amministrazioni statali o Enti locali e nei patronati scolastici"]
[]
[null,"Servizio svolto nell' a.s. 2017/2018",{"$nulls":19},"Servizio svolto nell' a.s. 2017/2018"]
[null,"DAL",null,null,"AL",null,null,"TOT GG",{"$nulls":3},"DAL",null,null,"AL",null,null,"TOT GG",{"$nulls":3},"DAL",null,null,"AL",null,null,"TOT GG",{"$nulls":3},"DAL",null,null,"AL",null,null,"TOT GG"]
[{"$nulls":7},{"$f":"IF(B173=0,0,DAYS360(B173,E173+1))","v":0},{"$nulls":9},{"$f":"IF(I173=0,0,DAYS360(I173,L173+1))","v":0},{"$nulls":9},{"$f":"IF(V173=0,0,DAYS360(V173,Y173+1))","v":0},{"$nulls":9},{"$f":"IF(AC173=0,0,DAYS360(AC173,AF173+1))","v":0}]
[{"$nulls":7},{"$f":"IF(B174=0,0,DAYS360(B174,E174+1))","v":0},{"$nulls":9},0,{"$nulls":9},{"$f":"IF(V174=0,0,DAYS360(V174,Y174+1))","v":0},{"$nulls":9},0]
[{"$nulls":7},0,{"$nulls":9},0,{"$nulls":9},0,{"$nulls":9},0]
[{"$nulls":7},0,{"$nulls":9},0,{"$nulls":9},0,{"$nulls":9},0]
[{"$nulls":7},0,{"$nulls":9},0,{"$nulls":9},0,{"$nulls":9},0]
[{"$nulls":7},0,{"$nulls":9},0,{"$nulls":9},0,{"$nulls":9},0]
[{"$nulls":7},0,{"$nulls":9},0,{"$nulls":9},0,{"$nulls":9},0]
[{"$nulls":7},0,{"$nulls":9},0,{"$nulls":9},0,{"$nulls":9},0]
[{"$nulls":7},0,{"$nulls":9},0,{"$nulls":9},0,{"$nulls":9},0]
[{"$nulls":7},0,{"$nulls":9},0,{"$nulls":9},0,{"$nulls":9},0]
[null,"Totale mesi 2017/2018",{"$nulls":6},{"$f":"INT(SUM(H173:H182,R173:T182,AL173:AN182)/30)","v":0},null,null,"punti",null,{"$f":"I183*0.05","v":{"v":0,"d":"0.00"}},{"$nulls":7},"Totale mesi 2018/2019",{"$nulls":6},{"$f":"INT(SUM(AB173:AB182,AL173:AN182,)/30)","v":0},null,null,"punti",null,{"$f":"AC183*0.05","v":{"v":0,"d":"0.00"}}]
[null,"Totale giorni 2017/2018",{"$nulls":6},{"$f":"SUM(H173:H182,R173:T182,)-I183*30","v":0},null,null,"punti",null,{"$f":"IF(I184>15,0.05,0)","v":{"v":0,"d":"0.00"}},{"$nulls":7},"Totale giorni 2018/2019",{"$nulls":6},{"$f":"SUM(AB173:AB182,AL173:AN182)-AC183*30","v":0},null,null,"punti",null,{"$f":"IF(AC184>15,0.05,0)","v":{"v":0,"d":"0.00"}}]
[null,"Totale titoli di servizio a.s. 2017/2018",{"$nulls":11},{"$f":"SUM(N183:O184)","v":{"v":0,"d":"0.00"}},{"$nulls":7},"Totale titoli di servizio a.s. 2018/2019",{"$nulls":11},{"$f":"SUM(AH183:AI184)","v":{"v":0,"d":"0.00"}}]
[]
[null,"Servizio svolto nell' a.s. 2019/2020",{"$nulls":19},"Servizio svolto nell' a.s. 2020/2021"]
[null,"DAL",null,null,"AL",null,null,"TOT GG",{"$nulls":3},"DAL",null,null,"AL",null,null,"TOT GG",{"$nulls":3},"DAL",null,null,"AL",null,null,"TOT GG",{"$nulls":3},"DAL",null,null,"AL",null,null,"TOT GG"]
[{"$nulls":7},{"$f":"IF(B189=0,0,DAYS360(B189,E189+1))","v":0},{"$nulls":9},{"$f":"IF(I189=0,0,DAYS360(I189,L189+1))","v":0},{"$nulls":9},{"$f":"IF(V189=0,0,DAYS360(V189,Y189+1))","v":0},{"$nulls":9},{"$f":"IF(AC189=0,0,DAYS360(AC189,AF189+1))","v":0}]
[{"$nulls":7},{"$f":"IF(B190=0,0,DAYS360(B190,E190+1))","v":0},{"$nulls":9},0,{"$nulls":9},{"$f":"IF(V190=0,0,DAYS360(V190,Y190+1))","v":0},{"$nulls":9},0]
[{"$nulls":7},0,{"$nulls":9},0,{"$nulls":9},0,{"$nulls":9},0]
[{"$nulls":7},0,{"$nulls":9},0,{"$nulls":9},0,{"$nulls":9},0]
[{"$nulls":7},0,{"$nulls":9},0,{"$nulls":9},0,{"$nulls":9},0]
[{"$nulls":7},0,{"$nulls":9},0,{"$nulls":9},0,{"$nulls":9},0]
[{"$nulls":7},0,{"$nulls":9},0,{"$nulls":9},0,{"$nulls":9},0]
[{"$nulls":7},0,{"$nulls":9},0,{"$nulls":9},0,{"$nulls":9},0]
[{"$nulls":7},0,{"$nulls":9},0,{"$nulls":9},0,{"$nulls":9},0]
[{"$nulls":7},0,{"$nulls":9},0,{"$nulls":9},0,{"$nulls":9},0]
[null,"Totale mesi 2019/2020",{"$nulls":6},{"$f":"INT(SUM(H189:H198,R189:T198,)/30)","v":0},null,null,"punti",null,{"$f":"I199*0.05","v":{"v":0,"d":"0.00"}},{"$nulls":7},"Totale mesi 2020/2021",{"$nulls":6},{"$f":"INT(SUM(AB189:AB198,AL189:AN198,)/30)","v":0},null,null,"punti",null,{"$f":"AC199*0.05","v":{"v":0,"d":"0.00"}}]
[null,"Totale giorni 2019/2020",{"$nulls":6},{"$f":"SUM(H189:H198,R189:T198)-I199*30","v":0},null,null,"punti",null,{"$f":"IF(I200>15,0.05,0)","v":{"v":0,"d":"0.00"}},{"$nulls":7},"Totale giorni 2020/2021",{"$nulls":6},{"$f":"SUM(AB189:AB198,AL189:AN198)-AC199*30","v":0},null,null,"punti",null,{"$f":"IF(AC200>15,0.05,0)","v":{"v":0,"d":"0.00"}}]
[null,"Totale titoli di servizio a.s. 2019/2020",{"$nulls":11},{"$f":"SUM(N199:O200)","v":{"v":0,"d":"0.00"}},{"$nulls":7},"Totale titoli di servizio a.s. 2020/2021",{"$nulls":11},{"$f":"SUM(AH199:AI200)","v":{"v":0,"d":"0.00"}}]
{"$rows_empty":9}
["CALCOLO PUNTEGGIO GRADUATORIE DI ISTITUTO - CUOCO"]
[]
[{"$nulls":3},"Cognome e Nome",{"$nulls":8},{"$f":"L14","v":0}]
[]
[{"$nulls":9},"RIEPILOGO"]
[{"$nulls":9},"Punteggio triennio precedente",{"$nulls":16},{"$f":"Z16","v":{"v":0,"d":"0.000"}}]
[]
[{"$nulls":9},"Totale titoli culturali aggiuntivi",{"$nulls":16},{"$f":"AL25","v":{"v":0,"d":"0.000"}}]
[]
[{"$nulls":9},"Totale titoli di servizio specifico statale",{"$nulls":16},{"$f":"SUM(N45,AH45,N61,AH61)","v":{"v":0,"d":"0.000"}}]
[{"$nulls":9},"Totale titoli di servizio non statale",{"$nulls":16},{"$f":"SUM(N80,AH80,N96,AH96)","v":{"v":0,"d":"0.000"}}]
[{"$nulls":9},"Totale titoli di altro servizio statale",{"$nulls":16},{"$f":"SUM(N115,AH115,N131,AH131)","v":{"v":0,"d":"0.000"}}]
[{"$nulls":9},"Totale titoli di altro servizio non statale",{"$nulls":16},{"$f":"SUM(N150,AH150,N166,AH166)","v":{"v":0,"d":"0.000"}}]
[{"$nulls":9},"Totale titoli di servizio altre amministrazioni",{"$nulls":16},{"$f":"SUM(N185,AH185,N201,AH201)","v":{"v":0,"d":"0.000"}}]
[{"$nulls":9},"Totale titoli di servizio ",{"$nulls":16},{"$f":"SUM(AA220:AC224)","v":{"v":0,"d":"0.000"}}]
[]
[{"$nulls":9},"TOTALE generale",{"$nulls":16},{"$f":"SUM(AA216,AA218,AA225,)","v":{"v":0,"d":"0.000"}}]
[]
[]
[{"$nulls":35},"©","Francesco Gioffreda"]

{"sheet":"AZ_AGR","index":8,"n_rows":230,"n_cols":38,"rows_kept":230,"merged":[[7,1,7,39],[8,1,8,2],[8,3,8,39],[9,1,9,2],[9,3,9,39],[10,1,10,2],[10,3,10,5],[10,6,10,7],[10,8,10,39],[11,1,11,2],[11,3,11,5],[11,6,11,7],[11,8,11,39],[12,1,12,39],[13,1,13,10],[13,11,13,39],[14,1,14,39],[15,1,15,24],[15,25,15,39],[16,1,16,39],[17,1,17,39],[18,1,18,21],[18,23,18,39],[19,1,19,21],[19,23,19,34],[19,35,19,36],[19,37,19,39],[20,1,20,13],[20,23,20,34],[20,35,20,36],[20,37,20,39],[21,1,22,13],[21,14,22,15],[21,16,22,17],[21,18,22,19],[21,20,22,21],[21,23,21,34],[21,37,21,39],[22,23,22,35],[22,37,22,39],[23,1,23,13],[23,14,23,15],[23,16,23,17],[23,18,23,19],[23,20,23,21],[23,23,23,35],[24,1,24,19],[24,20,24,21],[24,23,24,36],[82,28,92,30],[82,31,82,33],[82,34,82,36],[82,37,82,39],[83,1,83,3],[83,4,83,6],[83,11,83,13],[83,14,83,16],[83,17,83,19],[83,21,83,23],[84,14,84,16],[84,17,84,19],[84,21,84,23],[85,24,85,26],[85,31,85,33],[85,34,85,36],[85,37,85,39],[86,1,86,3],[86,4,86,6],[86,21,86,23],[86,24,86,26],[86,31,86,33],[86,34,86,36],[86,37,86,39],[87,1,87,3],[87,4,87,6],[87,11,87,13],[87,14,87,16],[87,17,87,19],[87,21,87,23],[87,24,87,26],[87,31,87,33],[87,34,87,36],[87,37,87,39],[88,1,88,3],[88,4,88,6],[88,11,88,13],[88,14,88,16],[88,17,88,19],[88,21,88,23],[88,24,88,26],[88,31,88,33],[88,34,88,36],[88,37,88,39],[89,1,89,3],[89,4,89,6],[89,11,89,13],[89,14,89,16],[89,17,89,19],[89,21,89,23],[89,24,89,26],[89,31,89,33],[89,34,89,36],[89,37,89,39],[90,1,90,3],[90,4,90,6],[90,11,90,13],[90,14,90,16],[90,17,90,19],[90,21,90,23],[90,24,90,26],[90,31,90,33],[90,34,90,36],[90,37,90,39],[91,1,91,3],[91,4,91,6],[91,11,91,13],[91,14,91,16],[91,17,91,19],[91,21,91,23],[91,24,91,26],[91,31,91,33],[91,34,91,36],[91,37,91,39],[92,1,92,3],[92,4,92,6],[92,11,92,13],[92,14,92,16],[92,17,92,19],[92,21,92,23],[92,24,92,26],[92,31,92,33],[92,34,92,36],[92,37,92,39],[93,1,93,7],[93,11,93,12],[93,13,93,16],[93,17,95,19],[93,21,93,27],[93,31,93,32],[93,33,93,36],[93,37,95,39],[94,1,94,7],[94,11,94,12],[94,13,94,16],[94,21,94,27],[94,31,94,32],[94,33,94,36],[95,1,95,12],[95,13,95,16],[95,21,95,32],[95,33,95,36],[96,1,96,39],[97,1,97,39],[98,1,98,39],[99,1,99,39],[100,1,100,19],[100,20,130,20],[100,21,100,39],[101,1,101,3],[101,4,101,6],[101,8,111,10],[101,11,101,13],[101,14,101,16],[101,17,101,19],[101,21,101,23],[101,24,101,26],[101,28,111,30],[101,31,101,33],[101,34,101,36],[101,37,101,39],[102,1,102,3],[102,4,102,6],[102,11,102,13],[102,14,102,16],[102,17,102,19],[102,21,102,23],[102,24,102,26],[102,31,102,33],[102,34,102,36],[102,37,102,39],[103,1,103,3],[103,4,103,6],[103,11,103,13],[103,14,103,16],[103,17,103,19],[103,21,103,23],[103,24,103,26],[103,31,103,33],[103,34,103,36],[103,37,103,39],[104,1,104,3],[104,4,104,6],[104,11,104,13],[104,14,104,16],[104,17,104,19],[104,21,104,23],[104,24,104,26],[104,31,104,33],[104,34,104,36],[104,37,104,39],[105,1,105,3],[105,4,105,6],[105,11,105,13],[105,14,105,16],[105,17,105,19],[105,21,105,23],[105,24,105,26],[105,31,105,33],[105,34,105,36],[105,37,105,39],[106,1,106,3],[106,4,106,6],[106,11,106,13],[106,14,106,16],[106,17,106,19],[106,21,106,23],[106,24,106,26],[106,31,106,33],[106,34,106,36],[106,37,106,39],[107,1,107,3],[107,4,107,6],[107,11,107,13],[107,14,107,16],[107,17,107,19],[107,21,107,23],[107,24,107,26],[107,31,107,33],[107,34,107,36],[107,37,107,39],[108,1,108,3],[108,4,108,6],[108,11,108,13],[108,14,108,16],[108,17,108,19],[108,21,108,23],[108,24,108,26],[108,31,108,33],[108,34,108,36],[108,37,108,39],[109,1,109,3],[109,4,109,6],[109,11,109,13],[109,14,109,16],[109,17,109,19],[109,21,109,23],[109,24,109,26],[109,31,109,33],[109,34,109,36],[109,37,109,39],[110,1,110,3],[110,4,110,6],[110,11,110,13],[110,14,110,16],[110,17,110,19],[110,21,110,23],[110,24,110,26],[110,31,110,33],[110,34,110,36],[110,37,110,39],[111,1,111,3],[111,4,111,6],[111,11,111,13],[111,14,111,16],[111,17,111,19],[111,21,111,23],[111,24,111,26],[111,31,111,33],[111,34,111,36],[111,37,111,39],[112,1,112,7],[112,11,112,12],[112,13,112,16],[112,17,114,19],[112,21,112,27],[112,31,112,32],[112,33,112,36],[112,37,114,39],[113,1,113,7],[113,11,113,12],[113,13,113,16],[113,21,113,27],[113,31,113,32],[113,33,113,36],[114,1,114,12],[114,13,114,16],[114,21,114,32],[114,33,114,36],[115,1,115,19],[115,21,115,39],[116,1,116,19],[116,21,116,39],[117,1,117,3],[117,4,117,6],[117,8,127,10],[117,11,117,13],[117,14,117,16],[117,17,117,19],[117,21,117,23],[117,24,117,26],[117,28,127,30],[117,31,117,33],[117,34,117,36],[117,37,117,39],[118,1,118,3],[118,4,118,6],[118,11,118,13],[118,14,118,16],[118,17,118,19],[118,21,118,23],[118,24,118,26],[118,31,118,33],[118,34,118,36],[118,37,118,39],[119,1,119,3],[119,4,119,6],[119,11,119,13],[119,14,119,16],[119,17,119,19],[119,21,119,23],[119,24,119,26],[119,31,119,33],[119,34,119,36],[119,37,119,39],[120,1,120,3],[120,4,120,6],[120,11,120,13],[120,14,120,16],[120,17,120,19],[120,21,120,23],[120,24,120,26],[120,31,120,33],[120,34,120,36],[120,37,120,39],[121,1,121,3],[121,4,121,6],[121,11,121,13],[121,14,121,16],[121,17,121,19],[121,21,121,23],[121,24,121,26],[121,31,121,33],[121,34,121,36],[121,37,121,39],[122,1,122,3],[122,4,122,6],[122,11,122,13],[122,14,122,16],[122,17,122,19],[122,21,122,23],[122,24,122,26],[122,31,122,33],[122,34,122,36],[122,37,122,39],[123,1,123,3],[123,4,123,6],[123,11,123,13],[123,14,123,16],[123,17,123,19],[123,21,123,23],[123,24,123,26],[123,31,123,33],[123,34,123,36],[123,37,123,39],[124,1,124,3],[124,4,124,6],[124,11,124,13],[124,14,124,16],[124,17,124,19],[124,21,124,23],[124,24,124,26],[124,31,124,33],[124,34,124,36],[124,37,124,39],[125,1,125,3],[125,4,125,6],[125,11,125,13],[125,14,125,16],[125,17,125,19],[125,21,125,23],[125,24,125,26],[125,31,125,33],[125,34,125,36],[125,37,125,39],[126,1,126,3],[126,4,126,6],[126,11,126,13],[126,14,126,16],[126,17,126,19],[126,21,126,23],[126,24,126,26],[126,31,126,33],[126,34,126,36],[126,37,126,39],[127,1,127,3],[127,4,127,6],[127,11,127,13],[127,14,127,16],[127,17,127,19],[127,21,127,23],[127,24,127,26],[127,31,127,33],[127,34,127,36],[127,37,127,39],[128,1,128,7],[128,11,128,12],[128,13,128,16],[128,17,130,19],[128,21,128,27],[128,31,128,32],[128,33,128,36],[128,37,130,39],[129,1,129,7],[129,11,129,12],[129,13,129,16],[129,21,129,27],[129,31,129,32],[129,33,129,36],[130,1,130,12],[130,13,130,16],[130,21,130,32],[130,33,130,36],[131,1,131,39],[132,1,132,39],[133,1,133,39],[134,1,134,39],[135,1,135,19],[135,20,165,20],[135,21,135,39],[136,1,136,3],[136,4,136,6],[136,8,146,10],[136,11,136,13],[136,14,136,16],[136,17,136,19],[136,21,136,23],[136,24,136,26],[136,28,146,30],[136,31,136,33],[136,34,136,36],[136,37,136,39],[137,1,137,3],[137,4,137,6],[137,11,137,13],[137,14,137,16],[137,17,137,19],[137,21,137,23],[137,24,137,26],[137,31,137,33],[137,34,137,36],[137,37,137,39],[138,1,138,3],[138,4,138,6],[138,11,138,13],[138,14,138,16],[138,17,138,19],[138,21,138,23],[138,24,138,26],[138,31,138,33],[138,34,138,36],[138,37,138,39],[139,1,139,3],[139,4,139,6],[139,11,139,13],[139,14,139,16],[139,17,139,19],[139,21,139,23],[139,24,139,26],[139,31,139,33],[139,34,139,36],[139,37,139,39],[140,1,140,3],[140,4,140,6],[140,11,140,13],[140,14,140,16],[140,17,140,19],[140,21,140,23],[140,24,140,26],[140,31,140,33],[140,34,140,36],[140,37,140,39],[141,1,141,3],[141,4,141,6],[141,11,141,13],[141,14,141,16],[141,17,141,19],[141,21,141,23],[141,24,141,26],[141,31,141,33],[141,34,141,36],[141,37,141,39],[142,1,142,3],[142,4,142,6],[142,11,142,13],[142,14,142,16],[142,17,142,19],[142,21,142,23],[142,24,142,26],[142,31,142,33],[142,34,142,36],[142,37,142,39],[143,1,143,3],[143,4,143,6],[143,11,143,13],[143,14,143,16],[143,17,143,19],[143,21,143,23],[143,24,143,26],[143,31,143,33],[143,34,143,36],[143,37,143,39],[144,1,144,3],[144,4,144,6],[144,11,144,13],[144,14,144,16],[144,17,144,19],[144,21,144,23],[144,24,144,26],[144,31,144,33],[144,34,144,36],[144,37,144,39],[145,1,145,3],[145,4,145,6],[145,11,145,13],[145,14,145,16],[145,17,145,19],[145,21,145,23],[145,24,145,26],[145,31,145,33],[145,34,145,36],[145,37,145,39],[146,1,146,3],[146,4,146,6],[146,11,146,13],[146,14,146,16],[146,17,146,19],[146,21,146,23],[146,24,146,26],[146,31,146,33],[146,34,146,36],[146,37,146,39],[147,1,147,7],[147,11,147,12],[147,13,147,16],[147,17,149,19],[147,21,147,27],[147,31,147,32],[147,33,147,36],[147,37,149,39],[148,1,148,7],[148,11,148,12],[148,13,148,16],[148,21,148,27],[148,31,148,32],[148,33,148,36],[149,1,149,12],[149,13,149,16],[149,21,149,32],[149,33,149,36],[150,1,150,19],[150,21,150,39],[151,1,151,19],[151,21,151,39],[152,1,152,3],[152,4,152,6],[152,8,162,10],[152,11,152,13],[152,14,152,16],[152,17,152,19],[152,21,152,23],[152,24,152,26],[152,28,162,30],[152,31,152,33],[152,34,152,36],[152,37,152,39],[153,1,153,3],[153,4,153,6],[153,11,153,13],[153,14,153,16],[153,17,153,19],[153,21,153,23],[153,24,153,26],[153,31,153,33],[153,34,153,36],[153,37,153,39],[154,1,154,3],[154,4,154,6],[154,11,154,13],[154,14,154,16],[154,17,154,19],[154,21,154,23],[154,24,154,26],[154,31,154,33],[154,34,154,36],[154,37,154,39],[155,1,155,3],[155,4,155,6],[155,11,155,13],[155,14,155,16],[155,17,155,19],[155,21,155,23],[155,24,155,26],[155,31,155,33],[155,34,155,36],[155,37,155,39],[156,1,156,3],[156,4,156,6],[156,11,156,13],[156,14,156,16],[156,17,156,19],[156,21,156,23],[156,24,156,26],[156,31,156,33],[156,34,156,36],[156,37,156,39],[157,1,157,3],[157,4,157,6],[157,11,157,13],[157,14,157,16],[157,17,157,19],[157,21,157,23],[157,24,157,26],[157,31,157,33],[157,34,157,36],[157,37,157,39],[158,1,158,3],[158,4,158,6],[158,11,158,13],[158,14,158,16],[158,17,158,19],[158,21,158,23],[158,24,158,26],[158,31,158,33],[158,34,158,36],[158,37,158,39],[159,1,159,3],[159,4,159,6],[159,11,159,13],[159,14,159,16],[159,17,159,19],[159,21,159,23],[159,24,159,26],[159,31,159,33],[159,34,159,36],[159,37,159,39],[160,1,160,3],[160,4,160,6],[160,11,160,13],[160,14,160,16],[160,17,160,19],[160,21,160,23],[160,24,160,26],[160,31,160,33],[160,34,160,36],[160,37,160,39],[161,1,161,3],[161,4,161,6],[161,11,161,13],[161,14,161,16],[161,17,161,19],[161,21,161,23],[161,24,161,26],[161,31,161,33],[161,34,161,36],[161,37,161,39],[162,1,162,3],[162,4,162,6],[162,11,162,13],[162,14,162,16],[162,17,162,19],[162,21,162,23],[162,24,162,26],[162,31,162,33],[162,34,162,36],[162,37,162,39],[163,1,163,7],[163,11,163,12],[163,13,163,16],[163,17,165,19],[163,21,163,27],[163,31,163,32],[163,33,163,36],[163,37,165,39],[164,1,164,7],[164,11,164,12],[164,13,164,16],[164,21,164,27],[164,31,164,32],[164,33,164,36],[165,1,165,12],[165,13,165,16],[165,21,165,32],[165,33,165,36],[166,1,166,39],[167,1,167,39],[168,1,168,39],[169,1,169,39],[170,1,170,19],[170,20,200,20],[170,21,170,39],[171,1,171,3],[171,4,171,6],[171,8,181,10],[171,11,171,13],[171,14,171,16],[171,17,171,19],[171,21,171,23],[171,24,171,26],[171,28,181,30],[171,31,171,33],[171,34,171,36],[171,37,171,39],[172,1,172,3],[172,4,172,6],[172,11,172,13],[172,14,172,16],[172,17,172,19],[172,21,172,23],[172,24,172,26],[172,31,172,33],[172,34,172,36],[172,37,172,39],[173,1,173,3],[173,4,173,6],[173,11,173,13],[173,14,173,16],[173,17,173,19],[173,21,173,23],[173,24,173,26],[173,31,173,33],[173,34,173,36],[173,37,173,39],[174,1,174,3],[174,4,174,6],[174,11,174,13],[174,14,174,16],[174,17,174,19],[174,21,174,23],[174,24,174,26],[174,31,174,33],[174,34,174,36],[174,37,174,39],[175,1,175,3],[175,4,175,6],[175,11,175,13],[175,14,175,16],[175,17,175,19],[175,21,175,23],[175,24,175,26],[175,31,175,33],[175,34,175,36],[175,37,175,39],[176,1,176,3],[176,4,176,6],[176,11,176,13],[176,14,176,16],[176,17,176,19],[176,21,176,23],[176,24,176,26],[176,31,176,33],[176,34,176,36],[176,37,176,39],[177,1,177,3],[177,4,177,6],[177,11,177,13],[177,14,177,16],[177,17,177,19],[177,21,177,23],[177,24,177,26],[177,31,177,33],[177,34,177,36],[177,37,177,39],[178,1,178,3],[178,4,178,6],[178,11,178,13],[178,14,178,16],[178,17,178,19],[178,21,178,23],[178,24,178,26],[178,31,178,33],[178,34,178,36],[178,37,178,39],[179,1,179,3],[179,4,179,6],[179,11,179,13],[179,14,179,16],[179,17,179,19],[179,21,179,23],[179,24,179,26],[179,31,179,33],[179,34,179,36],[179,37,179,39],[180,1,180,3],[180,4,180,6],[180,11,180,13],[180,14,180,16],[180,17,180,19],[180,21,180,23],[180,24,180,26],[180,31,180,33],[180,34,180,36],[180,37,180,39],[181,1,181,3],[181,4,181,6],[181,11,181,13],[181,14,181,16],[181,17,181,19],[181,21,181,23],[181,24,181,26],[181,31,181,33],[181,34,181,36],[181,37,181,39],[182,1,182,7],[182,8,182,10],[182,11,182,12],[182,13,182,16],[182,17,184,19],[182,21,182,27],[182,28,182,30],[182,31,182,32],[182,33,182,36],[182,37,184,39],[183,1,183,7],[183,8,183,10],[183,11,183,12],[183,13,183,16],[183,21,183,27],[183,28,183,30],[183,31,183,32],[183,33,183,36],[184,1,184,12],[184,13,184,16],[184,21,184,32],[184,33,184,36],[185,1,185,19],[185,21,185,39],[186,1,186,19],[186,21,186,39],[187,1,187,3],[187,4,187,6],[187,8,197,10],[187,11,187,13],[187,14,187,16],[187,17,187,19],[187,21,187,23],[187,24,187,26],[187,28,197,30],[187,31,187,33],[187,34,187,36],[187,37,187,39],[188,1,188,3],[188,4,188,6],[188,11,188,13],[188,14,188,16],[188,17,188,19],[188,21,188,23],[188,24,188,26],[188,31,188,33],[188,34,188,36],[188,37,188,39],[189,1,189,3],[189,4,189,6],[189,11,189,13],[189,14,189,16],[189,17,189,19],[189,21,189,23],[189,24,189,26],[189,31,189,33],[189,34,189,36],[189,37,189,39],[190,1,190,3],[190,4,190,6],[190,11,190,13],[190,14,190,16],[190,17,190,19],[190,21,190,23],[190,24,190,26],[190,31,190,33],[190,34,190,36],[190,37,190,39],[191,1,191,3],[191,4,191,6],[191,11,191,13],[191,14,191,16],[191,17,191,19],[191,21,191,23],[191,24,191,26],[191,31,191,33],[191,34,191,36],[191,37,191,39],[192,1,192,3],[192,4,192,6],[192,11,192,13],[192,14,192,16],[192,17,192,19],[192,21,192,23],[192,24,192,26],[192,31,192,33],[192,34,192,36],[192,37,192,39],[193,1,193,3],[193,4,193,6],[193,11,193,13],[193,14,193,16],[193,17,193,19],[193,21,193,23],[193,24,193,26],[193,31,193,33],[193,34,193,36],[193,37,193,39],[194,1,194,3],[194,4,194,6],[194,11,194,13],[194,14,194,16],[194,17,194,19],[194,21,194,23],[194,24,194,26],[194,31,194,33],[194,34,194,36],[194,37,194,39],[195,1,195,3],[195,4,195,6],[195,11,195,13],[195,14,195,16],[195,17,195,19],[195,21,195,23],[195,24,195,26],[195,31,195,33],[195,34,195,36],[195,37,195,39],[196,1,196,3],[196,4,196,6],[196,11,196,13],[196,14,196,16],[196,17,196,19],[196,21,196,23],[196,24,196,26],[196,31,196,33],[196,34,196,36],[196,37,196,39],[197,1,197,3],[197,4,197,6],[197,11,197,13],[197,14,197,16],[197,17,197,19],[197,21,197,23],[197,24,197,26],[197,31,197,33],[197,34,197,36],[197,37,197,39],[198,1,198,7],[198,8,198,10],[198,11,198,12],[198,13,198,16],[198,17,200,19],[198,21,198,27],[198,28,198,30],[198,31,198,32],[198,33,198,36],[198,37,200,39],[199,1,199,7],[199,8,199,10],[199,11,199,12],[199,13,199,16],[199,21,199,27],[199,28,199,30],[199,31,199,32],[199,33,199,36],[200,1,200,12],[200,13,200,16],[200,21,200,32],[200,33,200,36],[201,1,201,39],[202,0,202,40],[203,0,207,40],[210,0,210,40],[212,3,212,11],[212,12,212,37],[214,9,214,28],[215,9,215,25],[215,26,215,28],[216,9,216,28],[217,9,217,25],[217,26,217,28],[218,9,218,28],[219,9,219,25],[219,26,219,28],[220,9,220,25],[220,26,220,28],[221,9,221,25],[221,26,221,28],[222,9,222,25],[222,26,222,28],[223,9,223,25],[223,26,223,28],[224,9,224,25],[224,26,224,28],[225,9,225,28],[226,9,227,25],[226,26,227,28]],"merged_total":1480,"flags":["merged_cut"]}
[]
[]
[]
[]
[]
[]
[null,"CALCOLO PUNTEGGIO GRADUATORIE DI ISTITUTO - ADDETTO AZIENDE AGRARIE"]
[]
[null,"Nota 1: ",null,"In caso di periodi coincidenti (es servizi parte time) è necessario inserirne solo uno"]
[null,"Nota 2: ",null,"Nel servizio svolto inserire la data nel formato giorno/mese/anno oppure giorno-mese-anno"]
[null,"Nota 3: ",null,"Caselle ",{"$nulls":4}," inserimento valori con menu a tendina"]
[null,"Nota 4: ",null,"Caselle ",{"$nulls":4}," inserimento valori da tastiera"]
[]
[null,"Cognome e Nome"]
[]
[null,"Punteggio totale assegnato nel triennio precedente"]
[]
[null,"TITOLI  DI CULTURA DOPO L'ULTIMO AGGIORNAMENTO/INSERIMENTO"]
[null,"TITOLO DI ACCESSO",{"$nulls":21},"TITOLI  DI CULTURA CONSEGUITI  "]
[null,"(da compilare solo per variazione titolo di accesso)",{"$nulls":21},"Tipologia titoli posseduti",{"$nulls":11},"Si/No",null,"punti"]
[null,"Tipologia",{"$nulls":12},"voto / giudizio ",{"$nulls":5},"punti",null,null,"Diploma di maturità",{"$nulls":13},{"$f":"IF(AJ21=\"SI\",3,0)","v":{"v":0,"d":"0.00"}}]
[null,"Scegli titolo di accesso precedentemente inserito",{"$nulls":14},"su",{"$nulls":3},{"$f":"IF(O22=0,0, O22*10/S22)","v":{"v":0,"d":"0.00"}},null,null,"Idoneità concorsi pubblici addetto aziende agrarie",{"$nulls":13},{"$f":"IF(AJ22=\"SI\",2,0)","v":{"v":0,"d":"0.00"}}]
[{"$nulls":23},"Scegli certificazione precedentemente inserita",{"$nulls":13},{"$f":"VLOOKUP(X23,tab_az!A14:B40,2,FALSE)","v":{"v":0,"d":"0.00"}}]
[null,"Scegli nuovo titolo di accesso",{"$nulls":14},"su",{"$nulls":3},{"$f":"IF(O24=0,0, O24*10/S24)","v":{"v":0,"d":"0.00"}},null,null,"Scegli nuova certificazione conseguita",{"$nulls":13},{"$f":"VLOOKUP(X24,tab_az!A42:B67,2,FALSE)","v":{"v":0,"d":"0.00"}}]
[null,"Punteggio aggiuntivo titolo di accesso",{"$nulls":18},{"$f":"U24-U22","v":{"v":0,"d":"0.00"}},null,null,"Totale titoli di cultura aggiuntivi",{"$nulls":13},{"$f":"AL21+AL22+AL24-AL23","v":{"v":0,"d":"0.00"}}]
[null,"SERVIZIO SVOLTO SUCCESSIVAMENTE ALLA DATA DEL 30/10/2017"]
[]
[null,"Servizio specifico statale (per ogni mese o frazione superiore a 15 giorni): 0,50"]
[null,"Servizio prestato in qualità di addetto alle aziende agrarie in:\na) scuole dell'infanzia statali, delle Regioni Sicilia e Val d'Aosta, delle province autonome di Trento e Bolzano;\nb) Scuole primarie statali;\nc) Scuole di istruzione secondaria o artistica statali, nelle istituzioni scolastiche e culturali italiane all'estero, nelle istituzioni convittuali"]
[]
[null,"Servizio svolto nell' a.s. 2017/2018",{"$nulls":19},"Servizio svolto nell' a.s. 2018/2019"]
[null,"DAL",null,null,"AL",null,null,"TOT GG",{"$nulls":3},"DAL",null,null,"AL",null,null,"TOT GG",{"$nulls":3},"DAL",null,null,"AL",null,null,"TOT GG",{"$nulls":3},"DAL",null,null,"AL",null,null,"TOT GG"]
[{"$nulls":7},{"$f":"IF(B33=0,0,DAYS360(B33,E33+1))","v":0},{"$nulls":9},{"$f":"IF(I33=0,0,DAYS360(I33,L33+1))","v":0},{"$nulls":9},{"$f":"IF(V33=0,0,DAYS360(V33,Y33+1))","v":0},{"$nulls":9},{"$f":"IF(AC33=0,0,DAYS360(AC33,AF33+1))","v":0}]
[{"$nulls":7},{"$f":"IF(B34=0,0,DAYS360(B34,E34+1))","v":0},{"$nulls":9},0,{"$nulls":9},{"$f":"IF(V34=0,0,DAYS360(V34,Y34+1))","v":0},{"$nulls":9},0]
[{"$nulls":7},0,{"$nulls":9},0,{"$nulls":9},0,{"$nulls":9},0]
[{"$nulls":7},0,{"$nulls":9},0,{"$nulls":9},0,{"$nulls":9},0]
[{"$nulls":7},0,{"$nulls":9},0,{"$nulls":9},0,{"$nulls":9},0]
[{"$nulls":7},0,{"$nulls":9},0,{"$nulls":9},0,{"$nulls":9},0]
[{"$nulls":7},0,{"$nulls":9},0,{"$nulls":9},0,{"$nulls":9},0]
[{"$nulls":7},0,{"$nulls":9},0,{"$nulls":9},0,{"$nulls":9},0]
[{"$nulls":7},0,{"$nulls":9},0,{"$nulls":9},0,{"$nulls":9},0]
[{"$nulls":7},0,{"$nulls":9},0,{"$nulls":9},0,{"$nulls":9},0]
[null,"Totale mesi 2017/2018",{"$nulls":6},{"$f":"INT(SUM(H33:H42,R33:T42,AL33:AN42)/30)","v":0},null,null,"punti",null,{"$f":"I43*0.5","v":{"v":0,"d":"0.00"}},{"$nulls":7},"Totale mesi 2018/2019",{"$nulls":6},{"$f":"INT(SUM(AB33:AB42,AL33:AN42,BF33:BH42)/30)","v":0},null,null,"punti",null,{"$f":"AC43*0.5","v":{"v":0,"d":"0.00"}}]
[null,"Totale giorni 2017/2018",{"$nulls":6},{"$f":"SUM(H33:H42,R33:T42,)-I43*30","v":0},null,null,"punti",null,{"$f":"IF(I44>15,0.5,0)","v":{"v":0,"d":"0.00"}},{"$nulls":7},"Totale giorni 2018/2019",{"$nulls":6},{"$f":"SUM(AB33:AB42,AL33:AN42,)-AC43*30","v":0},null,null,"punti",null,{"$f":"IF(AC44>15,0.5,0)","v":{"v":0,"d":"0.00"}}]
[null,"Totale titoli di servizio a.s. 2017/2018",{"$nulls":11},{"$f":"SUM(N43:O44)","v":{"v":0,"d":"0.00"}},{"$nulls":7},"Totale titoli di servizio a.s. 2018/2019",{"$nulls":11},{"$f":"SUM(AH43:AI44)","v":{"v":0,"d":"0.00"}}]
[]
[null,"Servizio svolto nell' a.s. 2019/2020",{"$nulls":19},"Servizio svolto nell' a.s. 2020/2021"]
[null,"DAL",null,null,"AL",null,null,"TOT GG",{"$nulls":3},"DAL",null,null,"AL",null,null,"TOT GG",{"$nulls":3},"DAL",null,null,"AL",null,null,"TOT GG",{"$nulls":3},"DAL",null,null,"AL",null,null,"TOT GG"]
[{"$nulls":7},{"$f":"IF(B49=0,0,DAYS360(B49,E49+1))","v":0},{"$nulls":9},{"$f":"IF(I49=0,0,DAYS360(I49,L49+1))","v":0},{"$nulls":9},{"$f":"IF(V49=0,0,DAYS360(V49,Y49+1))","v":0},{"$nulls":9},{"$f":"IF(AC49=0,0,DAYS360(AC49,AF49+1))","v":0}]
[{"$nulls":7},{"$f":"IF(B50=0,0,DAYS360(B50,E50+1))","v":0},{"$nulls":9},0,{"$nulls":9},{"$f":"IF(V50=0,0,DAYS360(V50,Y50+1))","v":0},{"$nulls":9},0]
[{"$nulls":7},0,{"$nulls":9},0,{"$nulls":9},0,{"$nulls":9},0]
[{"$nulls":7},0,{"$nulls":9},0,{"$nulls":9},0,{"$nulls":9},0]
[{"$nulls":7},0,{"$nulls":9},0,{"$nulls":9},0,{"$nulls":9},0]
[{"$nulls":7},0,{"$nulls":9},0,{"$nulls":9},0,{"$nulls":9},0]
[{"$nulls":7},0,{"$nulls":9},0,{"$nulls":9},0,{"$nulls":9},0]
[{"$nulls":7},0,{"$nulls":9},0,{"$nulls":9},0,{"$nulls":9},0]
[{"$nulls":7},0,{"$nulls":9},0,{"$nulls":9},0,{"$nulls":9},0]
[{"$nulls":7},0,{"$nulls":9},0,{"$nulls":9},0,{"$nulls":9},0]
[null,"Totale mesi 2019/2020",{"$nulls":6},{"$f":"INT(SUM(H49:H58,R49:T58,AL49:AN58)/30)","v":0},null,null,"punti",null,{"$f":"I59*0.5","v":{"v":0,"d":"0.00"}},{"$nulls":7},"Totale mesi 2020/2021",{"$nulls":6},{"$f":"INT(SUM(AB49:AB58,AL49:AN58,)/30)","v":0},null,null,"punti",null,{"$f":"AC59*0.5","v":{"v":0,"d":"0.00"}}]
[null,"Totale giorni 2019/2020",{"$nulls":6},{"$f":"SUM(H49:H58,R49:T58,)-I59*30","v":0},null,null,"punti",null,{"$f":"IF(I60>15,0.5,0)","v":{"v":0,"d":"0.00"}},{"$nulls":7},"Totale giorni 2020/2021",{"$nulls":6},{"$f":"SUM(AB49:AB58,AL49:AN58)-AC59*30","v":0},null,null,"punti",null,{"$f":"IF(AC60>15,0.5,0)","v":{"v":0,"d":"0.00"}}]
[null,"Totale titoli di servizio a.s. 2019/2020",{"$nulls":11},{"$f":"SUM(N59:O60)","v":{"v":0,"d":"0.00"}},{"$nulls":7},"Totale titoli di servizio a.s. 2020/2021",{"$nulls":11},{"$f":"SUM(AH59:AI60)","v":{"v":0,"d":"0.00"}}]
[]
[null,"Servizio non statale (per ogni mese o frazione superiore a 15 giorni): 0,25"]
[null,"Servizio prestato in qualità di addetto delle aziende agrarie in:\na) scuole dell'infanzia non statali autorizzate;\nb) scuole primarie non statali parificate, sussidiate o sussidiarie;\nc) scuole di istruzione secondaria o artistica non statali pareggiate, legalmente riconosciute e convenzionate;\nd) scuole non statali paritarie"]
[]
[null,"Servizio svolto nell' a.s. 2017/2018",{"$nulls":19},"Servizio svolto nell' a.s. 2018/2019"]
[null,"DAL",null,null,"AL",null,null,"TOT GG",{"$nulls":3},"DAL",null,null,"AL",null,null,"TOT GG",{"$nulls":3},"DAL",null,null,"AL",null,null,"TOT GG",{"$nulls":3},"DAL",null,null,"AL",null,null,"TOT GG"]
[{"$nulls":7},{"$f":"IF(B68=0,0,DAYS360(B68,E68+1))","v":0},{"$nulls":9},{"$f":"IF(I68=0,0,DAYS360(I68,L68+1))","v":0},{"$nulls":9},{"$f":"IF(V68=0,0,DAYS360(V68,Y68+1))","v":0},{"$nulls":9},{"$f":"IF(AC68=0,0,DAYS360(AC68,AF68+1))","v":0}]
[{"$nulls":7},{"$f":"IF(B69=0,0,DAYS360(B69,E69+1))","v":0},{"$nulls":9},0,{"$nulls":9},{"$f":"IF(V69=0,0,DAYS360(V69,Y69+1))","v":0},{"$nulls":9},0]
[{"$nulls":7},0,{"$nulls":9},0,{"$nulls":9},0,{"$nulls":9},0]
[{"$nulls":7},0,{"$nulls":9},0,{"$nulls":9},0,{"$nulls":9},0]
[{"$nulls":7},0,{"$nulls":9},0,{"$nulls":9},0,{"$nulls":9},0]
[{"$nulls":7},0,{"$nulls":9},0,{"$nulls":9},0,{"$nulls":9},0]
[{"$nulls":7},0,{"$nulls":9},0,{"$nulls":9},0,{"$nulls":9},0]
[{"$nulls":7},0,{"$nulls":9},0,{"$nulls":9},0,{"$nulls":9},0]
[{"$nulls":7},0,{"$nulls":9},0,{"$nulls":9},0,{"$nulls":9},0]
[{"$nulls":7},0,{"$nulls":9},0,{"$nulls":9},0,{"$nulls":9},0]
[null,"Totale mesi 2017/2018",{"$nulls":6},{"$f":"INT(SUM(H68:H77,R68:T77,AL68:AN77)/30)","v":0},null,null,"punti",null,{"$f":"I78*0.25","v":{"v":0,"d":"0.00"}},{"$nulls":7},"Totale mesi 2018/2019",{"$nulls":6},{"$f":"INT(SUM(AB68:AB77,AL68:AN77,)/30)","v":0},null,null,"punti",null,{"$f":"AC78*0.25","v":{"v":0,"d":"0.00"}}]
[null,"Totale giorni 2017/2018",{"$nulls":6},{"$f":"SUM(H68:H77,R68:T77,)-I78*30","v":0},null,null,"punti",null,{"$f":"IF(I79>15,0.25,0)","v":{"v":0,"d":"0.00"}},{"$nulls":7},"Totale giorni 2018/2019",{"$nulls":6},{"$f":"SUM(AB68:AB77,AL68:AN77)-AC78*30","v":0},null,null,"punti",null,{"$f":"IF(AC79>15,0.25,0)","v":{"v":0,"d":"0.00"}}]
[null,"Totale titoli di servizio a.s. 2017/2018",{"$nulls":11},{"$f":"SUM(N78:O79)","v":{"v":0,"d":"0.00"}},{"$nulls":7},"Totale titoli di servizio a.s. 2018/2019",{"$nulls":11},{"$f":"SUM(AH78:AI79)","v":{"v":0,"d":"0.00"}}]
[]
[null,"Servizio svolto nell' a.s. 2019/2020",{"$nulls":19},"Servizio svolto nell' a.s. 2020/2021"]
[null,"DAL",null,null,"AL",null,null,"TOT GG",{"$nulls":3},"DAL",null,null,"AL",null,null,"TOT GG",{"$nulls":3},"DAL",null,null,"AL",null,null,"TOT GG",{"$nulls":3},"DAL",null,null,"AL",null,null,"TOT GG"]
[{"$nulls":7},{"$f":"IF(B84=0,0,DAYS360(B84,E84+1))","v":0},{"$nulls":9},{"$f":"IF(I84=0,0,DAYS360(I84,L84+1))","v":0},{"$nulls":9},{"$f":"IF(V84=0,0,DAYS360(V84,Y84+1))","v":0},{"$nulls":9},{"$f":"IF(AC84=0,0,DAYS360(AC84,AF84+1))","v":0}]
[{"$nulls":7},{"$f":"IF(B85=0,0,DAYS360(B85,E85+1))","v":0},{"$nulls":9},0,{"$nulls":9},{"$f":"IF(V85=0,0,DAYS360(V85,Y85+1))","v":0},{"$nulls":9},0]
[{"$nulls":7},0,{"$nulls":9},0,{"$nulls":9},0,{"$nulls":9},0]
[{"$nulls":7},0,{"$nulls":9},0,{"$nulls":9},0,{"$nulls":9},0]
[{"$nulls":7},0,{"$nulls":9},0,{"$nulls":9},0,{"$nulls":9},0]
[{"$nulls":7},0,{"$nulls":9},0,{"$nulls":9},0,{"$nulls":9},0]
[{"$nulls":7},0,{"$nulls":9},0,{"$nulls":9},0,{"$nulls":9},0]
[{"$nulls":7},0,{"$nulls":9},0,{"$nulls":9},0,{"$nulls":9},0]
[{"$nulls":7},0,{"$nulls":9},0,{"$nulls":9},0,{"$nulls":9},0]
[{"$nulls":7},0,{"$nulls":9},0,{"$nulls":9},0,{"$nulls":9},0]
[null,"Totale mesi 2019/2020",{"$nulls":6},{"$f":"INT(SUM(H84:H93,R84:T93,)/30)","v":0},null,null,"punti",null,{"$f":"I94*0.25","v":{"v":0,"d":"0.00"}},{"$nulls":7},"Totale mesi 2020/2021",{"$nulls":6},{"$f":"INT(SUM(AB84:AB93,AL84:AN93,)/30)","v":0},null,null,"punti",null,{"$f":"AC94*0.25","v":{"v":0,"d":"0.00"}}]
[null,"Totale giorni 2019/2020",{"$nulls":6},{"$f":"SUM(H84:H93,R84:T93)-I94*30","v":0},null,null,"punti",null,{"$f":"IF(I95>15,0.25,0)","v":{"v":0,"d":"0.00"}},{"$nulls":7},"Totale giorni 2020/2021",{"$nulls":6},{"$f":"SUM(AB84:AB93,AL84:AN93)-AC94*30","v":0},null,null,"punti",null,{"$f":"IF(AC95>15,0.25,0)","v":{"v":0,"d":"0.00"}}]
[null,"Totale titoli di servizio a.s. 2019/2020",{"$nulls":11},{"$f":"SUM(N94:O95)","v":{"v":0,"d":"0.00"}},{"$nulls":7},"Totale titoli di servizio a.s. 2020/2021",{"$nulls":11},{"$f":"SUM(AH94:AI95)","v":{"v":0,"d":"0.00"}}]
[]
[null,"Altro servizio statale (per ogni mese o frazione superiore a 15 giorni): 0,15"]
[null,"Altro servizio prestato nelle scuole:\na) dell'infanzia statali, delle Regioni Sicilia e Val d'Aosta, delle province autonome di Trento e Bolzano;\nb) primarie statali;\nc) di istruzione secondaria o artistica statali;\nd) nelle istituzioni scolastiche e culturali italiane all'estero, nelle istituzioni convittuali;\ne) nei convitti annessi agli istituti tecnici e professionali, nei convitti nazionali e negli educandati femminili dello Stato, ivi compreso il servizio di insegnamento effettuato nei corsi C.R.A.C.I.S., servizio prestato come modello vivente"]
[]
[null,"Servizio svolto nell' a.s. 2017/2018",{"$nulls":19},"Servizio svolto nell' a.s. 2018/2019"]
[null,"DAL",null,null,"AL",null,null,"TOT GG",{"$nulls":3},"DAL",null,null,"AL",null,null,"TOT GG",{"$nulls":3},"DAL",null,null,"AL",null,null,"TOT GG",{"$nulls":3},"DAL",null,null,"AL",null,null,"TOT GG"]
[{"$nulls":7},{"$f":"IF(B103=0,0,DAYS360(B103,E103+1))","v":0},{"$nulls":9},{"$f":"IF(I103=0,0,DAYS360(I103,L103+1))","v":0},{"$nulls":9},{"$f":"IF(V103=0,0,DAYS360(V103,Y103+1))","v":0},{"$nulls":9},{"$f":"IF(AC103=0,0,DAYS360(AC103,AF103+1))","v":0}]
[{"$nulls":7},{"$f":"IF(B104=0,0,DAYS360(B104,E104+1))","v":0},{"$nulls":9},0,{"$nulls":9},{"$f":"IF(V104=0,0,DAYS360(V104,Y104+1))","v":0},{"$nulls":9},0]
[{"$nulls":7},0,{"$nulls":9},0,{"$nulls":9},0,{"$nulls":9},0]
[{"$nulls":7},0,{"$nulls":9},0,{"$nulls":9},0,{"$nulls":9},0]
[{"$nulls":7},0,{"$nulls":9},0,{"$nulls":9},0,{"$nulls":9},0]
[{"$nulls":7},0,{"$nulls":9},0,{"$nulls":9},0,{"$nulls":9},0]
[{"$nulls":7},0,{"$nulls":9},0,{"$nulls":9},0,{"$nulls":9},0]
[{"$nulls":7},0,{"$nulls":9},0,{"$nulls":9},0,{"$nulls":9},0]
[{"$nulls":7},0,{"$nulls":9},0,{"$nulls":9},0,{"$nulls":9},0]
[{"$nulls":7},0,{"$nulls":9},0,{"$nulls":9},0,{"$nulls":9},0]
[null,"Totale mesi 2017/2018",{"$nulls":6},{"$f":"INT(SUM(H103:H112,R103:T112,AL103:AN112)/30)","v":0},null,null,"punti",null,{"$f":"I113*0.15","v":{"v":0,"d":"0.00"}},{"$nulls":7},"Totale mesi 2018/2019",{"$nulls":6},{"$f":"INT(SUM(AB103:AB112,AL103:AN112,)/30)","v":0},null,null,"punti",null,{"$f":"AC113*0.15","v":{"v":0,"d":"0.00"}}]
[null,"Totale giorni 2017/2018",{"$nulls":6},{"$f":"SUM(H103:H112,R103:T112,)-I113*30","v":0},null,null,"punti",null,{"$f":"IF(I114>15,0.15,0)","v":{"v":0,"d":"0.00"}},{"$nulls":7},"Totale giorni 2018/2019",{"$nulls":6},{"$f":"SUM(AB103:AB112,AL103:AN112)-AC113*30","v":0},null,null,"punti",null,{"$f":"IF(AC114>15,0.15,0)","v":{"v":0,"d":"0.00"}}]
[null,"Totale titoli di servizio a.s. 2017/2018",{"$nulls":11},{"$f":"SUM(N113:O114)","v":{"v":0,"d":"0.00"}},{"$nulls":7},"Totale titoli di servizio a.s. 2018/2019",{"$nulls":11},{"$f":"SUM(AH113:AI114)","v":{"v":0,"d":"0.00"}}]
[]
[null,"Servizio svolto nell' a.s. 2019/2020",{"$nulls":19},"Servizio svolto nell' a.s. 2020/2021"]
[null,"DAL",null,null,"AL",null,null,"TOT GG",{"$nulls":3},"DAL",null,null,"AL",null,null,"TOT GG",{"$nulls":3},"DAL",null,null,"AL",null,null,"TOT GG",{"$nulls":3},"DAL",null,null,"AL",null,null,"TOT GG"]
[{"$nulls":7},{"$f":"IF(B119=0,0,DAYS360(B119,E119+1))","v":0},{"$nulls":9},{"$f":"IF(I119=0,0,DAYS360(I119,L119+1))","v":0},{"$nulls":9},{"$f":"IF(V119=0,0,DAYS360(V119,Y119+1))","v":0},{"$nulls":9},{"$f":"IF(AC119=0,0,DAYS360(AC119,AF119+1))","v":0}]
[{"$nulls":7},{"$f":"IF(B120=0,0,DAYS360(B120,E120+1))","v":0},{"$nulls":9},0,{"$nulls":9},{"$f":"IF(V120=0,0,DAYS360(V120,Y120+1))","v":0},{"$nulls":9},0]
[{"$nulls":7},0,{"$nulls":9},0,{"$nulls":9},0,{"$nulls":9},0]
[{"$nulls":7},0,{"$nulls":9},0,{"$nulls":9},0,{"$nulls":9},0]
[{"$nulls":7},0,{"$nulls":9},0,{"$nulls":9},0,{"$nulls":9},0]
[{"$nulls":7},0,{"$nulls":9},0,{"$nulls":9},0,{"$nulls":9},0]
[{"$nulls":7},0,{"$nulls":9},0,{"$nulls":9},0,{"$nulls":9},0]
[{"$nulls":7},0,{"$nulls":9},0,{"$nulls":9},0,{"$nulls":9},0]
[{"$nulls":7},0,{"$nulls":9},0,{"$nulls":9},0,{"$nulls":9},0]
[{"$nulls":7},0,{"$nulls":9},0,{"$nulls":9},0,{"$nulls":9},0]
[null,"Totale mesi 2019/2020",{"$nulls":6},{"$f":"INT(SUM(H119:H128,R119:T128,)/30)","v":0},null,null,"punti",null,{"$f":"I129*0.15","v":{"v":0,"d":"0.00"}},{"$nulls":7},"Totale mesi 2020/2021",{"$nulls":6},{"$f":"INT(SUM(AB119:AB128,AL119:AN128,)/30)","v":0},null,null,"punti",null,{"$f":"AC129*0.15","v":{"v":0,"d":"0.00"}}]
[null,"Totale giorni 2019/2020",{"$nulls":6},{"$f":"SUM(H119:H128,R119:T128)-I129*30","v":0},null,null,"punti",null,{"$f":"IF(I130>15,0.15,0)","v":{"v":0,"d":"0.00"}},{"$nulls":7},"Totale giorni 2020/2021",{"$nulls":6},{"$f":"SUM(AB119:AB128,AL119:AN128)-AC129*30","v":0},null,null,"punti",null,{"$f":"IF(AC130>15,0.15,0)","v":{"v":0,"d":"0.00"}}]
[null,"Totale titoli di servizio a.s. 2019/2020",{"$nulls":11},{"$f":"SUM(N129:O130)","v":{"v":0,"d":"0.00"}},{"$nulls":7},"Totale titoli di servizio a.s. 2020/2021",{"$nulls":11},{"$f":"SUM(AH129:AI130)","v":{"v":0,"d":"0.00"}}]
[]
[null,"Altro servizio non statale (per ogni mese o frazione superiore a 15 giorni): 0,075"]
[null,"Altro servizio prestato in:\na) scuole dell'infanzia non statali autorizzate;\nb) scuole primarie non statali parificate, sussidiate o sussidiarie;\nc) scuole di istruzione secondaria o artistica non statali pareggiate, legalmente riconosciute e convenzionate;\nd) scuole non statali paritarie"]
[]
[null,"Servizio svolto nell' a.s. 2017/2018",{"$nulls":19},"Servizio svolto nell' a.s. 2018/2019"]
[null,"DAL",null,null,"AL",null,null,"TOT GG",{"$nulls":3},"DAL",null,null,"AL",null,null,"TOT GG",{"$nulls":3},"DAL",null,null,"AL",null,null,"TOT GG",{"$nulls":3},"DAL",null,null,"AL",null,null,"TOT GG"]
[{"$nulls":7},{"$f":"IF(B138=0,0,DAYS360(B138,E138+1))","v":0},{"$nulls":9},{"$f":"IF(I138=0,0,DAYS360(I138,L138+1))","v":0},{"$nulls":9},{"$f":"IF(V138=0,0,DAYS360(V138,Y138+1))","v":0},{"$nulls":9},{"$f":"IF(AC138=0,0,DAYS360(AC138,AF138+1))","v":0}]
[{"$nulls":7},{"$f":"IF(B139=0,0,DAYS360(B139,E139+1))","v":0},{"$nulls":9},0,{"$nulls":9},{"$f":"IF(V139=0,0,DAYS360(V139,Y139+1))","v":0},{"$nulls":9},0]
[{"$nulls":7},0,{"$nulls":9},0,{"$nulls":9},0,{"$nulls":9},0]
[{"$nulls":7},0,{"$nulls":9},0,{"$nulls":9},0,{"$nulls":9},0]
[{"$nulls":7},0,{"$nulls":9},0,{"$nulls":9},0,{"$nulls":9},0]
[{"$nulls":7},0,{"$nulls":9},0,{"$nulls":9},0,{"$nulls":9},0]
[{"$nulls":7},0,{"$nulls":9},0,{"$nulls":9},0,{"$nulls":9},0]
[{"$nulls":7},0,{"$nulls":9},0,{"$nulls":9},0,{"$nulls":9},0]
[{"$nulls":7},0,{"$nulls":9},0,{"$nulls":9},0,{"$nulls":9},0]
[{"$nulls":7},0,{"$nulls":9},0,{"$nulls":9},0,{"$nulls":9},0]
[null,"Totale mesi 2017/2018",{"$nulls":6},{"$f":"INT(SUM(H138:H147,R138:T147,AL138:AN147)/30)","v":0},null,null,"punti",null,{"$f":"I148*0.075","v":{"v":0,"d":"0.000"}},{"$nulls":7},"Totale mesi 2018/2019",{"$nulls":6},{"$f":"INT(SUM(AB138:AB147,AL138:AN147,)/30)","v":0},null,null,"punti",null,{"$f":"AC148*0.075","v":{"v":0,"d":"0.000"}}]
[null,"Totale giorni 2017/2018",{"$nulls":6},{"$f":"SUM(H138:H147,R138:T147,)-I148*30","v":0},null,null,"punti",null,{"$f":"IF(I149>15,0.075,0)","v":{"v":0,"d":"0.000"}},{"$nulls":7},"Totale giorni 2018/2019",{"$nulls":6},{"$f":"SUM(AB138:AB147,AL138:AN147)-AC148*30","v":0},null,null,"punti",null,{"$f":"IF(AC149>15,0.075,0)","v":{"v":0,"d":"0.000"}}]
[null,"Totale titoli di servizio a.s. 2017/2018",{"$nulls":11},{"$f":"SUM(N148:O149)","v":{"v":0,"d":"0.000"}},{"$nulls":7},"Totale titoli di servizio a.s. 2018/2019",{"$nulls":11},{"$f":"SUM(AH148:AI149)","v":{"v":0,"d":"0.000"}}]
[]
[null,"Servizio svolto nell' a.s. 2019/2020",{"$nulls":19},"Servizio svolto nell' a.s. 2020/2021"]
[null,"DAL",null,null,"AL",null,null,"TOT GG",{"$nulls":3},"DAL",null,null,"AL",null,null,"TOT GG",{"$nulls":3},"DAL",null,null,"AL",null,null,"TOT GG",{"$nulls":3},"DAL",null,null,"AL",null,null,"TOT GG"]
[{"$nulls":7},{"$f":"IF(B154=0,0,DAYS360(B154,E154+1))","v":0},{"$nulls":9},{"$f":"IF(I154=0,0,DAYS360(I154,L154+1))","v":0},{"$nulls":9},{"$f":"IF(V154=0,0,DAYS360(V154,Y154+1))","v":0},{"$nulls":9},{"$f":"IF(AC154=0,0,DAYS360(AC154,AF154+1))","v":0}]
[{"$nulls":7},{"$f":"IF(B155=0,0,DAYS360(B155,E155+1))","v":0},{"$nulls":9},0,{"$nulls":9},{"$f":"IF(V155=0,0,DAYS360(V155,Y155+1))","v":0},{"$nulls":9},0]
[{"$nulls":7},0,{"$nulls":9},0,{"$nulls":9},0,{"$nulls":9},0]
[{"$nulls":7},0,{"$nulls":9},0,{"$nulls":9},0,{"$nulls":9},0]
[{"$nulls":7},0,{"$nulls":9},0,{"$nulls":9},0,{"$nulls":9},0]
[{"$nulls":7},0,{"$nulls":9},0,{"$nulls":9},0,{"$nulls":9},0]
[{"$nulls":7},0,{"$nulls":9},0,{"$nulls":9},0,{"$nulls":9},0]
[{"$nulls":7},0,{"$nulls":9},0,{"$nulls":9},0,{"$nulls":9},0]
[{"$nulls":7},0,{"$nulls":9},0,{"$nulls":9},0,{"$nulls":9},0]
[{"$nulls":7},0,{"$nulls":9},0,{"$nulls":9},0,{"$nulls":9},0]
[null,"Totale mesi 2019/2020",{"$nulls":6},{"$f":"INT(SUM(H154:H163,R154:T163,)/30)","v":0},null,null,"punti",null,{"$f":"I164*0.075","v":{"v":0,"d":"0.000"}},{"$nulls":7},"Totale mesi 2020/2021",{"$nulls":6},{"$f":"INT(SUM(AB154:AB163,AL154:AN163,)/30)","v":0},null,null,"punti",null,{"$f":"AC164*0.075","v":{"v":0,"d":"0.000"}}]
[null,"Totale giorni 2019/2020",{"$nulls":6},{"$f":"SUM(H154:H163,R154:T163)-I164*30","v":0},null,null,"punti",null,{"$f":"IF(I165>15,0.075,0)","v":{"v":0,"d":"0.000"}},{"$nulls":7},"Totale giorni 2020/2021",{"$nulls":6},{"$f":"SUM(AB154:AB163,AL154:AN163)-AC164*30","v":0},null,null,"punti",null,{"$f":"IF(AC165>15,0.075,0)","v":{"v":0,"d":"0.000"}}]
[null,"Totale titoli di servizio a.s. 2019/2020",{"$nulls":11},{"$f":"SUM(N164:O165)","v":{"v":0,"d":"0.000"}},{"$nulls":7},"Totale titoli di servizio a.s. 2020/2021",{"$nulls":11},{"$f":"SUM(AH164:AI165)","v":{"v":0,"d":"0.000"}}]
[]
[null,"Servizio altre amministrazioni (per ogni mese o frazione superiore a 15 giorni): 0,05"]
[null,"Servizio prestato alle dirette dipendenze di amministrazioni statali, Enti locali, nei patronati scolastici o nei consorzi provinciali per l'istruzione tecnica"]
[]
[null,"Servizio svolto nell' a.s. 2017/2018",{"$nulls":19},"Servizio svolto nell' a.s. 2017/2018"]
[null,"DAL",null,null,"AL",null,null,"TOT GG",{"$nulls":3},"DAL",null,null,"AL",null,null,"TOT GG",{"$nulls":3},"DAL",null,null,"AL",null,null,"TOT GG",{"$nulls":3},"DAL",null,null,"AL",null,null,"TOT GG"]
[{"$nulls":7},{"$f":"IF(B173=0,0,DAYS360(B173,E173+1))","v":0},{"$nulls":9},{"$f":"IF(I173=0,0,DAYS360(I173,L173+1))","v":0},{"$nulls":9},{"$f":"IF(V173=0,0,DAYS360(V173,Y173+1))","v":0},{"$nulls":9},{"$f":"IF(AC173=0,0,DAYS360(AC173,AF173+1))","v":0}]
[{"$nulls":7},{"$f":"IF(B174=0,0,DAYS360(B174,E174+1))","v":0},{"$nulls":9},0,{"$nulls":9},{"$f":"IF(V174=0,0,DAYS360(V174,Y174+1))","v":0},{"$nulls":9},0]
[{"$nulls":7},0,{"$nulls":9},0,{"$nulls":9},0,{"$nulls":9},0]
[{"$nulls":7},0,{"$nulls":9},0,{"$nulls":9},0,{"$nulls":9},0]
[{"$nulls":7},0,{"$nulls":9},0,{"$nulls":9},0,{"$nulls":9},0]
[{"$nulls":7},0,{"$nulls":9},0,{"$nulls":9},0,{"$nulls":9},0]
[{"$nulls":7},0,{"$nulls":9},0,{"$nulls":9},0,{"$nulls":9},0]
[{"$nulls":7},0,{"$nulls":9},0,{"$nulls":9},0,{"$nulls":9},0]
[{"$nulls":7},0,{"$nulls":9},0,{"$nulls":9},0,{"$nulls":9},0]
[{"$nulls":7},0,{"$nulls":9},0,{"$nulls":9},0,{"$nulls":9},0]
[null,"Totale mesi 2017/2018",{"$nulls":6},{"$f":"INT(SUM(H173:H182,R173:T182,AL173:AN182)/30)","v":0},null,null,"punti",null,{"$f":"I183*0.05","v":{"v":0,"d":"0.00"}},{"$nulls":7},"Totale mesi 2018/2019",{"$nulls":6},{"$f":"INT(SUM(AB173:AB182,AL173:AN182,)/30)","v":0},null,null,"punti",null,{"$f":"AC183*0.05","v":{"v":0,"d":"0.00"}}]
[null,"Totale giorni 2017/2018",{"$nulls":6},{"$f":"SUM(H173:H182,R173:T182,)-I183*30","v":0},null,null,"punti",null,{"$f":"IF(I184>15,0.05,0)","v":{"v":0,"d":"0.00"}},{"$nulls":7},"Totale giorni 2018/2019",{"$nulls":6},{"$f":"SUM(AB173:AB182,AL173:AN182)-AC183*30","v":0},null,null,"punti",null,{"$f":"IF(AC184>15,0.05,0)","v":{"v":0,"d":"0.00"}}]
[null,"Totale titoli di servizio a.s. 2017/2018",{"$nulls":11},{"$f":"SUM(N183:O184)","v":{"v":0,"d":"0.00"}},{"$nulls":7},"Totale titoli di servizio a.s. 2018/2019",{"$nulls":11},{"$f":"SUM(AH183:AI184)","v":{"v":0,"d":"0.00"}}]
[]
[null,"Servizio svolto nell' a.s. 2019/2020",{"$nulls":19},"Servizio svolto nell' a.s. 2020/2021"]
[null,"DAL",null,null,"AL",null,null,"TOT GG",{"$nulls":3},"DAL",null,null,"AL",null,null,"TOT GG",{"$nulls":3},"DAL",null,null,"AL",null,null,"TOT GG",{"$nulls":3},"DAL",null,null,"AL",null,null,"TOT GG"]
[{"$nulls":7},{"$f":"IF(B189=0,0,DAYS360(B189,E189+1))","v":0},{"$nulls":9},{"$f":"IF(I189=0,0,DAYS360(I189,L189+1))","v":0},{"$nulls":9},{"$f":"IF(V189=0,0,DAYS360(V189,Y189+1))","v":0},{"$nulls":9},{"$f":"IF(AC189=0,0,DAYS360(AC189,AF189+1))","v":0}]
[{"$nulls":7},{"$f":"IF(B190=0,0,DAYS360(B190,E190+1))","v":0},{"$nulls":9},0,{"$nulls":9},{"$f":"IF(V190=0,0,DAYS360(V190,Y190+1))","v":0},{"$nulls":9},0]
[{"$nulls":7},0,{"$nulls":9},0,{"$nulls":9},0,{"$nulls":9},0]
[{"$nulls":7},0,{"$nulls":9},0,{"$nulls":9},0,{"$nulls":9},0]
[{"$nulls":7},0,{"$nulls":9},0,{"$nulls":9},0,{"$nulls":9},0]
[{"$nulls":7},0,{"$nulls":9},0,{"$nulls":9},0,{"$nulls":9},0]
[{"$nulls":7},0,{"$nulls":9},0,{"$nulls":9},0,{"$nulls":9},0]
[{"$nulls":7},0,{"$nulls":9},0,{"$nulls":9},0,{"$nulls":9},0]
[{"$nulls":7},0,{"$nulls":9},0,{"$nulls":9},0,{"$nulls":9},0]
[{"$nulls":7},0,{"$nulls":9},0,{"$nulls":9},0,{"$nulls":9},0]
[null,"Totale mesi 2019/2020",{"$nulls":6},{"$f":"INT(SUM(H189:H198,R189:T198,)/30)","v":0},null,null,"punti",null,{"$f":"I199*0.05","v":{"v":0,"d":"0.00"}},{"$nulls":7},"Totale mesi 2020/2021",{"$nulls":6},{"$f":"INT(SUM(AB189:AB198,AL189:AN198,)/30)","v":0},null,null,"punti",null,{"$f":"AC199*0.05","v":{"v":0,"d":"0.00"}}]
[null,"Totale giorni 2019/2020",{"$nulls":6},{"$f":"SUM(H189:H198,R189:T198)-I199*30","v":0},null,null,"punti",null,{"$f":"IF(I200>15,0.05,0)","v":{"v":0,"d":"0.00"}},{"$nulls":7},"Totale giorni 2020/2021",{"$nulls":6},{"$f":"SUM(AB189:AB198,AL189:AN198)-AC199*30","v":0},null,null,"punti",null,{"$f":"IF(AC200>15,0.05,0)","v":{"v":0,"d":"0.00"}}]
[null,"Totale titoli di servizio a.s. 2019/2020",{"$nulls":11},{"$f":"SUM(N199:O200)","v":{"v":0,"d":"0.00"}},{"$nulls":7},"Totale titoli di servizio a.s. 2020/2021",{"$nulls":11},{"$f":"SUM(AH199:AI200)","v":{"v":0,"d":"0.00"}}]
{"$rows_empty":9}
["CALCOLO PUNTEGGIO GRADUATORIE DI ISTITUTO - ADDETTO AZIENDE AGRARIE"]
[]
[{"$nulls":3},"Cognome e Nome",{"$nulls":8},{"$f":"L14","v":0}]
[]
[{"$nulls":9},"RIEPILOGO"]
[{"$nulls":9},"Punteggio triennio precedente",{"$nulls":16},{"$f":"Z16","v":{"v":0,"d":"0.000"}}]
[]
[{"$nulls":9},"Totale titoli culturali aggiuntivi",{"$nulls":16},{"$f":"AL25","v":{"v":0,"d":"0.000"}}]
[]
[{"$nulls":9},"Totale titoli di servizio specifico statale",{"$nulls":16},{"$f":"SUM(N45,AH45,N61,AH61)","v":{"v":0,"d":"0.000"}}]
[{"$nulls":9},"Totale titoli di servizio non statale",{"$nulls":16},{"$f":"SUM(N80,AH80,N96,AH96)","v":{"v":0,"d":"0.000"}}]
[{"$nulls":9},"Totale titoli di altro servizio statale",{"$nulls":16},{"$f":"SUM(N115,AH115,N131,AH131)","v":{"v":0,"d":"0.000"}}]
[{"$nulls":9},"Totale titoli di altro servizio non statale",{"$nulls":16},{"$f":"SUM(N150,AH150,N166,AH166)","v":{"v":0,"d":"0.000"}}]
[{"$nulls":9},"Totale titoli di servizio altre amministrazioni",{"$nulls":16},{"$f":"SUM(N185,AH185,N201,AH201)","v":{"v":0,"d":"0.000"}}]
[{"$nulls":9},"Totale titoli di servizio ",{"$nulls":16},{"$f":"SUM(AA220:AC224)","v":{"v":0,"d":"0.000"}}]
[]
[{"$nulls":9},"TOTALE generale",{"$nulls":16},{"$f":"SUM(AA216,AA218,AA225,)","v":{"v":0,"d":"0.000"}}]
[]
[]
[{"$nulls":35},"©","Francesco Gioffreda"]

{"sheet":"tab_az","index":9,"n_rows":67,"n_cols":2,"rows_kept":67,"hidden":true}
["Scegli titolo di accesso precedentemente inserito"]
["Operatore agrituristico"]
["Operatore agro industriale"]
["Operatore agro ambientale"]
[]
["Scegli nuovo titolo di accesso"]
["Operatore agrituristico"]
["Operatore agro industriale"]
["Operatore agro ambientale"]
[]
["SI"]
["NO"]
[]
["Scegli certificazione precedentemente inserita",{"v":0,"d":"0.00"}]
["Nessuna",{"v":0,"d":"0.00"}]
["ECDL Core",0.25]
["ECDL Advanced",0.28]
["ECDL Specialised",{"v":0.3,"d":"0.30"}]
["NUOVA ECDL Base",0.25]
["NUOVA ECDL Advanced",0.28]
["NUOVA ECDL Specialised",{"v":0.3,"d":"0.30"}]
["NUOVA ECDL Professional",{"v":0.3,"d":"0.30"}]
["MICROSOFT MCAD o equivalente",0.25]
["MICROSOFT MCSD o equivalente",0.28]
["MICROSOFT MCDBA o equivalente",{"v":0.3,"d":"0.30"}]
["EUCIP",{"v":0.3,"d":"0.30"}]
["IC3",{"v":0.3,"d":"0.30"}]
["MOUS (Microsoft Office User Specialist)",{"v":0.3,"d":"0.30"}]
["CISCO (Cisco System)",{"v":0.3,"d":"0.30"}]
["PEKIT",{"v":0.3,"d":"0.30"}]
["EIPASS",{"v":0.3,"d":"0.30"}]
["EIRSAF Full",{"v":0.3,"d":"0.30"}]
["EIRSAF Four",0.25]
["EIRSAF Green",0.25]
["IIQ 7 Moduli",0.25]
["IIQ 7 Moduli + 1 Skill Base",0.28]
["IIQ 4 Moduli Advanced Level",{"v":0.3,"d":"0.30"}]
["IDCert Digital Competence",0.25]
["IDCert Digital Competence Advanced",0.28]
["IDCert Digital Competence Specialized",{"v":0.3,"d":"0.30"}]
[]
["Scegli nuova certificazione conseguita",{"v":0,"d":"0.00"}]
["ECDL Core",0.25]
["ECDL Advanced",0.28]
["ECDL Specialised",{"v":0.3,"d":"0.30"}]
["NUOVA ECDL Base",0.25]
["NUOVA ECDL Advanced",0.28]
["NUOVA ECDL Specialised",{"v":0.3,"d":"0.30"}]
["NUOVA ECDL Professional",{"v":0.3,"d":"0.30"}]
["MICROSOFT MCAD o equivalente",0.25]
["MICROSOFT MCSD o equivalente",0.28]
["MICROSOFT MCDBA o equivalente",{"v":0.3,"d":"0.30"}]
["EUCIP",{"v":0.3,"d":"0.30"}]
["IC3",{"v":0.3,"d":"0.30"}]
["MOUS (Microsoft Office User Specialist)",{"v":0.3,"d":"0.30"}]
["CISCO (Cisco System)",{"v":0.3,"d":"0.30"}]
["PEKIT",{"v":0.3,"d":"0.30"}]
["EIPASS",{"v":0.3,"d":"0.30"}]
["EIRSAF Full",{"v":0.3,"d":"0.30"}]
["EIRSAF Four",0.25]
["EIRSAF Green",0.25]
["IIQ 7 Moduli",0.25]
["IIQ 7 Moduli + 1 Skill Base",0.28]
["IIQ 4 Moduli Advanced Level",{"v":0.3,"d":"0.30"}]
["IDCert Digital Competence",0.25]
["IDCert Digital Competence Advanced",0.28]
["IDCert Digital Competence Specialized",{"v":0.3,"d":"0.30"}]

{"sheet":"GUA","index":10,"n_rows":230,"n_cols":38,"rows_kept":230,"merged":[[7,1,7,39],[8,1,8,2],[8,3,8,39],[9,1,9,2],[9,3,9,39],[10,1,10,2],[10,3,10,5],[10,6,10,7],[10,8,10,39],[11,1,11,2],[11,3,11,5],[11,6,11,7],[11,8,11,39],[13,11,13,39],[15,25,15,39],[18,1,18,18],[18,19,24,19],[19,1,19,18],[20,1,20,9],[20,10,20,15],[20,16,20,18],[20,20,20,34],[20,35,20,36],[20,37,20,39],[21,1,22,9],[21,10,22,11],[21,12,22,13],[21,14,22,15],[21,16,22,18],[21,20,21,34],[21,35,21,36],[21,37,21,39],[22,20,22,35],[22,37,22,39],[23,1,23,9],[23,10,23,11],[23,12,23,13],[23,14,23,15],[23,16,23,18],[23,20,23,35],[23,37,23,39],[24,1,24,15],[24,16,24,18],[24,20,24,36],[24,37,24,39],[78,33,78,36],[79,1,79,12],[79,13,79,16],[79,21,79,32],[79,33,79,36],[82,1,82,3],[82,4,82,6],[82,8,92,10],[82,11,82,13],[82,14,82,16],[82,17,82,19],[82,21,82,23],[82,24,82,26],[82,28,92,30],[82,31,82,33],[82,34,82,36],[82,37,82,39],[83,1,83,3],[83,4,83,6],[83,11,83,13],[83,14,83,16],[83,17,83,19],[83,21,83,23],[84,14,84,16],[84,17,84,19],[84,21,84,23],[85,24,85,26],[85,31,85,33],[85,34,85,36],[85,37,85,39],[86,1,86,3],[86,4,86,6],[86,11,86,13],[86,14,86,16],[86,17,86,19],[86,21,86,23],[86,24,86,26],[86,31,86,33],[86,34,86,36],[86,37,86,39],[87,1,87,3],[87,4,87,6],[87,11,87,13],[87,14,87,16],[87,17,87,19],[87,21,87,23],[87,24,87,26],[87,31,87,33],[87,34,87,36],[87,37,87,39],[88,1,88,3],[88,4,88,6],[88,11,88,13],[88,14,88,16],[88,17,88,19],[88,21,88,23],[88,24,88,26],[88,31,88,33],[88,34,88,36],[88,37,88,39],[89,1,89,3],[89,4,89,6],[89,11,89,13],[89,14,89,16],[89,17,89,19],[89,21,89,23],[89,24,89,26],[89,31,89,33],[89,34,89,36],[89,37,89,39],[90,1,90,3],[90,4,90,6],[90,11,90,13],[90,14,90,16],[90,17,90,19],[90,21,90,23],[90,24,90,26],[90,31,90,33],[90,34,90,36],[90,37,90,39],[91,1,91,3],[91,4,91,6],[91,11,91,13],[91,14,91,16],[91,17,91,19],[91,21,91,23],[91,24,91,26],[91,31,91,33],[91,34,91,36],[91,37,91,39],[92,1,92,3],[92,4,92,6],[92,11,92,13],[92,14,92,16],[92,17,92,19],[92,21,92,23],[92,24,92,26],[92,31,92,33],[92,34,92,36],[92,37,92,39],[93,1,93,7],[93,11,93,12],[93,13,93,16],[93,17,95,19],[93,21,93,27],[93,31,93,32],[93,33,93,36],[93,37,95,39],[94,1,94,7],[94,11,94,12],[94,13,94,16],[94,21,94,27],[94,31,94,32],[94,33,94,36],[95,1,95,12],[95,13,95,16],[95,21,95,32],[95,33,95,36],[100,20,130,20],[100,21,100,39],[101,1,101,3],[101,4,101,6],[101,8,111,10],[101,11,101,13],[101,14,101,16],[101,17,101,19],[101,21,101,23],[101,24,101,26],[101,28,111,30],[102,1,102,3],[102,4,102,6],[102,11,102,13],[102,14,102,16],[102,17,102,19],[102,21,102,23],[102,24,102,26],[102,31,102,33],[102,34,102,36],[102,37,102,39],[103,1,103,3],[103,4,103,6],[103,11,103,13],[103,14,103,16],[103,17,103,19],[103,21,103,23],[103,24,103,26],[103,31,103,33],[103,34,103,36],[103,37,103,39],[104,1,104,3],[104,4,104,6],[104,11,104,13],[104,14,104,16],[104,17,104,19],[104,21,104,23],[104,24,104,26],[104,31,104,33],[104,34,104,36],[104,37,104,39],[105,1,105,3],[105,4,105,6],[105,11,105,13],[105,14,105,16],[105,17,105,19],[105,21,105,23],[105,24,105,26],[105,31,105,33],[105,34,105,36],[105,37,105,39],[106,1,106,3],[106,4,106,6],[106,11,106,13],[106,31,106,33],[106,34,106,36],[106,37,106,39],[107,1,107,3],[107,4,107,6],[107,11,107,13],[107,14,107,16],[107,17,107,19],[107,21,107,23],[107,24,107,26],[107,31,107,33],[107,34,107,36],[107,37,107,39],[108,1,108,3],[108,4,108,6],[108,11,108,13],[108,14,108,16],[108,17,108,19],[108,21,108,23],[108,24,108,26],[108,31,108,33],[108,34,108,36],[108,37,108,39],[109,1,109,3],[109,4,109,6],[109,11,109,13],[109,14,109,16],[109,17,109,19],[109,21,109,23],[109,24,109,26],[109,31,109,33],[109,34,109,36],[109,37,109,39],[110,1,110,3],[110,4,110,6],[110,11,110,13],[110,14,110,16],[110,17,110,19],[110,21,110,23],[110,24,110,26],[110,31,110,33],[110,34,110,36],[110,37,110,39],[111,1,111,3],[111,4,111,6],[111,11,111,13],[111,14,111,16],[111,17,111,19],[111,21,111,23],[111,24,111,26],[111,31,111,33],[111,34,111,36],[111,37,111,39],[112,1,112,7],[112,11,112,12],[112,13,112,16],[112,17,114,19],[112,21,112,27],[112,31,112,32],[112,33,112,36],[112,37,114,39],[113,1,113,7],[113,11,113,12],[113,13,113,16],[113,21,113,27],[113,31,113,32],[113,33,113,36],[114,1,114,12],[114,13,114,16],[114,21,114,32],[114,33,114,36],[115,1,115,19],[115,21,115,39],[116,1,116,19],[116,21,116,39],[117,1,117,3],[117,4,117,6],[117,8,127,10],[117,11,117,13],[117,14,117,16],[117,17,117,19],[117,21,117,23],[117,24,117,26],[117,28,127,30],[117,31,117,33],[117,34,117,36],[117,37,117,39],[118,1,118,3],[118,4,118,6],[118,11,118,13],[118,14,118,16],[118,17,118,19],[118,21,118,23],[118,24,118,26],[118,31,118,33],[118,34,118,36],[118,37,118,39],[119,1,119,3],[119,4,119,6],[119,11,119,13],[119,14,119,16],[119,17,119,19],[119,21,119,23],[119,24,119,26],[119,31,119,33],[119,34,119,36],[119,37,119,39],[120,1,120,3],[120,4,120,6],[120,11,120,13],[120,14,120,16],[120,17,120,19],[120,21,120,23],[120,24,120,26],[120,31,120,33],[120,34,120,36],[120,37,120,39],[121,1,121,3],[121,4,121,6],[121,11,121,13],[121,14,121,16],[121,17,121,19],[121,21,121,23],[121,24,121,26],[121,31,121,33],[121,34,121,36],[121,37,121,39],[122,1,122,3],[122,4,122,6],[122,11,122,13],[122,14,122,16],[122,17,122,19],[122,21,122,23],[122,24,122,26],[122,31,122,33],[122,34,122,36],[122,37,122,39],[123,1,123,3],[123,4,123,6],[123,11,123,13],[123,14,123,16],[123,17,123,19],[123,21,123,23],[123,24,123,26],[123,31,123,33],[123,34,123,36],[123,37,123,39],[124,1,124,3],[124,4,124,6],[124,11,124,13],[124,14,124,16],[124,17,124,19],[124,21,124,23],[124,24,124,26],[124,31,124,33],[124,34,124,36],[124,37,124,39],[125,1,125,3],[125,4,125,6],[125,11,125,13],[125,14,125,16],[125,17,125,19],[125,21,125,23],[125,24,125,26],[125,31,125,33],[125,34,125,36],[125,37,125,39],[126,1,126,3],[126,4,126,6],[126,11,126,13],[126,14,126,16],[126,17,126,19],[126,21,126,23],[126,24,126,26],[126,31,126,33],[126,34,126,36],[126,37,126,39],[127,1,127,3],[127,4,127,6],[127,11,127,13],[127,14,127,16],[127,17,127,19],[127,21,127,23],[127,24,127,26],[127,31,127,33],[127,34,127,36],[127,37,127,39],[128,1,128,7],[128,11,128,12],[128,13,128,16],[128,17,130,19],[128,21,128,27],[128,31,128,32],[128,33,128,36],[128,37,130,39],[129,1,129,7],[129,11,129,12],[129,13,129,16],[129,21,129,27],[129,31,129,32],[129,33,129,36],[130,1,130,12],[130,13,130,16],[130,21,130,32],[130,33,130,36],[131,1,131,39],[132,1,132,39],[133,1,133,39],[134,1,134,39],[135,1,135,19],[135,20,165,20],[135,21,135,39],[136,1,136,3],[136,4,136,6],[136,8,146,10],[136,11,136,13],[136,14,136,16],[136,17,136,19],[136,21,136,23],[136,24,136,26],[136,28,146,30],[136,31,136,33],[136,34,136,36],[136,37,136,39],[137,1,137,3],[137,4,137,6],[137,11,137,13],[137,14,137,16],[137,17,137,19],[137,21,137,23],[137,24,137,26],[137,31,137,33],[137,34,137,36],[137,37,137,39],[138,1,138,3],[138,4,138,6],[138,11,138,13],[138,14,138,16],[138,17,138,19],[138,21,138,23],[138,24,138,26],[138,31,138,33],[138,34,138,36],[138,37,138,39],[139,1,139,3],[139,4,139,6],[139,11,139,13],[139,14,139,16],[139,17,139,19],[139,21,139,23],[139,24,139,26],[139,31,139,33],[139,34,139,36],[139,37,139,39],[140,1,140,3],[140,4,140,6],[140,11,140,13],[140,14,140,16],[140,17,140,19],[140,21,140,23],[140,24,140,26],[140,31,140,33],[140,34,140,36],[140,37,140,39],[141,1,141,3],[141,4,141,6],[141,11,141,13],[141,14,141,16],[141,17,141,19],[141,21,141,23],[141,24,141,26],[141,31,141,33],[141,34,141,36],[141,37,141,39],[142,1,142,3],[142,4,142,6],[142,11,142,13],[142,14,142,16],[142,17,142,19],[142,21,142,23],[142,24,142,26],[142,31,142,33],[142,34,142,36],[142,37,142,39],[143,1,143,3],[143,4,143,6],[143,11,143,13],[143,14,143,16],[143,17,143,19],[143,21,143,23],[143,24,143,26],[143,31,143,33],[143,34,143,36],[143,37,143,39],[144,1,144,3],[144,4,144,6],[144,11,144,13],[144,14,144,16],[144,17,144,19],[144,21,144,23],[144,24,144,26],[144,31,144,33],[144,34,144,36],[144,37,144,39],[145,1,145,3],[145,4,145,6],[145,11,145,13],[145,14,145,16],[145,17,145,19],[145,21,145,23],[145,24,145,26],[145,31,145,33],[145,34,145,36],[145,37,145,39],[146,1,146,3],[146,4,146,6],[146,11,146,13],[146,14,146,16],[146,17,146,19],[146,21,146,23],[146,24,146,26],[146,31,146,33],[146,34,146,36],[146,37,146,39],[147,1,147,7],[147,11,147,12],[147,13,147,16],[147,17,149,19],[147,21,147,27],[147,31,147,32],[147,33,147,36],[147,37,149,39],[148,1,148,7],[148,11,148,12],[148,13,148,16],[148,21,148,27],[148,31,148,32],[148,33,148,36],[149,1,149,12],[149,13,149,16],[149,21,149,32],[149,33,149,36],[150,1,150,19],[150,21,150,39],[151,1,151,19],[151,21,151,39],[152,1,152,3],[152,4,152,6],[152,8,162,10],[152,11,152,13],[152,14,152,16],[152,17,152,19],[152,21,152,23],[152,24,152,26],[152,28,162,30],[152,31,152,33],[152,34,152,36],[152,37,152,39],[153,1,153,3],[153,4,153,6],[153,11,153,13],[153,14,153,16],[153,17,153,19],[153,21,153,23],[153,24,153,26],[153,31,153,33],[153,34,153,36],[153,37,153,39],[154,1,154,3],[154,4,154,6],[154,11,154,13],[154,14,154,16],[154,17,154,19],[154,21,154,23],[154,24,154,26],[154,31,154,33],[154,34,154,36],[154,37,154,39],[155,1,155,3],[155,4,155,6],[155,11,155,13],[155,14,155,16],[155,17,155,19],[155,21,155,23],[155,24,155,26],[155,31,155,33],[155,34,155,36],[155,37,155,39],[156,1,156,3],[156,4,156,6],[156,11,156,13],[156,14,156,16],[156,17,156,19],[156,21,156,23],[156,24,156,26],[156,31,156,33],[156,34,156,36],[156,37,156,39],[157,1,157,3],[157,4,157,6],[157,11,157,13],[157,14,157,16],[157,17,157,19],[157,21,157,23],[157,24,157,26],[157,31,157,33],[157,34,157,36],[157,37,157,39],[158,1,158,3],[158,4,158,6],[158,11,158,13],[158,14,158,16],[158,17,158,19],[158,21,158,23],[158,24,158,26],[158,31,158,33],[158,34,158,36],[158,37,158,39],[159,1,159,3],[159,4,159,6],[159,11,159,13],[159,14,159,16],[159,17,159,19],[159,21,159,23],[159,24,159,26],[159,31,159,33],[159,34,159,36],[159,37,159,39],[160,1,160,3],[160,4,160,6],[160,11,160,13],[160,14,160,16],[160,17,160,19],[160,21,160,23],[160,24,160,26],[160,31,160,33],[160,34,160,36],[160,37,160,39],[161,1,161,3],[161,4,161,6],[161,11,161,13],[161,14,161,16],[161,17,161,19],[161,21,161,23],[161,24,161,26],[161,31,161,33],[161,34,161,36],[161,37,161,39],[162,1,162,3],[162,4,162,6],[162,11,162,13],[162,14,162,16],[162,17,162,19],[162,21,162,23],[162,24,162,26],[162,31,162,33],[162,34,162,36],[162,37,162,39],[163,1,163,7],[163,11,163,12],[163,13,163,16],[163,17,165,19],[163,21,163,27],[163,31,163,32],[163,33,163,36],[163,37,165,39],[164,1,164,7],[164,11,164,12],[164,13,164,16],[164,21,164,27],[164,31,164,32],[164,33,164,36],[165,1,165,12],[165,13,165,16],[165,21,165,32],[165,33,165,36],[166,1,166,39],[167,1,167,39],[168,1,168,39],[169,1,169,39],[170,1,170,19],[170,20,200,20],[170,21,170,39],[171,1,171,3],[171,4,171,6],[171,8,181,10],[171,11,171,13],[171,14,171,16],[171,17,171,19],[171,21,171,23],[171,24,171,26],[171,28,181,30],[171,31,171,33],[171,34,171,36],[171,37,171,39],[172,1,172,3],[172,4,172,6],[172,11,172,13],[172,14,172,16],[172,17,172,19],[172,21,172,23],[172,24,172,26],[172,31,172,33],[172,34,172,36],[172,37,172,39],[173,1,173,3],[173,4,173,6],[173,11,173,13],[173,14,173,16],[173,17,173,19],[173,21,173,23],[173,24,173,26],[173,31,173,33],[173,34,173,36],[173,37,173,39],[174,1,174,3],[174,4,174,6],[174,11,174,13],[174,14,174,16],[174,17,174,19],[174,21,174,23],[174,24,174,26],[174,31,174,33],[174,34,174,36],[174,37,174,39],[175,1,175,3],[175,4,175,6],[175,11,175,13],[175,14,175,16],[175,17,175,19],[175,21,175,23],[175,24,175,26],[175,31,175,33],[175,34,175,36],[175,37,175,39],[176,1,176,3],[176,4,176,6],[176,11,176,13],[176,14,176,16],[176,17,176,19],[176,21,176,23],[176,24,176,26],[176,31,176,33],[176,34,176,36],[176,37,176,39],[177,1,177,3],[177,4,177,6],[177,11,177,13],[177,14,177,16],[177,17,177,19],[177,21,177,23],[177,24,177,26],[177,31,177,33],[177,34,177,36],[177,37,177,39],[178,1,178,3],[178,4,178,6],[178,11,178,13],[178,14,178,16],[178,17,178,19],[178,21,178,23],[178,24,178,26],[178,31,178,33],[178,34,178,36],[178,37,178,39],[179,1,179,3],[179,4,179,6],[179,11,179,13],[179,14,179,16],[179,17,179,19],[179,21,179,23],[179,24,179,26],[179,31,179,33],[179,34,179,36],[179,37,179,39],[180,1,180,3],[180,4,180,6],[180,11,180,13],[180,14,180,16],[180,17,180,19],[180,21,180,23],[180,24,180,26],[180,31,180,33],[180,34,180,36],[180,37,180,39],[181,1,181,3],[181,4,181,6],[181,11,181,13],[181,14,181,16],[181,17,181,19],[181,21,181,23],[181,24,181,26],[181,31,181,33],[181,34,181,36],[181,37,181,39],[182,1,182,7],[182,8,182,10],[182,11,182,12],[182,13,182,16],[182,17,184,19],[182,21,182,27],[182,28,182,30],[182,31,182,32],[182,33,182,36],[182,37,184,39],[183,1,183,7],[183,8,183,10],[183,11,183,12],[183,13,183,16],[183,21,183,27],[183,28,183,30],[183,31,183,32],[183,33,183,36],[184,1,184,12],[184,13,184,16],[184,21,184,32],[184,33,184,36],[185,1,185,19],[185,21,185,39],[186,1,186,19],[186,21,186,39],[187,1,187,3],[187,4,187,6],[187,8,197,10],[187,11,187,13],[187,14,187,16],[187,17,187,19],[187,21,187,23],[187,24,187,26],[187,28,197,30],[187,31,187,33],[187,34,187,36],[187,37,187,39],[188,1,188,3],[188,4,188,6],[188,11,188,13],[188,14,188,16],[188,17,188,19],[188,21,188,23],[188,24,188,26],[188,31,188,33],[188,34,188,36],[188,37,188,39],[189,1,189,3],[189,4,189,6],[189,11,189,13],[189,14,189,16],[189,17,189,19],[189,21,189,23],[189,24,189,26],[189,31,189,33],[189,34,189,36],[189,37,189,39],[190,1,190,3],[190,4,190,6],[190,11,190,13],[190,14,190,16],[190,17,190,19],[190,21,190,23],[190,24,190,26],[190,31,190,33],[190,34,190,36],[190,37,190,39],[191,1,191,3],[191,4,191,6],[191,11,191,13],[191,14,191,16],[191,17,191,19],[191,21,191,23],[191,24,191,26],[191,31,191,33],[191,34,191,36],[191,37,191,39],[192,1,192,3],[192,4,192,6],[192,11,192,13],[192,14,192,16],[192,17,192,19],[192,21,192,23],[192,24,192,26],[192,31,192,33],[192,34,192,36],[192,37,192,39],[193,1,193,3],[193,4,193,6],[193,11,193,13],[193,14,193,16],[193,17,193,19],[193,21,193,23],[193,24,193,26],[193,31,193,33],[193,34,193,36],[193,37,193,39],[194,1,194,3],[194,4,194,6],[194,11,194,13],[194,14,194,16],[194,17,194,19],[194,21,194,23],[194,24,194,26],[194,31,194,33],[194,34,194,36],[194,37,194,39],[195,1,195,3],[195,4,195,6],[195,11,195,13],[195,14,195,16],[195,17,195,19],[195,21,195,23],[195,24,195,26],[195,31,195,33],[195,34,195,36],[195,37,195,39],[196,1,196,3],[196,4,196,6],[196,11,196,13],[196,14,196,16],[196,17,196,19],[196,21,196,23],[196,24,196,26],[196,31,196,33],[196,34,196,36],[196,37,196,39],[197,1,197,3],[197,4,197,6],[197,11,197,13],[197,14,197,16],[197,17,197,19],[197,21,197,23],[197,24,197,26],[197,31,197,33],[197,34,197,36],[197,37,197,39],[198,1,198,7],[198,8,198,10],[198,11,198,12],[198,13,198,16],[198,17,200,19],[198,21,198,27],[198,28,198,30],[198,31,198,32],[198,33,198,36],[198,37,200,39],[199,1,199,7],[199,8,199,10],[199,11,199,12],[199,13,199,16],[199,21,199,27],[199,28,199,30],[199,31,199,32],[199,33,199,36],[200,1,200,12],[200,13,200,16],[200,21,200,32],[200,33,200,36],[201,1,201,39],[202,0,202,40],[203,0,207,40],[210,0,210,40],[212,3,212,11],[212,12,212,37],[214,9,214,28],[215,9,215,25],[215,26,215,28],[216,9,216,28],[217,9,217,25],[217,26,217,28],[218,9,218,28],[219,9,219,25],[219,26,219,28],[220,9,220,25],[220,26,220,28],[221,9,221,25],[221,26,221,28],[222,9,222,25],[222,26,222,28],[223,9,223,25],[223,26,223,28],[224,9,224,25],[224,26,224,28],[225,9,225,28],[226,9,227,25],[226,26,227,28]],"merged_total":1483,"flags":["merged_cut"]}
[]
[]
[]
[]
[]
[]
[null,"CALCOLO PUNTEGGIO GRADUATORIE DI ISTITUTO - GUARDAROBIERE"]
[]
[null,"Nota 1: ",null,"In caso di periodi coincidenti (es servizi parte time) è necessario inserirne solo uno"]
[null,"Nota 2: ",null,"Nel servizio svolto inserire la data nel formato giorno/mese/anno oppure giorno-mese-anno"]
[null,"Nota 3: ",null,"Caselle ",{"$nulls":4}," inserimento valori con menu a tendina"]
[null,"Nota 4: ",null,"Caselle ",{"$nulls":4}," inserimento valori da tastiera"]
[]
[null,"Cognome e Nome"]
[]
[null,"Punteggio totale assegnato nel triennio precedente"]
[]
[null,"TITOLI  DI CULTURA DOPO L'ULTIMO AGGIORNAMENTO/INSERIMENTO"]
[null,"TITOLO DI ACCESSO",{"$nulls":18},"TITOLI  DI CULTURA CONSEGUITI  "]
[null,"(da compilare solo per variazione titolo di accesso)",{"$nulls":18},"Tipologia titoli posseduti",{"$nulls":14},"Si/No",null,"punti"]
[null,"Tipologia",{"$nulls":8},"voto / giudizio ",{"$nulls":5},"punti",{"$nulls":3},"Diploma di maturità",{"$nulls":16},{"$f":"IF(AJ21=\"SI\",3,0)","v":{"v":0,"d":"0.00"}}]
[null,"Qualifica precedentemente inserita",{"$nulls":10},"su",{"$nulls":3},{"$f":"IF(K22=0,0, K22*10/O22)","v":{"v":0,"d":"0.00"}},{"$nulls":3},"Idoneità concorsi pubblici addetto aziende agrarie",{"$nulls":16},{"$f":"IF(AJ22=\"SI\",2,0)","v":{"v":0,"d":"0.00"}}]
[{"$nulls":20},"Scegli certificazione precedentemente inserita",{"$nulls":16},{"$f":"VLOOKUP(U23,tab_gua!A4:B30,2,FALSE)","v":{"v":0,"d":"0.00"}}]
[null,"Nuova qualifica conseguita",{"$nulls":10},"su",{"$nulls":3},{"$f":"IF(K24=0,0, K24*10/O24)","v":{"v":0,"d":"0.00"}},{"$nulls":3},"Scegli nuova certificazione conseguita",{"$nulls":16},{"$f":"VLOOKUP(U24,tab_gua!A32:B57,2,FALSE)","v":{"v":0,"d":"0.00"}}]
[null,"Punteggio aggiuntivo titolo di accesso",{"$nulls":14},{"$f":"Q24-Q22","v":{"v":0,"d":"0.00"}},{"$nulls":3},"Totale titoli di cultura aggiuntivi",{"$nulls":16},{"$f":"AL21+AL22+AL24-AL23","v":{"v":0,"d":"0.00"}}]
[null,"SERVIZIO SVOLTO SUCCESSIVAMENTE ALLA DATA DEL 30/10/2017"]
[]
[null,"Servizio specifico statale (per ogni mese o frazione superiore a 15 giorni): 0,50"]
[null,"Servizio prestato in qualità di guardarobiere o di aiutante guardarobiere in:\na) scuole dell'infanzia statali, delle Regioni Sicilia e Val d'Aosta, delle province autonome di Trento e Bolzano;\nb) Scuole primarie statali;\nc) Scuole di istruzione secondaria o artistica statali, nelle istituzioni scolastiche e culturali italiane all'estero, nelle istituzioni convittuali"]
[]
[null,"Servizio svolto nell' a.s. 2017/2018",{"$nulls":19},"Servizio svolto nell' a.s. 2018/2019"]
[null,"DAL",null,null,"AL",null,null,"TOT GG",{"$nulls":3},"DAL",null,null,"AL",null,null,"TOT GG",{"$nulls":3},"DAL",null,null,"AL",null,null,"TOT GG",{"$nulls":3},"DAL",null,null,"AL",null,null,"TOT GG"]
[{"$nulls":7},{"$f":"IF(B33=0,0,DAYS360(B33,E33+1))","v":0},{"$nulls":9},{"$f":"IF(I33=0,0,DAYS360(I33,L33+1))","v":0},{"$nulls":9},{"$f":"IF(V33=0,0,DAYS360(V33,Y33+1))","v":0},{"$nulls":9},{"$f":"IF(AC33=0,0,DAYS360(AC33,AF33+1))","v":0}]
[{"$nulls":7},{"$f":"IF(B34=0,0,DAYS360(B34,E34+1))","v":0},{"$nulls":9},0,{"$nulls":9},{"$f":"IF(V34=0,0,DAYS360(V34,Y34+1))","v":0},{"$nulls":9},0]
[{"$nulls":7},0,{"$nulls":9},0,{"$nulls":9},0,{"$nulls":9},0]
[{"$nulls":7},0,{"$nulls":9},0,{"$nulls":9},0,{"$nulls":9},0]
[{"$nulls":7},0,{"$nulls":9},0,{"$nulls":9},0,{"$nulls":9},0]
[{"$nulls":7},0,{"$nulls":9},0,{"$nulls":9},0,{"$nulls":9},0]
[{"$nulls":7},0,{"$nulls":9},0,{"$nulls":9},0,{"$nulls":9},0]
[{"$nulls":7},0,{"$nulls":9},0,{"$nulls":9},0,{"$nulls":9},0]
[{"$nulls":7},0,{"$nulls":9},0,{"$nulls":9},0,{"$nulls":9},0]
[{"$nulls":7},0,{"$nulls":9},0,{"$nulls":9},0,{"$nulls":9},0]
[null,"Totale mesi 2017/2018",{"$nulls":6},{"$f":"INT(SUM(H33:H42,R33:T42,AL33:AN42)/30)","v":0},null,null,"punti",null,{"$f":"I43*0.5","v":{"v":0,"d":"0.00"}},{"$nulls":7},"Totale mesi 2018/2019",{"$nulls":6},{"$f":"INT(SUM(AB33:AB42,AL33:AN42,BF33:BH42)/30)","v":0},null,null,"punti",null,{"$f":"AC43*0.5","v":{"v":0,"d":"0.00"}}]
[null,"Totale giorni 2017/2018",{"$nulls":6},{"$f":"SUM(H33:H42,R33:T42,)-I43*30","v":0},null,null,"punti",null,{"$f":"IF(I44>15,0.5,0)","v":{"v":0,"d":"0.00"}},{"$nulls":7},"Totale giorni 2018/2019",{"$nulls":6},{"$f":"SUM(AB33:AB42,AL33:AN42,)-AC43*30","v":0},null,null,"punti",null,{"$f":"IF(AC44>15,0.5,0)","v":{"v":0,"d":"0.00"}}]
[null,"Totale titoli di servizio a.s. 2017/2018",{"$nulls":11},{"$f":"SUM(N43:O44)","v":{"v":0,"d":"0.00"}},{"$nulls":7},"Totale titoli di servizio a.s. 2018/2019",{"$nulls":11},{"$f":"SUM(AH43:AI44)","v":{"v":0,"d":"0.00"}}]
[]
[null,"Servizio svolto nell' a.s. 2019/2020",{"$nulls":19},"Servizio svolto nell' a.s. 2020/2021"]
[null,"DAL",null,null,"AL",null,null,"TOT GG",{"$nulls":3},"DAL",null,null,"AL",null,null,"TOT GG",{"$nulls":3},"DAL",null,null,"AL",null,null,"TOT GG",{"$nulls":3},"DAL",null,null,"AL",null,null,"TOT GG"]
[{"$nulls":7},{"$f":"IF(B49=0,0,DAYS360(B49,E49+1))","v":0},{"$nulls":9},{"$f":"IF(I49=0,0,DAYS360(I49,L49+1))","v":0},{"$nulls":9},{"$f":"IF(V49=0,0,DAYS360(V49,Y49+1))","v":0},{"$nulls":9},{"$f":"IF(AC49=0,0,DAYS360(AC49,AF49+1))","v":0}]
[{"$nulls":7},{"$f":"IF(B50=0,0,DAYS360(B50,E50+1))","v":0},{"$nulls":9},0,{"$nulls":9},{"$f":"IF(V50=0,0,DAYS360(V50,Y50+1))","v":0},{"$nulls":9},0]
[{"$nulls":7},0,{"$nulls":9},0,{"$nulls":9},0,{"$nulls":9},0]
[{"$nulls":7},0,{"$nulls":9},0,{"$nulls":9},0,{"$nulls":9},0]
[{"$nulls":7},0,{"$nulls":9},0,{"$nulls":9},0,{"$nulls":9},0]
[{"$nulls":7},0,{"$nulls":9},0,{"$nulls":9},0,{"$nulls":9},0]
[{"$nulls":7},0,{"$nulls":9},0,{"$nulls":9},0,{"$nulls":9},0]
[{"$nulls":7},0,{"$nulls":9},0,{"$nulls":9},0,{"$nulls":9},0]
[{"$nulls":7},0,{"$nulls":9},0,{"$nulls":9},0,{"$nulls":9},0]
[{"$nulls":7},0,{"$nulls":9},0,{"$nulls":9},0,{"$nulls":9},0]
[null,"Totale mesi 2019/2020",{"$nulls":6},{"$f":"INT(SUM(H49:H58,R49:T58,AL49:AN58)/30)","v":0},null,null,"punti",null,{"$f":"I59*0.5","v":{"v":0,"d":"0.00"}},{"$nulls":7},"Totale mesi 2020/2021",{"$nulls":6},{"$f":"INT(SUM(AB49:AB58,AL49:AN58,)/30)","v":0},null,null,"punti",null,{"$f":"AC59*0.5","v":{"v":0,"d":"0.00"}}]
[null,"Totale giorni 2019/2020",{"$nulls":6},{"$f":"SUM(H49:H58,R49:T58,)-I59*30","v":0},null,null,"punti",null,{"$f":"IF(I60>15,0.5,0)","v":{"v":0,"d":"0.00"}},{"$nulls":7},"Totale giorni 2020/2021",{"$nulls":6},{"$f":"SUM(AB49:AB58,AL49:AN58)-AC59*30","v":0},null,null,"punti",null,{"$f":"IF(AC60>15,0.5,0)","v":{"v":0,"d":"0.00"}}]
[null,"Totale titoli di servizio a.s. 2019/2020",{"$nulls":11},{"$f":"SUM(N59:O60)","v":{"v":0,"d":"0.00"}},{"$nulls":7},"Totale titoli di servizio a.s. 2020/2021",{"$nulls":11},{"$f":"SUM(AH59:AI60)","v":{"v":0,"d":"0.00"}}]
[]
[null,"Servizio non statale (per ogni mese o frazione superiore a 15 giorni): 0,25"]
[null,"Servizio prestato in qualità di guardarobiere o aiutante guardarobiere in:\na) scuole dell'infanzia non statali autorizzate;\nb) scuole primarie non statali parificate, sussidiate o sussidiarie;\nc) scuole di istruzione secondaria o artistica non statali pareggiate, legalmente riconosciute e convenzionate;\nd) scuole non statali paritarie"]
[]
[null,"Servizio svolto nell' a.s. 2017/2018",{"$nulls":19},"Servizio svolto nell' a.s. 2018/2019"]
[null,"DAL",null,null,"AL",null,null,"TOT GG",{"$nulls":3},"DAL",null,null,"AL",null,null,"TOT GG",{"$nulls":3},"DAL",null,null,"AL",null,null,"TOT GG",{"$nulls":3},"DAL",null,null,"AL",null,null,"TOT GG"]
[{"$nulls":7},{"$f":"IF(B68=0,0,DAYS360(B68,E68+1))","v":0},{"$nulls":9},{"$f":"IF(I68=0,0,DAYS360(I68,L68+1))","v":0},{"$nulls":9},{"$f":"IF(V68=0,0,DAYS360(V68,Y68+1))","v":0},{"$nulls":9},{"$f":"IF(AC68=0,0,DAYS360(AC68,AF68+1))","v":0}]
[{"$nulls":7},{"$f":"IF(B69=0,0,DAYS360(B69,E69+1))","v":0},{"$nulls":9},0,{"$nulls":9},{"$f":"IF(V69=0,0,DAYS360(V69,Y69+1))","v":0},{"$nulls":9},0]
[{"$nulls":7},0,{"$nulls":9},0,{"$nulls":9},0,{"$nulls":9},0]
[{"$nulls":7},0,{"$nulls":9},0,{"$nulls":9},0,{"$nulls":9},0]
[{"$nulls":7},0,{"$nulls":9},0,{"$nulls":9},0,{"$nulls":9},0]
[{"$nulls":7},0,{"$nulls":9},0,{"$nulls":9},0,{"$nulls":9},0]
[{"$nulls":7},0,{"$nulls":9},0,{"$nulls":9},0,{"$nulls":9},0]
[{"$nulls":7},0,{"$nulls":9},0,{"$nulls":9},0,{"$nulls":9},0]
[{"$nulls":7},0,{"$nulls":9},0,{"$nulls":9},0,{"$nulls":9},0]
[{"$nulls":7},0,{"$nulls":9},0,{"$nulls":9},0,{"$nulls":9},0]
[null,"Totale mesi 2017/2018",{"$nulls":6},{"$f":"INT(SUM(H68:H77,R68:T77,AL68:AN77)/30)","v":0},null,null,"punti",null,{"$f":"I78*0.25","v":{"v":0,"d":"0.00"}},{"$nulls":7},"Totale mesi 2018/2019",{"$nulls":6},{"$f":"INT(SUM(AB68:AB77,AL68:AN77,)/30)","v":0},null,null,"punti",null,{"$f":"AC78*0.25","v":{"v":0,"d":"0.00"}}]
[null,"Totale giorni 2017/2018",{"$nulls":6},{"$f":"SUM(H68:H77,R68:T77,)-I78*30","v":0},null,null,"punti",null,{"$f":"IF(I79>15,0.25,0)","v":{"v":0,"d":"0.00"}},{"$nulls":7},"Totale giorni 2018/2019",{"$nulls":6},{"$f":"SUM(AB68:AB77,AL68:AN77)-AC78*30","v":0},null,null,"punti",null,{"$f":"IF(AC79>15,0.25,0)","v":{"v":0,"d":"0.00"}}]
[null,"Totale titoli di servizio a.s. 2017/2018",{"$nulls":11},{"$f":"SUM(N78:O79)","v":{"v":0,"d":"0.00"}},{"$nulls":7},"Totale titoli di servizio a.s. 2018/2019",{"$nulls":11},{"$f":"SUM(AH78:AI79)","v":{"v":0,"d":"0.00"}}]
[]
[null,"Servizio svolto nell' a.s. 2019/2020",{"$nulls":19},"Servizio svolto nell' a.s. 2020/2021"]
[null,"DAL",null,null,"AL",null,null,"TOT GG",{"$nulls":3},"DAL",null,null,"AL",null,null,"TOT GG",{"$nulls":3},"DAL",null,null,"AL",null,null,"TOT GG",{"$nulls":3},"DAL",null,null,"AL",null,null,"TOT GG"]
[{"$nulls":7},{"$f":"IF(B84=0,0,DAYS360(B84,E84+1))","v":0},{"$nulls":9},{"$f":"IF(I84=0,0,DAYS360(I84,L84+1))","v":0},{"$nulls":9},{"$f":"IF(V84=0,0,DAYS360(V84,Y84+1))","v":0},{"$nulls":9},{"$f":"IF(AC84=0,0,DAYS360(AC84,AF84+1))","v":0}]
[{"$nulls":7},{"$f":"IF(B85=0,0,DAYS360(B85,E85+1))","v":0},{"$nulls":9},0,{"$nulls":9},{"$f":"IF(V85=0,0,DAYS360(V85,Y85+1))","v":0},{"$nulls":9},0]
[{"$nulls":7},0,{"$nulls":9},0,{"$nulls":9},0,{"$nulls":9},0]
[{"$nulls":7},0,{"$nulls":9},0,{"$nulls":9},0,{"$nulls":9},0]
[{"$nulls":7},0,{"$nulls":9},0,{"$nulls":9},0,{"$nulls":9},0]
[{"$nulls":7},0,{"$nulls":9},0,{"$nulls":9},0,{"$nulls":9},0]
[{"$nulls":7},0,{"$nulls":9},0,{"$nulls":9},0,{"$nulls":9},0]
[{"$nulls":7},0,{"$nulls":9},0,{"$nulls":9},0,{"$nulls":9},0]
[{"$nulls":7},0,{"$nulls":9},0,{"$nulls":9},0,{"$nulls":9},0]
[{"$nulls":7},0,{"$nulls":9},0,{"$nulls":9},0,{"$nulls":9},0]
[null,"Totale mesi 2019/2020",{"$nulls":6},{"$f":"INT(SUM(H84:H93,R84:T93,)/30)","v":0},null,null,"punti",null,{"$f":"I94*0.25","v":{"v":0,"d":"0.00"}},{"$nulls":7},"Totale mesi 2020/2021",{"$nulls":6},{"$f":"INT(SUM(AB84:AB93,AL84:AN93,)/30)","v":0},null,null,"punti",null,{"$f":"AC94*0.25","v":{"v":0,"d":"0.00"}}]
[null,"Totale giorni 2019/2020",{"$nulls":6},{"$f":"SUM(H84:H93,R84:T93)-I94*30","v":0},null,null,"punti",null,{"$f":"IF(I95>15,0.25,0)","v":{"v":0,"d":"0.00"}},{"$nulls":7},"Totale giorni 2020/2021",{"$nulls":6},{"$f":"SUM(AB84:AB93,AL84:AN93)-AC94*30","v":0},null,null,"punti",null,{"$f":"IF(AC95>15,0.25,0)","v":{"v":0,"d":"0.00"}}]
[null,"Totale titoli di servizio a.s. 2019/2020",{"$nulls":11},{"$f":"SUM(N94:O95)","v":{"v":0,"d":"0.00"}},{"$nulls":7},"Totale titoli di servizio a.s. 2020/2021",{"$nulls":11},{"$f":"SUM(AH94:AI95)","v":{"v":0,"d":"0.00"}}]
[]
[null,"Altro servizio statale (per ogni mese o frazione superiore a 15 giorni): 0,15"]
[null,"Altro servizio prestato nelle scuole:\na) dell'infanzia statali, delle Regioni Sicilia e Val d'Aosta, delle province autonome di Trento e Bolzano;\nb) primarie statali;\nc) di istruzione secondaria o artistica statali;\nd) nelle istituzioni scolastiche e culturali italiane all'estero, nelle istituzioni convittuali;\ne) nei convitti annessi agli istituti tecnici e professionali, nei convitti nazionali e negli educandati femminili dello Stato, ivi compreso il servizio di insegnamento effettuato nei corsi C.R.A.C.I.S., servizio prestato come modello vivente"]
[]
[null,"Servizio svolto nell' a.s. 2017/2018",{"$nulls":19},"Servizio svolto nell' a.s. 2018/2019"]
[null,"DAL",null,null,"AL",null,null,"TOT GG",{"$nulls":3},"DAL",null,null,"AL",null,null,"TOT GG",{"$nulls":3},"DAL",null,null,"AL",null,null,"TOT GG",{"$nulls":3},"DAL",null,null,"AL",null,null,"TOT GG"]
[{"$nulls":7},{"$f":"IF(B103=0,0,DAYS360(B103,E103+1))","v":0},{"$nulls":9},{"$f":"IF(I103=0,0,DAYS360(I103,L103+1))","v":0},{"$nulls":9},{"$f":"IF(V103=0,0,DAYS360(V103,Y103+1))","v":0},{"$nulls":9},{"$f":"IF(AC103=0,0,DAYS360(AC103,AF103+1))","v":0}]
[{"$nulls":7},{"$f":"IF(B104=0,0,DAYS360(B104,E104+1))","v":0},{"$nulls":9},0,{"$nulls":9},{"$f":"IF(V104=0,0,DAYS360(V104,Y104+1))","v":0},{"$nulls":9},0]
[{"$nulls":7},0,{"$nulls":9},0,{"$nulls":9},0,{"$nulls":9},0]
[{"$nulls":7},0,{"$nulls":9},0,{"$nulls":9},0,{"$nulls":9},0]
[{"$nulls":7},0,{"$nulls":9},0,{"$nulls":9},0,{"$nulls":9},0]
[{"$nulls":7},0,{"$nulls":9},0,{"$nulls":9},0,{"$nulls":9},0]
[{"$nulls":7},0,{"$nulls":9},0,{"$nulls":9},0,{"$nulls":9},0]
[{"$nulls":7},0,{"$nulls":9},0,{"$nulls":9},0,{"$nulls":9},0]
[{"$nulls":7},0,{"$nulls":9},0,{"$nulls":9},0,{"$nulls":9},0]
[{"$nulls":7},0,{"$nulls":9},0,{"$nulls":9},0,{"$nulls":9},0]
[null,"Totale mesi 2017/2018",{"$nulls":6},{"$f":"INT(SUM(H103:H112,R103:T112,AL103:AN112)/30)","v":0},null,null,"punti",null,{"$f":"I113*0.15","v":{"v":0,"d":"0.00"}},{"$nulls":7},"Totale mesi 2018/2019",{"$nulls":6},{"$f":"INT(SUM(AB103:AB112,AL103:AN112,)/30)","v":0},null,null,"punti",null,{"$f":"AC113*0.15","v":{"v":0,"d":"0.00"}}]
[null,"Totale giorni 2017/2018",{"$nulls":6},{"$f":"SUM(H103:H112,R103:T112,)-I113*30","v":0},null,null,"punti",null,{"$f":"IF(I114>15,0.15,0)","v":{"v":0,"d":"0.00"}},{"$nulls":7},"Totale giorni 2018/2019",{"$nulls":6},{"$f":"SUM(AB103:AB112,AL103:AN112)-AC113*30","v":0},null,null,"punti",null,{"$f":"IF(AC114>15,0.15,0)","v":{"v":0,"d":"0.00"}}]
[null,"Totale titoli di servizio a.s. 2017/2018",{"$nulls":11},{"$f":"SUM(N113:O114)","v":{"v":0,"d":"0.00"}},{"$nulls":7},"Totale titoli di servizio a.s. 2018/2019",{"$nulls":11},{"$f":"SUM(AH113:AI114)","v":{"v":0,"d":"0.00"}}]
[]
[null,"Servizio svolto nell' a.s. 2019/2020",{"$nulls":19},"Servizio svolto nell' a.s. 2020/2021"]
[null,"DAL",null,null,"AL",null,null,"TOT GG",{"$nulls":3},"DAL",null,null,"AL",null,null,"TOT GG",{"$nulls":3},"DAL",null,null,"AL",null,null,"TOT GG",{"$nulls":3},"DAL",null,null,"AL",null,null,"TOT GG"]
[{"$nulls":7},{"$f":"IF(B119=0,0,DAYS360(B119,E119+1))","v":0},{"$nulls":9},{"$f":"IF(I119=0,0,DAYS360(I119,L119+1))","v":0},{"$nulls":9},{"$f":"IF(V119=0,0,DAYS360(V119,Y119+1))","v":0},{"$nulls":9},{"$f":"IF(AC119=0,0,DAYS360(AC119,AF119+1))","v":0}]
[{"$nulls":7},{"$f":"IF(B120=0,0,DAYS360(B120,E120+1))","v":0},{"$nulls":9},0,{"$nulls":9},{"$f":"IF(V120=0,0,DAYS360(V120,Y120+1))","v":0},{"$nulls":9},0]
[{"$nulls":7},0,{"$nulls":9},0,{"$nulls":9},0,{"$nulls":9},0]
[{"$nulls":7},0,{"$nulls":9},0,{"$nulls":9},0,{"$nulls":9},0]
[{"$nulls":7},0,{"$nulls":9},0,{"$nulls":9},0,{"$nulls":9},0]
[{"$nulls":7},0,{"$nulls":9},0,{"$nulls":9},0,{"$nulls":9},0]
[{"$nulls":7},0,{"$nulls":9},0,{"$nulls":9},0,{"$nulls":9},0]
[{"$nulls":7},0,{"$nulls":9},0,{"$nulls":9},0,{"$nulls":9},0]
[{"$nulls":7},0,{"$nulls":9},0,{"$nulls":9},0,{"$nulls":9},0]
[{"$nulls":7},0,{"$nulls":9},0,{"$nulls":9},0,{"$nulls":9},0]
[null,"Totale mesi 2019/2020",{"$nulls":6},{"$f":"INT(SUM(H119:H128,R119:T128,)/30)","v":0},null,null,"punti",null,{"$f":"I129*0.15","v":{"v":0,"d":"0.00"}},{"$nulls":7},"Totale mesi 2020/2021",{"$nulls":6},{"$f":"INT(SUM(AB119:AB128,AL119:AN128,)/30)","v":0},null,null,"punti",null,{"$f":"AC129*0.15","v":{"v":0,"d":"0.00"}}]
[null,"Totale giorni 2019/2020",{"$nulls":6},{"$f":"SUM(H119:H128,R119:T128)-I129*30","v":0},null,null,"punti",null,{"$f":"IF(I130>15,0.15,0)","v":{"v":0,"d":"0.00"}},{"$nulls":7},"Totale giorni 2020/2021",{"$nulls":6},{"$f":"SUM(AB119:AB128,AL119:AN128)-AC129*30","v":0},null,null,"punti",null,{"$f":"IF(AC130>15,0.15,0)","v":{"v":0,"d":"0.00"}}]
[null,"Totale titoli di servizio a.s. 2019/2020",{"$nulls":11},{"$f":"SUM(N129:O130)","v":{"v":0,"d":"0.00"}},{"$nulls":7},"Totale titoli di servizio a.s. 2020/2021",{"$nulls":11},{"$f":"SUM(AH129:AI130)","v":{"v":0,"d":"0.00"}}]
[]
[null,"Altro servizio non statale (per ogni mese o frazione superiore a 15 giorni): 0,075"]
[null,"Altro servizio prestato in:\na) scuole dell'infanzia non statali autorizzate;\nb) scuole primarie non statali parificate, sussidiate o sussidiarie;\nc) scuole di istruzione secondaria o artistica non statali pareggiate, legalmente riconosciute e convenzionate;\nd) scuole non statali paritarie"]
[]
[null,"Servizio svolto nell' a.s. 2017/2018",{"$nulls":19},"Servizio svolto nell' a.s. 2018/2019"]
[null,"DAL",null,null,"AL",null,null,"TOT GG",{"$nulls":3},"DAL",null,null,"AL",null,null,"TOT GG",{"$nulls":3},"DAL",null,null,"AL",null,null,"TOT GG",{"$nulls":3},"DAL",null,null,"AL",null,null,"TOT GG"]
[{"$nulls":7},{"$f":"IF(B138=0,0,DAYS360(B138,E138+1))","v":0},{"$nulls":9},{"$f":"IF(I138=0,0,DAYS360(I138,L138+1))","v":0},{"$nulls":9},{"$f":"IF(V138=0,0,DAYS360(V138,Y138+1))","v":0},{"$nulls":9},{"$f":"IF(AC138=0,0,DAYS360(AC138,AF138+1))","v":0}]
[{"$nulls":7},{"$f":"IF(B139=0,0,DAYS360(B139,E139+1))","v":0},{"$nulls":9},0,{"$nulls":9},{"$f":"IF(V139=0,0,DAYS360(V139,Y139+1))","v":0},{"$nulls":9},0]
[{"$nulls":7},0,{"$nulls":9},0,{"$nulls":9},0,{"$nulls":9},0]
[{"$nulls":7},0,{"$nulls":9},0,{"$nulls":9},0,{"$nulls":9},0]
[{"$nulls":7},0,{"$nulls":9},0,{"$nulls":9},0,{"$nulls":9},0]
[{"$nulls":7},0,{"$nulls":9},0,{"$nulls":9},0,{"$nulls":9},0]
[{"$nulls":7},0,{"$nulls":9},0,{"$nulls":9},0,{"$nulls":9},0]
[{"$nulls":7},0,{"$nulls":9},0,{"$nulls":9},0,{"$nulls":9},0]
[{"$nulls":7},0,{"$nulls":9},0,{"$nulls":9},0,{"$nulls":9},0]
[{"$nulls":7},0,{"$nulls":9},0,{"$nulls":9},0,{"$nulls":9},0]
[null,"Totale mesi 2017/2018",{"$nulls":6},{"$f":"INT(SUM(H138:H147,R138:T147,AL138:AN147)/30)","v":0},null,null,"punti",null,{"$f":"I148*0.075","v":{"v":0,"d":"0.000"}},{"$nulls":7},"Totale mesi 2018/2019",{"$nulls":6},{"$f":"INT(SUM(AB138:AB147,AL138:AN147,)/30)","v":0},null,null,"punti",null,{"$f":"AC148*0.075","v":{"v":0,"d":"0.000"}}]
[null,"Totale giorni 2017/2018",{"$nulls":6},{"$f":"SUM(H138:H147,R138:T147,)-I148*30","v":0},null,null,"punti",null,{"$f":"IF(I149>15,0.075,0)","v":{"v":0,"d":"0.000"}},{"$nulls":7},"Totale giorni 2018/2019",{"$nulls":6},{"$f":"SUM(AB138:AB147,AL138:AN147)-AC148*30","v":0},null,null,"punti",null,{"$f":"IF(AC149>15,0.075,0)","v":{"v":0,"d":"0.000"}}]
[null,"Totale titoli di servizio a.s. 2017/2018",{"$nulls":11},{"$f":"SUM(N148:O149)","v":{"v":0,"d":"0.000"}},{"$nulls":7},"Totale titoli di servizio a.s. 2018/2019",{"$nulls":11},{"$f":"SUM(AH148:AI149)","v":{"v":0,"d":"0.000"}}]
[]
[null,"Servizio svolto nell' a.s. 2019/2020",{"$nulls":19},"Servizio svolto nell' a.s. 2020/2021"]
[null,"DAL",null,null,"AL",null,null,"TOT GG",{"$nulls":3},"DAL",null,null,"AL",null,null,"TOT GG",{"$nulls":3},"DAL",null,null,"AL",null,null,"TOT GG",{"$nulls":3},"DAL",null,null,"AL",null,null,"TOT GG"]
[{"$nulls":7},{"$f":"IF(B154=0,0,DAYS360(B154,E154+1))","v":0},{"$nulls":9},{"$f":"IF(I154=0,0,DAYS360(I154,L154+1))","v":0},{"$nulls":9},{"$f":"IF(V154=0,0,DAYS360(V154,Y154+1))","v":0},{"$nulls":9},{"$f":"IF(AC154=0,0,DAYS360(AC154,AF154+1))","v":0}]
[{"$nulls":7},{"$f":"IF(B155=0,0,DAYS360(B155,E155+1))","v":0},{"$nulls":9},0,{"$nulls":9},{"$f":"IF(V155=0,0,DAYS360(V155,Y155+1))","v":0},{"$nulls":9},0]
[{"$nulls":7},0,{"$nulls":9},0,{"$nulls":9},0,{"$nulls":9},0]
[{"$nulls":7},0,{"$nulls":9},0,{"$nulls":9},0,{"$nulls":9},0]
[{"$nulls":7},0,{"$nulls":9},0,{"$nulls":9},0,{"$nulls":9},0]
[{"$nulls":7},0,{"$nulls":9},0,{"$nulls":9},0,{"$nulls":9},0]
[{"$nulls":7},0,{"$nulls":9},0,{"$nulls":9},0,{"$nulls":9},0]
[{"$nulls":7},0,{"$nulls":9},0,{"$nulls":9},0,{"$nulls":9},0]
[{"$nulls":7},0,{"$nulls":9},0,{"$nulls":9},0,{"$nulls":9},0]
[{"$nulls":7},0,{"$nulls":9},0,{"$nulls":9},0,{"$nulls":9},0]
[null,"Totale mesi 2019/2020",{"$nulls":6},{"$f":"INT(SUM(H154:H163,R154:T163,)/30)","v":0},null,null,"punti",null,{"$f":"I164*0.075","v":{"v":0,"d":"0.000"}},{"$nulls":7},"Totale mesi 2020/2021",{"$nulls":6},{"$f":"INT(SUM(AB154:AB163,AL154:AN163,)/30)","v":0},null,null,"punti",null,{"$f":"AC164*0.075","v":{"v":0,"d":"0.000"}}]
[null,"Totale giorni 2019/2020",{"$nulls":6},{"$f":"SUM(H154:H163,R154:T163)-I164*30","v":0},null,null,"punti",null,{"$f":"IF(I165>15,0.075,0)","v":{"v":0,"d":"0.000"}},{"$nulls":7},"Totale giorni 2020/2021",{"$nulls":6},{"$f":"SUM(AB154:AB163,AL154:AN163)-AC164*30","v":0},null,null,"punti",null,{"$f":"IF(AC165>15,0.075,0)","v":{"v":0,"d":"0.000"}}]
[null,"Totale titoli di servizio a.s. 2019/2020",{"$nulls":11},{"$f":"SUM(N164:O165)","v":{"v":0,"d":"0.000"}},{"$nulls":7},"Totale titoli di servizio a.s. 2020/2021",{"$nulls":11},{"$f":"SUM(AH164:AI165)","v":{"v":0,"d":"0.000"}}]
[]
[null,"Servizio altre amministrazioni (per ogni mese o frazione superiore a 15 giorni): 0,05"]
[null,"Servizio prestato alle dirette dipendenze di amministrazioni statali, Enti locali, nei patronati scolastici o nei consorzi provinciali per l'istruzione tecnica"]
[]
[null,"Servizio svolto nell' a.s. 2017/2018",{"$nulls":19},"Servizio svolto nell' a.s. 2017/2018"]
[null,"DAL",null,null,"AL",null,null,"TOT GG",{"$nulls":3},"DAL",null,null,"AL",null,null,"TOT GG",{"$nulls":3},"DAL",null,null,"AL",null,null,"TOT GG",{"$nulls":3},"DAL",null,null,"AL",null,null,"TOT GG"]
[{"$nulls":7},{"$f":"IF(B173=0,0,DAYS360(B173,E173+1))","v":0},{"$nulls":9},{"$f":"IF(I173=0,0,DAYS360(I173,L173+1))","v":0},{"$nulls":9},{"$f":"IF(V173=0,0,DAYS360(V173,Y173+1))","v":0},{"$nulls":9},{"$f":"IF(AC173=0,0,DAYS360(AC173,AF173+1))","v":0}]
[{"$nulls":7},{"$f":"IF(B174=0,0,DAYS360(B174,E174+1))","v":0},{"$nulls":9},0,{"$nulls":9},{"$f":"IF(V174=0,0,DAYS360(V174,Y174+1))","v":0},{"$nulls":9},0]
[{"$nulls":7},0,{"$nulls":9},0,{"$nulls":9},0,{"$nulls":9},0]
[{"$nulls":7},0,{"$nulls":9},0,{"$nulls":9},0,{"$nulls":9},0]
[{"$nulls":7},0,{"$nulls":9},0,{"$nulls":9},0,{"$nulls":9},0]
[{"$nulls":7},0,{"$nulls":9},0,{"$nulls":9},0,{"$nulls":9},0]
[{"$nulls":7},0,{"$nulls":9},0,{"$nulls":9},0,{"$nulls":9},0]
[{"$nulls":7},0,{"$nulls":9},0,{"$nulls":9},0,{"$nulls":9},0]
[{"$nulls":7},0,{"$nulls":9},0,{"$nulls":9},0,{"$nulls":9},0]
[{"$nulls":7},0,{"$nulls":9},0,{"$nulls":9},0,{"$nulls":9},0]
[null,"Totale mesi 2017/2018",{"$nulls":6},{"$f":"INT(SUM(H173:H182,R173:T182,AL173:AN182)/30)","v":0},null,null,"punti",null,{"$f":"I183*0.05","v":{"v":0,"d":"0.00"}},{"$nulls":7},"Totale mesi 2018/2019",{"$nulls":6},{"$f":"INT(SUM(AB173:AB182,AL173:AN182,)/30)","v":0},null,null,"punti",null,{"$f":"AC183*0.05","v":{"v":0,"d":"0.00"}}]
[null,"Totale giorni 2017/2018",{"$nulls":6},{"$f":"SUM(H173:H182,R173:T182,)-I183*30","v":0},null,null,"punti",null,{"$f":"IF(I184>15,0.05,0)","v":{"v":0,"d":"0.00"}},{"$nulls":7},"Totale giorni 2018/2019",{"$nulls":6},{"$f":"SUM(AB173:AB182,AL173:AN182)-AC183*30","v":0},null,null,"punti",null,{"$f":"IF(AC184>15,0.05,0)","v":{"v":0,"d":"0.00"}}]
[null,"Totale titoli di servizio a.s. 2017/2018",{"$nulls":11},{"$f":"SUM(N183:O184)","v":{"v":0,"d":"0.00"}},{"$nulls":7},"Totale titoli di servizio a.s. 2018/2019",{"$nulls":11},{"$f":"SUM(AH183:AI184)","v":{"v":0,"d":"0.00"}}]
[]
[null,"Servizio svolto nell' a.s. 2019/2020",{"$nulls":19},"Servizio svolto nell' a.s. 2020/2021"]
[null,"DAL",null,null,"AL",null,null,"TOT GG",{"$nulls":3},"DAL",null,null,"AL",null,null,"TOT GG",{"$nulls":3},"DAL",null,null,"AL",null,null,"TOT GG",{"$nulls":3},"DAL",null,null,"AL",null,null,"TOT GG"]
[{"$nulls":7},{"$f":"IF(B189=0,0,DAYS360(B189,E189+1))","v":0},{"$nulls":9},{"$f":"IF(I189=0,0,DAYS360(I189,L189+1))","v":0},{"$nulls":9},{"$f":"IF(V189=0,0,DAYS360(V189,Y189+1))","v":0},{"$nulls":9},{"$f":"IF(AC189=0,0,DAYS360(AC189,AF189+1))","v":0}]
[{"$nulls":7},{"$f":"IF(B190=0,0,DAYS360(B190,E190+1))","v":0},{"$nulls":9},0,{"$nulls":9},{"$f":"IF(V190=0,0,DAYS360(V190,Y190+1))","v":0},{"$nulls":9},0]
[{"$nulls":7},0,{"$nulls":9},0,{"$nulls":9},0,{"$nulls":9},0]
[{"$nulls":7},0,{"$nulls":9},0,{"$nulls":9},0,{"$nulls":9},0]
[{"$nulls":7},0,{"$nulls":9},0,{"$nulls":9},0,{"$nulls":9},0]
[{"$nulls":7},0,{"$nulls":9},0,{"$nulls":9},0,{"$nulls":9},0]
[{"$nulls":7},0,{"$nulls":9},0,{"$nulls":9},0,{"$nulls":9},0]
[{"$nulls":7},0,{"$nulls":9},0,{"$nulls":9},0,{"$nulls":9},0]
[{"$nulls":7},0,{"$nulls":9},0,{"$nulls":9},0,{"$nulls":9},0]
[{"$nulls":7},0,{"$nulls":9},0,{"$nulls":9},0,{"$nulls":9},0]
[null,"Totale mesi 2019/2020",{"$nulls":6},{"$f":"INT(SUM(H189:H198,R189:T198,)/30)","v":0},null,null,"punti",null,{"$f":"I199*0.05","v":{"v":0,"d":"0.00"}},{"$nulls":7},"Totale mesi 2020/2021",{"$nulls":6},{"$f":"INT(SUM(AB189:AB198,AL189:AN198,)/30)","v":0},null,null,"punti",null,{"$f":"AC199*0.05","v":{"v":0,"d":"0.00"}}]
[null,"Totale giorni 2019/2020",{"$nulls":6},{"$f":"SUM(H189:H198,R189:T198)-I199*30","v":0},null,null,"punti",null,{"$f":"IF(I200>15,0.05,0)","v":{"v":0,"d":"0.00"}},{"$nulls":7},"Totale giorni 2020/2021",{"$nulls":6},{"$f":"SUM(AB189:AB198,AL189:AN198)-AC199*30","v":0},null,null,"punti",null,{"$f":"IF(AC200>15,0.05,0)","v":{"v":0,"d":"0.00"}}]
[null,"Totale titoli di servizio a.s. 2019/2020",{"$nulls":11},{"$f":"SUM(N199:O200)","v":{"v":0,"d":"0.00"}},{"$nulls":7},"Totale titoli di servizio a.s. 2020/2021",{"$nulls":11},{"$f":"SUM(AH199:AI200)","v":{"v":0,"d":"0.00"}}]
{"$rows_empty":9}
["CALCOLO PUNTEGGIO GRADUATORIE DI ISTITUTO - GUARDAROBIERE"]
[]
[{"$nulls":3},"Cognome e Nome",{"$nulls":8},{"$f":"L14","v":0}]
[]
[{"$nulls":9},"RIEPILOGO"]
[{"$nulls":9},"Punteggio triennio precedente",{"$nulls":16},{"$f":"Z16","v":{"v":0,"d":"0.000"}}]
[]
[{"$nulls":9},"Totale titoli culturali aggiuntivi",{"$nulls":16},{"$f":"AL25","v":{"v":0,"d":"0.000"}}]
[]
[{"$nulls":9},"Totale titoli di servizio specifico statale",{"$nulls":16},{"$f":"SUM(N45,AH45,N61,AH61)","v":{"v":0,"d":"0.000"}}]
[{"$nulls":9},"Totale titoli di servizio non statale",{"$nulls":16},{"$f":"SUM(N80,AH80,N96,AH96)","v":{"v":0,"d":"0.000"}}]
[{"$nulls":9},"Totale titoli di altro servizio statale",{"$nulls":16},{"$f":"SUM(N115,AH115,N131,AH131)","v":{"v":0,"d":"0.000"}}]
[{"$nulls":9},"Totale titoli di altro servizio non statale",{"$nulls":16},{"$f":"SUM(N150,AH150,N166,AH166)","v":{"v":0,"d":"0.000"}}]
[{"$nulls":9},"Totale titoli di servizio altre amministrazioni",{"$nulls":16},{"$f":"SUM(N185,AH185,N201,AH201)","v":{"v":0,"d":"0.000"}}]
[{"$nulls":9},"Totale titoli di servizio ",{"$nulls":16},{"$f":"SUM(AA220:AC224)","v":{"v":0,"d":"0.000"}}]
[]
[{"$nulls":9},"TOTALE generale",{"$nulls":16},{"$f":"SUM(AA216,AA218,AA225,)","v":{"v":0,"d":"0.000"}}]
[]
[]
[{"$nulls":35},"©","Francesco Gioffreda"]

{"sheet":"tab_gua","index":11,"n_rows":57,"n_cols":2,"rows_kept":57,"hidden":true}
["SI"]
["NO"]
[]
["Scegli certificazione precedentemente inserita",{"v":0,"d":"0.00"}]
["Nessuna",{"v":0,"d":"0.00"}]
["ECDL Core",0.25]
["ECDL Advanced",0.28]
["ECDL Specialised",{"v":0.3,"d":"0.30"}]
["NUOVA ECDL Base",0.25]
["NUOVA ECDL Advanced",0.28]
["NUOVA ECDL Specialised",{"v":0.3,"d":"0.30"}]
["NUOVA ECDL Professional",{"v":0.3,"d":"0.30"}]
["MICROSOFT MCAD o equivalente",0.25]
["MICROSOFT MCSD o equivalente",0.28]
["MICROSOFT MCDBA o equivalente",{"v":0.3,"d":"0.30"}]
["EUCIP",{"v":0.3,"d":"0.30"}]
["IC3",{"v":0.3,"d":"0.30"}]
["MOUS (Microsoft Office User Specialist)",{"v":0.3,"d":"0.30"}]
["CISCO (Cisco System)",{"v":0.3,"d":"0.30"}]
["PEKIT",{"v":0.3,"d":"0.30"}]
["EIPASS",{"v":0.3,"d":"0.30"}]
["EIRSAF Full",{"v":0.3,"d":"0.30"}]
["EIRSAF Four",0.25]
["EIRSAF Green",0.25]
["IIQ 7 Moduli",0.25]
["IIQ 7 Moduli + 1 Skill Base",0.28]
["IIQ 4 Moduli Advanced Level",{"v":0.3,"d":"0.30"}]
["IDCert Digital Competence",0.25]
["IDCert Digital Competence Advanced",0.28]
["IDCert Digital Competence Specialized",{"v":0.3,"d":"0.30"}]
[]
["Scegli nuova certificazione conseguita",{"v":0,"d":"0.00"}]
["ECDL Core",0.25]
["ECDL Advanced",0.28]
["ECDL Specialised",{"v":0.3,"d":"0.30"}]
["NUOVA ECDL Base",0.25]
["NUOVA ECDL Advanced",0.28]
["NUOVA ECDL Specialised",{"v":0.3,"d":"0.30"}]
["NUOVA ECDL Professional",{"v":0.3,"d":"0.30"}]
["MICROSOFT MCAD o equivalente",0.25]
["MICROSOFT MCSD o equivalente",0.28]
["MICROSOFT MCDBA o equivalente",{"v":0.3,"d":"0.30"}]
["EUCIP",{"v":0.3,"d":"0.30"}]
["IC3",{"v":0.3,"d":"0.30"}]
["MOUS (Microsoft Office User Specialist)",{"v":0.3,"d":"0.30"}]
["CISCO (Cisco System)",{"v":0.3,"d":"0.30"}]
["PEKIT",{"v":0.3,"d":"0.30"}]
["EIPASS",{"v":0.3,"d":"0.30"}]
["EIRSAF Full",{"v":0.3,"d":"0.30"}]
["EIRSAF Four",0.25]
["EIRSAF Green",0.25]
["IIQ 7 Moduli",0.25]
["IIQ 7 Moduli + 1 Skill Base",0.28]
["IIQ 4 Moduli Advanced Level",{"v":0.3,"d":"0.30"}]
["IDCert Digital Competence",0.25]
["IDCert Digital Competence Advanced",0.28]
["IDCert Digital Competence Specialized",{"v":0.3,"d":"0.30"}]